Workbook

Sheet Handleiding-Manuel
A2: Handleiding - ruwe data /Manuel Données Brutes
A4: In volgende tabbladen worden alle tabellen van de arbeidsmarktanalyse in lijstvorm opgenomen. Op deze manier kan u eenvoudig alle gegevens zelf indelen volgens eigen behoeften
A5: Dans les feuilles suivantes, tous les tableaux de l'analyse du marché du travail sont repris sous forme de listes. Ceci vous permet de présenter aisément les données selon vos propres besoins
B7: Dimensies | C7: Dimensions
A8: Data_tab1 | B8: Leeftijdsklasse en geslacht | C8: Classe d'âge et sexe
A9: Data_tab2 | B9: Activiteit van de werkgever Nace 2025 | C9: Activité de l'employeur Nace 2025
A10: Data_tab3 | B10: Sector, entiteit overheidssector en statuut | C10: Secteur, entité secteur public, statut
A11: Data_tab4 | B11: Hoofdverblijfplaats van de werknemer | C11: Résidence principale du travailleur
A12: Data_tab5 | B12: Prestatietype en arbeidsduur | C12: Type de prestation et durée de travail
A13: Data_tab6 | B13: Sector en dimensie (grootteklasse) van de werkgever | C13: Secteur et dimension(taille) de l'employeur
A14: Data_tab7 | B14: Sectorgroep (paritair comite) van de werknemer | C14: Groupe sectoriel (commission paritaire) du travailleur
A15: Data_tab8 | B15: (Klassieke) Uitzendarbeid naar activiteit van de gebruiker | C15: Travail intérimaire (classique) par activté de l'utilisateur
A16: Data_tab9 | B16: (Bijzondere) Uitzendarbeid naar activiteit van de gebruiker | C16: Travail intérimaire (particulier) par activté de l'utilisateur
A18: Opmerking: De gegevens van het meest recente kwartaal zijn ramingen en worden daarom als afgeronde cijfers opgenomen in de ruwe data. Bij de volgende publicatie worden deze gegevens geactualiseerd.
A19: Remarque: Les données du trimestre le plus récent sont des estimations et sont dès lors reprises comme des chiffres arrondis dans les données brutes. Elles seront actualisées lors de la publication prochaine.
A21: Overzicht gegevens - Résumé des données
A22: Tevens kan u de samenvatting van de meest recente evolutie terugvinden zoals voorheen in de publicaties gepresenteerd
A23: Vous pouvez également retrouver un résumé des évolutions les plus récentes présentées comme avant dans les publications
A25: Opmerking 1: In 2025 werd de NACE-nomenclatuur 2008 ingeruild voor de NACE-nomenclatuur 2025. Een heel aantal NACE-codes bleven overanderd, maar dat geldt zeker niet voor alle codes. In dit tabblad - en ook in de volgende tabbladen met een vermelding van NACE 25 - brengen we dan ook de verdeling van de gegevens naar NACE- sectie volgens de NACE 25 nomenclatuur. Voor 2025 is dat vanzelfsprekend, maar ook voor de gegevens uit 2024 geven we hier de verdeling volgens NACE 25. We creëren als het ware een fictieve situatie waarin de nieuwe NACE-nomenclatuur 2025 al van kracht was in 2024. Dat is noodzakelijk om de gegevens uit 2025 te vergelijken met hun tegenhanger uit 2024. Deze retropolatie beperkt zich tot de 4 kwartalen van 2024. Voor de voorgaande kwartalen voorzien we enkel een verdeling naar de destijds van toepassing zijnde NACE-nomenclatuur 2008. Remarque 1: En 2025, la nomenclature NACE 2008 a été remplacée par la nomenclature NACE 2025. Un certain nombre de codes NACE sont demeurés inchangés, mais cette stabilité ne s’applique pas à l’ensemble des codes. Dès lors, le présent onglet - et aussi les onglets suivants avec une mention du NACE 25 - présente la répartition des données par section NACE selon la nomenclature NACE 2025. Pour l’année 2025, cette approche s’impose naturellement ; toutefois, pour les données relatives à l’année 2024, la répartition est également fournie sur la base de la nomenclature NACE 2025. Il s’agit ainsi de créer une situation fictive dans laquelle la nouvelle nomenclature NACE 2025 aurait déjà été d’application en 2024. Cette démarche est indispensable afin de permettre une comparaison cohérente entre les données de 2025 et celles de 2024. Pour les trimestres précédents, nous ne prévoyons qu’une répartition selon la nomenclature NACE 2008 alors en vigueur.
A27: Opmerking 2: De Kruispuntbank Sociale Zekerheid (KSZ) kende vanaf 2018 tot eind 2024 problemen met het up to date houden van de woonplaatsgegevens en dat had ook gevolgen voor onze statistieken. De onnauwkeurigheden werden ondertussen gecorrigeerd voor wat betreft de data uit 2023 en 2024. De onderstaande tabel is voor wat betreft de vier kwartalen van 2023 en 2024 dan ook gebaseerd op de gecorrigeerde woonplaatsgegevens waardoor de cijfers kunnen afwijken van eerder gepubliceerde verdelingen naar woonplaats. U vindt hieronder zowel de gecorrigeerde gegevens als de gegevens die we in het verleden publiceerden op basis van afwijkende KSZ-data. De gegevens van de voorgaande jaren zullen worden gecorrigeerd van zodra we over de gecorrigeerde gegevens beschikken. De indeling van de provincies is zoals die vanaf 2025 gelden: de vroegere gemeente Zwijndrecht is dus overal opgenomen in de provincie Oost-Vlaanderen Remarque 2 : La Banque-carrefour de la Sécurité sociale (BCSS) a rencontré, de 2018 à fin 2024, des difficultés pour maintenir à jour les données relatives au lieu de résidence, ce qui a également eu des répercussions sur nos statistiques. Les inexactitudes ont entre-temps été corrigées pour ce qui concerne les données de 2023 et 2024. Le tableau ci-dessous, pour les quatre trimestres de 2023 et 2024, est donc basé sur les données corrigées relatives au lieu de résidence, ce qui peut entraîner des écarts par rapport aux répartitions publiées précédemment selon le lieu de résidence. Vous trouverez ci-dessous à la fois les données corrigées et les données que nous avions publiées par le passé sur la base des données erronées de la BCSS. Les données des années antérieures seront corrigées dès que nous disposerons des données rectifiées. La répartition par Province est celle des provinces actuelles: ceci implique que l'ancienne commune Zwijndrecht est partout inclus dans la Province de la Flandre-Orientale.
A29: Opmerking 3: De invoering van nieuwe paritaire subcomités voor de bedienden van de gesubsidieerde vrije universiteiten van de Gemeenschappen heeft in het derde kwartaal 2025 geleid tot een verschuiving van een 13.000 arbeidsplaatsen van PC 999 naar PC 225. Aangezien nog niet alle universiteiten deze aanpassing al hebben doorgevoerd zullen er zich in de volgende kwartalen nog gelijkaardige verschuivingen voordoen. Anderzijds vallen 2.500 arbeidsplaatsen van werknemers die arbeid verrichten in het kader van een persoonlijk assistentiebudget zonder arbeidsovereenkomst vanaf 2025/3 niet langer onder pc 337 opgenomen maar wel onder PC 999. (De werkgevers van deze werknemers verschuiven eveneens van pc 337 naar PC 999. Het gaat hierbij om ongeveer 1.730 werkgevers.) Remarque 3 : L’introduction de nouveaux sous-comités paritaires pour les employés des universités libres subventionnées des Communautés a entraîné, au troisième trimestre 2025, le transfert d’environ 13.000 postes de travail du CP 999 vers le CP 225. Étant donné que toutes les universités n’ont pas encore appliqué cette modification, des transferts similaires continueront à se produire au cours des prochains trimestres. Par ailleurs, à partir du troisième trimestre 2025, 2.500 postes de travail occupés par des travailleurs qui effectuent des prestations dans le cadre d’un budget d’assistance personnelle sans contrat de travail ne relèveront plus repris de la CP 337 , mais de la CP 999. (Les employeurs de ces travailleurs passeront également de la CP 337 à la CP 999. Cela concerne environ 1 730 employeurs.)

Sheet Data -tab_1
A1: Kwartaal Trimestre | B1: Lftdsklasse (glob) | C1: Leeftijdsklasse - Classe d'age | D1: Geslacht - Sexe | E1: tewerkgestelde werknemers - Travailleurs occupés | F1: arbeidsplaatsen - postes de travail | G1: VTE - ETP
A2: 20261 | B2: A0024 | C2: <25 | D2: Man - Homme | E2: 154000 | F2: 158500 | G2: 134200
A3: 20261 | B3: A0024 | C3: <25 | D3: Vrouw - Femme | E3: 108000 | F3: 113300 | G3: 87400
A4: 20261 | B4: A2539 | C4: 25-39 | D4: Man - Homme | E4: 752600 | F4: 782400 | G4: 689000
A5: 20261 | B5: A2539 | C5: 25-39 | D5: Vrouw - Femme | E5: 756800 | F5: 793600 | G5: 614300
A6: 20261 | B6: A4049 | C6: 40-49 | D6: Man - Homme | E6: 497800 | F6: 515500 | G6: 451400
A7: 20261 | B7: A4049 | C7: 40-49 | D7: Vrouw - Femme | E7: 517700 | F7: 541500 | G7: 414400
A8: 20261 | B8: A5064 | C8: 50-64 | D8: Man - Homme | E8: 630400 | F8: 647700 | G8: 532100
A9: 20261 | B9: A5064 | C9: 50-64 | D9: Vrouw - Femme | E9: 632800 | F9: 656300 | G9: 460100
A10: 20261 | B10: A6599 | C10: >=65 | D10: Man - Homme | E10: 42800 | F10: 44400 | G10: 23600
A11: 20261 | B11: A6599 | C11: >=65 | D11: Vrouw - Femme | E11: 36100 | F11: 37800 | G11: 16500
A12: 20254 | B12: A0024 | C12: <25 | D12: Man - Homme | E12: 158239 | F12: 162739 | G12: 141432.38
A13: 20254 | B13: A0024 | C13: <25 | D13: Vrouw - Femme | E13: 114058 | F13: 119234 | G13: 92568.55
... A171: 20221 | B171: A6599 | C171: >=65 | D171: Vrouw - Femme | E171: 15649 | F171: 16269 | G171: 6687.44

Sheet Data_tab_2
A1: Opmerking: In 2025 werd de NACE-nomenclatuur 2008 ingeruild voor de NACE-nomenclatuur 2025. Een heel aantal NACE-codes bleven overanderd, maar dat geldt zeker niet voor alle codes. In dit tabblad brengen dan ook een verdeling van de gegevens naar NACE- sectie volgens de NACE 25 nomenclatuur. Voor 2025 is dat vanzelfsprekend, maar ook voor de gegevens uit 2024 geven we hier de verdeling volgens NACE 25. We creëren als het ware een fictieve situatie waarin de nieuwe NACE-nomenclatuur 2025 al van kracht was in 2024. Dat is noodzakelijk om de gegevens uit 2025 te vergelijken met hun tegenhanger uit 2024. Deze retropolatie beperkt zich tot de 4 kwartalen van 2024. Voor de voorgaande kwartalen voorzien we enkel een verdeling naar de destijds van toepassing zijnde NACE-nomenclatuur 2008. Remarque: En 2025, la nomenclature NACE 2008 a été remplacée par la nomenclature NACE 2025. Un certain nombre de codes NACE sont demeurés inchangés, mais cette stabilité ne s’applique pas à l’ensemble des codes. Dès lors, le présent onglet présente la répartition des données par section NACE selon la nomenclature NACE 2025. Pour l’année 2025, cette approche s’impose naturellement ; toutefois, pour les données relatives à l’année 2024, la répartition est également fournie sur la base de la nomenclature NACE 2025. Il s’agit ainsi de créer une situation fictive dans laquelle la nouvelle nomenclature NACE 2025 aurait déjà été d’application en 2024. Cette démarche est indispensable afin de permettre une comparaison cohérente entre les données de 2025 et celles de 2024. Pour les trimestres précédents, nous ne prévoyons qu’une répartition selon la nomenclature NACE 2008 alors en vigueur.
A2: ANTRIM | B2: Versie | C2: Sectie Nace -Nace Section | D2: Activiteit Werkgever (NACE-Bel 2025) | E2: Activité Employeur (NACE-Bel 2025) | F2: tewerkgestelde werknemers - Travailleurs occupés | G2: arbeidsplaatsen - postes de travail | H2: VTE - ETP
A3: 20261 | B3: 04e | C3: A | D3: Landbouw, bosbouw en visserij | E3: Agriculture, chasse, sylviculture et pêche | F3: 25900 | G3: 26700 | H3: 22000
A4: 20261 | B4: 04e | C4: BCDE | D4: Winning van delfstoffen, Industrie, Productie en distributie van elektriciteit, gas, stoom, gekoelde lucht en water, Afvalbeheer | E4: Industries extractives, industrie, production et distribution d'électricité, de gaz, de vapeur, d'air conditionné et d'eau, gestion des déchets | F4: 514500 | G4: 519800 | H4: 448800
A5: 20261 | B5: 04e | C5: F | D5: Bouwnijverheid | E5: Construction | F5: 205500 | G5: 206700 | H5: 167200
A6: 20261 | B6: 04e | C6: GHI | D6: Handel, vervoer en opslag, Verschaffen van accommodatie en maaltijden | E6: Commerce, transports et entreposage, Hébergement et restauration | F6: 837500 | G6: 894700 | H6: 701500
A7: 20261 | B7: 04e | C7: JK | D7: Informatie en communicatie | E7: Information et communication | F7: 122600 | G7: 123200 | H7: 114800
A8: 20261 | B8: 04e | C8: L | D8: Financiële activiteiten en verzekeringen | E8: Activités financières et assurances | F8: 119100 | G8: 119800 | H8: 106800
A9: 20261 | B9: 04e | C9: M | D9: Exploitatie van en handel in onroerend goed | E9: Activités immobilières | F9: 25500 | G9: 26500 | H9: 21700
A10: 20261 | B10: 04e | C10: NO | D10: Administratieve, ondersteunende en gespecialiseerde diensten | E10: Activités de services administratifs, de soutien et spécialisés | F10: 494500 | G10: 535000 | H10: 419800
A11: 20261 | B11: 04e | C11: PQ | D11: Openbaar bestuur en Onderwijs | E11: Administration publique et enseignement | F11: 918600 | G11: 948700 | H11: 799200
A12: 20261 | B12: 04e | C12: R | D12: Menselijke gezondheidszorg en maatschappelijke dienstverlening | E12: Santé humaine et action sociale | F12: 599600 | G12: 610500 | H12: 438000
A13: 20261 | B13: 04e | C13: STUV | D13: Kunst amusement en recreatie, Overige diensten, diversen | E13: Arts, spectacles et activités récréatives, Autres services, divers | F13: 265700 | G13: 279400 | H13: 183200
A14: 20254 | B14: 07e | C14: A | D14: Landbouw, bosbouw en visserij | E14: Agriculture, chasse, sylviculture et pêche | F14: 19424 | G14: 19965 | H14: 23808.93
... A101: 20241 | B101: 07e | C101: STUV | D101: Kunst amusement en recreatie, Overige diensten, diversen | E101: Arts, spectacles et activités récréatives, Autres services, divers | F101: 259668 | G101: 272661 | H101: 180758.47

Sheet Data_tab_3
A1: Kwartaal | B1: Sector WG | C1: L Sector WG | D1: L Secteur Empl | E1: PO_GRP2 | F1: wkn type | G1: Hoedanigheid - statut | H1: Entiteit overheidssector | I1: Entité secteur public | J1: tewerkgestelde werknemers - Travailleurs occupés | K1: arbeidsplaatsen - postes de travail | L1: VTE - ETP
A2: 20261 | B2: 1 | C2: Privé | D2: Privé | E2: P | F2: 1_ARB | G2: Arbeider - Ouvrier | H2: Privé | I2: Privé | J2: 1201000 | K2: 1275000 | L2: 906800
A3: 20261 | B3: 1 | C3: Privé | D3: Privé | E3: P | F3: 2_BED | G3: BED | H3: Privé | I3: Privé | J3: 1800500 | K3: 1858500 | L3: 1538700
A4: 20261 | B4: 2 | C4: Openbaar | D4: Public | E4: 1 | F4: 1_ARB | G4: Arbeider - Ouvrier | H4: Federaal | I4: Fédéral | J4: 3700 | K4: 3800 | L4: 2800
A5: 20261 | B5: 2 | C5: Openbaar | D5: Public | E5: 1 | F5: 2_BED | G5: BED | H5: Federaal | I5: Fédéral | J5: 52000 | K5: 52800 | L5: 46000
A6: 20261 | B6: 2 | C6: Openbaar | D6: Public | E6: 1 | F6: 3_AMB | G6: Ambtenaar - Fonctionnaire | H6: Federaal | I6: Fédéral | J6: 144600 | K6: 144900 | L6: 137000
A7: 20261 | B7: 2 | C7: Openbaar | D7: Public | E7: 2_6_0 | F7: 1_ARB | G7: Arbeider - Ouvrier | H7: Gewest_gemeenschap_exclusief Onderwijs | I7: Région_Communauté exclusif Enseignement | J7: 21900 | K7: 22000 | L7: 17100
A8: 20261 | B8: 2 | C8: Openbaar | D8: Public | E8: 2_6_0 | F8: 2_BED | G8: BED | H8: Gewest_gemeenschap_exclusief Onderwijs | I8: Région_Communauté exclusif Enseignement | J8: 56200 | K8: 57000 | L8: 49300
A9: 20261 | B9: 2 | C9: Openbaar | D9: Public | E9: 2_6_0 | F9: 3_AMB | G9: Ambtenaar - Fonctionnaire | H9: Gewest_gemeenschap_exclusief Onderwijs | I9: Région_Communauté exclusif Enseignement | J9: 47400 | K9: 47500 | L9: 44600
A10: 20261 | B10: 2 | C10: Openbaar | D10: Public | E10: 2_6_4 | F10: 1_ARB | G10: Arbeider - Ouvrier | H10: Gewest_gemeenschap_Onderwijs | I10: Région_Communauté Enseignement | J10: 7700 | K10: 8300 | L10: 5300
A11: 20261 | B11: 2 | C11: Openbaar | D11: Public | E11: 2_6_4 | F11: 2_BED | G11: BED | H11: Gewest_gemeenschap_Onderwijs | I11: Région_Communauté Enseignement | J11: 151800 | K11: 165500 | L11: 128300
A12: 20261 | B12: 2 | C12: Openbaar | D12: Public | E12: 2_6_4 | F12: 3_AMB | G12: Ambtenaar - Fonctionnaire | H12: Gewest_gemeenschap_Onderwijs | I12: Région_Communauté Enseignement | J12: 259300 | K12: 262000 | L12: 232400
A13: 20261 | B13: 2 | C13: Openbaar | D13: Public | E13: 7_8 | F13: 1_ARB | G13: Arbeider - Ouvrier | H13: Plaatselijke en Provinciale Besturen | I13: Administrations provinciales et locales | J13: 82000 | K13: 83600 | L13: 62700
... A273: 20221 | B273: 1 | C273: Privé | D273: Privé | E273: P | F273: 2_BED | G273: Bediende - Employé | H273: privé | I273: privé | J273: 1746370 | K273: 1788533 | L273: 1482169.4

Sheet Data_tab4
A1: Kwartaal | B1: REGIO TraCorr | C1: Naam Gewest | D1: Nom Région | E1: NISPROVLAST TraCorr | F1: Nom de la Province | G1: Naam Provincie | H1: tewerkgestelde werknemers - Travailleurs occupés | I1: arbeidsplaatsen - postes de travail | J1: VTE - ETP
A2: 20261 | B2: 00000 | C2: Onbekend | D2: Inconnu | E2: 00000 | F2: Inconnu | G2: Onbekend | H2: 17000 | I2: 17500 | J2: 13400
A3: 20261 | B3: 00002 | C3: Buurlanden | D3: Pays limitrophes | E3: 00002 | F3: Pays limitrophes | G3: Buurlanden | H3: 70000 | I3: 70900 | J3: 57500
A4: 20261 | B4: 00007 | C4: Overige landen | D4: Autres Pays | E4: 00007_8 | F4: Autres pays | G4: Overige Landen | H4: 13000 | I4: 13100 | J4: 11100
A5: 20261 | B5: 02000 | C5: Vlaams Gewest | D5: Région Flamandet | E5: 10000 | F5: Anvers | G5: Antwerpen | H5: 691100 | I5: 720700 | J5: 578500
A6: 20261 | B6: 02000 | C6: Vlaams Gewest | D6: Région Flamandet | E6: 20001 | F6: Brabant flamand | G6: Vlaams-Brabant | H6: 436100 | I6: 452700 | J6: 370600
A7: 20261 | B7: 02000 | C7: Vlaams Gewest | D7: Région Flamandet | E7: 30000 | F7: Flandre-Occidentale | G7: West-Vlaanderen | H7: 440100 | I7: 462500 | J7: 367300
A8: 20261 | B8: 02000 | C8: Vlaams Gewest | D8: Région Flamandet | E8: 40000 | F8: Flandre-Orientale | G8: Oost-Vlaanderen | H8: 610000 | I8: 636600 | J8: 513600
A9: 20261 | B9: 02000 | C9: Vlaams Gewest | D9: Région Flamandet | E9: 70000 | F9: Limbourg | G9: Limpurg | H9: 315700 | I9: 330600 | J9: 255400
A10: 20261 | B10: 03000 | C10: Waals Gewest | D10: Région Wallonne | E10: 20002 | F10: Brabant Wallon | G10: Waals-Brabant | H10: 135300 | I10: 139600 | J10: 114600
A11: 20261 | B11: 03000 | C11: Waals Gewest | D11: Région Wallonne | E11: 50000 | F11: Hainaut | G11: Henegouwen | H11: 433200 | I11: 445200 | J11: 347400
A12: 20261 | B12: 03000 | C12: Waals Gewest | D12: Région Wallonne | E12: 60000 | F12: Liège | G12: Luik | H12: 365100 | I12: 378100 | J12: 296500
A13: 20261 | B13: 03000 | C13: Waals Gewest | D13: Région Wallonne | E13: 80000 | F13: Luxembourg | G13: Luxemburg | H13: 72800 | I13: 75600 | J13: 57600
... A239: 20221 | B239: 00000 | C239: NIET LOCALISEERBAAR | D239: Inconnu | E239: 00000 | F239: Inconnu | G239: Onbekend | H239: 30855 | I239: 31366 | J239: 23902.12

Sheet Data_tab5
A1: Kwartaal | B1: Sector WG | C1: L Sector WG | D1: L Secteur Empl | E1: TypePrest | F1: KlasseDT | G1: L_typePrestatie | H1: L_typedeprestation | I1: tewerkgestelde werknemers - Travailleurs occupés | J1: arbeidsplaatsen - postes de travail | K1: VTE - ETP
A2: 20261 | B2: 1 | C2: Privé | D2: Privé | E2: F | F2: K100 | G2: voltijds | H2: temps plein | I2: 1892100 | J2: 1894000 | K2: 1731000
A3: 20261 | B3: 1 | C3: Privé | D3: Privé | E3: P | F3: K0045 | G3: deeltijds | H3: Temps partiel | I3: 72300 | J3: 97800 | K3: 28500
A4: 20261 | B4: 1 | C4: Privé | D4: Privé | E4: P | F4: K4665 | G4: deeltijds | H4: Temps partiel | I4: 252000 | J4: 262300 | K4: 122600
A5: 20261 | B5: 1 | C5: Privé | D5: Privé | E5: P | F5: K6695 | G5: deeltijds | H5: Temps partiel | I5: 578600 | J5: 580700 | K5: 413300
A6: 20261 | B6: 1 | C6: Privé | D6: Privé | E6: P | F6: K9599 | G6: deeltijds | H6: Temps partiel | I6: 56200 | J6: 56300 | K6: 29200
A7: 20261 | B7: 1 | C7: Privé | D7: Privé | E7: S | F7: K100 | G7: Seizoen_Interim_gelegenheids | H7: Saison_intérim_occasionnel | I7: 150300 | J7: 242400 | K7: 120900
A8: 20261 | B8: 2 | C8: Openbaar | D8: Public | E8: F | F8: K100 | G8: voltijds | H8: temps plein | I8: 687500 | J8: 689300 | K8: 654000
A9: 20261 | B9: 2 | C9: Openbaar | D9: Public | E9: PS | F9: K0045 | G9: deeltijds/seizoen_interim_gelegenh. | H9: temps partiel/saison_intérim_occ | I9: 66700 | J9: 89700 | K9: 67100
A10: 20261 | B10: 2 | C10: Openbaar | D10: Public | E10: PS | F10: K4665 | G10: deeltijds/seizoen_interim_gelegenh. | H10: temps partiel/saison_intérim_occ | I10: 141900 | J10: 146200 | K10: 81700
A11: 20261 | B11: 2 | C11: Openbaar | D11: Public | E11: PS | F11: K6695 | G11: deeltijds/seizoen_interim_gelegenh. | H11: temps partiel/saison_intérim_occ | I11: 218300 | J11: 219100 | K11: 167600
A12: 20261 | B12: 2 | C12: Openbaar | D12: Public | E12: PS | F12: K9599 | G12: deeltijds/seizoen_interim_gelegenh. | H12: temps partiel/saison_intérim_occ | I12: 13100 | J12: 13200 | K12: 7100
A13: 20254 | B13: 1 | C13: Privé | D13: Privé | E13: F | F13: K100 | G13: voltijds | H13: temps plein | I13: 1900128 | J13: 1901749 | K13: 1745125.4
... A188: 20221 | B188: 2 | C188: Openbaar | D188: Public | E188: PS | F188: K9599 | G188: deeltijds/seizoen_interim_gelegenh. | H188: temps partiel/saison_intérim_occ | I188: 8544 | J188: 8692 | K188: 4551.71

Sheet Data_tab6
A1: Kwartaal | B1: L Sector WG | C1: L Secteur Empl | D1: Dimgr | E1: Dimensieklasse - Classe De Dimension | F1: tewerkgestelde werknemers - Travailleurs occupés | G1: arbeidsplaatsen - postes de travail | H1: VTE - ETP
A2: 20261 | B2: Openbaar | C2: Public | D2: PU1 | E2: <1000 | F2: 306000 | G2: 317700 | H2: 252700
A3: 20261 | B3: Openbaar | C3: Public | D3: PU9 | E3: >=1000 | F3: 821500 | G3: 839800 | H3: 724800
A4: 20261 | B4: Privé | C4: Privé | D4: PR4 | E4: 20-199 | F4: 933000 | G4: 963000 | H4: 783000
A5: 20261 | B5: Privé | C5: Privé | D5: PR7 | E5: 200-999 | F5: 621500 | G5: 631000 | H5: 510300
A6: 20261 | B6: Privé | C6: Privé | D6: PR1 | E6: <20 | F6: 702000 | G6: 760500 | H6: 571000
A7: 20261 | B7: Privé | C7: Privé | D7: PR9 | E7: >=1000 | F7: 745000 | G7: 779000 | H7: 581200
A8: 20254 | B8: Openbaar | C8: Public | D8: PU1 | E8: <1000 | F8: 301505 | G8: 312628 | H8: 248630.96
A9: 20254 | B9: Openbaar | C9: Public | D9: PU9 | E9: >=1000 | F9: 821024 | G9: 837975 | H9: 725241.94
A10: 20254 | B10: Privé | C10: Privé | D10: PR4 | E10: 20-199 | F10: 921656 | G10: 950044 | H10: 782017.7
A11: 20254 | B11: Privé | C11: Privé | D11: PR7 | E11: 200-999 | F11: 617327 | G11: 627999 | H11: 511990.09
A12: 20254 | B12: Privé | C12: Privé | D12: PR1 | E12: <20 | F12: 699860 | G12: 751636 | H12: 586283.31
A13: 20254 | B13: Privé | C13: Privé | D13: PR9 | E13: >=1000 | F13: 747240 | G13: 777784 | H13: 596974.1
... A103: 20221 | B103: Openbaar | C103: Public | D103: PU9 | E103: >=1000 | F103: 800523 | G103: 818485 | H103: 711542.95

Sheet Data_tab7
A1: Kwartaal | B1: PC_sectorgr | C1: L PC_sectorgr | D1: L PC_groupe sectoriel | E1: tewerkgestelde werknemers - Travailleurs occupés | F1: arbeidsplaatsen - postes de travail | G1: VTE - ETP
A2: 20261 | B2: A | C2: Land- en tuinbouw, bosbouw en zeevisserij | D2: Agriculture, chasse, sylviculture et pêche | E2: 38800 | F2: 39800 | G2: 32100
A3: 20261 | B3: B | C3: Industrie, Gas en elektriciteit | D3: Industries, gaz et électricité | E3: 602300 | F3: 606300 | G3: 525000
A4: 20261 | B4: C | C4: Bouw | D4: Construction | E4: 130900 | F4: 131200 | G4: 99700
A5: 20261 | B5: D | C5: Distributie, transport en logistiek | D5: Distribution, transport et logistique | E5: 464600 | F5: 487000 | G5: 377900
A6: 20261 | B6: E | C6: Diensten aan ondernemingen en personen | D6: Services aux entreprises et aux personnes | E6: 405000 | F6: 450000 | G6: 290000
A7: 20261 | B7: F | C7: Financiële sector | D7: Secteur financier | E7: 100600 | F7: 101200 | G7: 89300
A8: 20261 | B8: G | C8: Horeca, sport en ontspanning, media | D8: Horeca, sports et loisirs, media | E8: 141500 | F8: 181000 | G8: 112000
A9: 20261 | B9: N | C9: Social profit | D9: Secteur non marchand (social) | E9: 655000 | F9: 674500 | G9: 487400
A10: 20261 | B10: S | C10: Overige sectoren | D10: Secteurs divers | E10: 535800 | F10: 540000 | G10: 489400
A11: 20261 | B11: Z | C11: Geen paritair comité van toepassing | D11: Aucune commission paritaire d'application | E11: 1054500 | F11: 1080000 | G11: 920200
A12: 20254 | B12: A | C12: Land- en tuinbouw, bosbouw en zeevisserij | D12: Agriculture, chasse, sylviculture et pêche | E12: 31887 | F12: 32541 | G12: 34569.57
A13: 20254 | B13: B | C13: Industrie, Gas en elektriciteit | D13: Industries, gaz et électricité | E13: 601608 | F13: 605152 | G13: 521710.24
... A171: 20221 | B171: Z | C171: Geen paritair comité van toepassing | D171: Aucune commission paritaire d'application | E171: 1049562 | F171: 1080434 | G171: 916546.39

Sheet Data_tab8
A1: ANTRIM | B1: Sectie Nace WG | C1: Activiteit Gebruiker (NACE-Bel 2025) | D1: Activité Utilisateur (NACE-Bel 2025) | E1: tewerkgestelde werknemers - Travailleurs occupés | F1: arbeidsplaatsen - postes de travail | G1: VTE - ETP
A2: 20261 | B2: A | C2: Landbouw, bosbouw en visserij | D2: Agriculture, chasse, sylviculture et pêche | E2: 500 | F2: 550 | G2: 390
A3: 20261 | B3: BCDE | C3: Winning van delfstoffen, Industrie, Productie en distributie van elektriciteit, gas, stoom, gekoelde lucht en water, Afvalbeheer | D3: Industries extractives, industrie, production et distribution d'électricité, de gaz, de vapeur, d'air conditionné et d'eau, gestion des déchets | E3: 31190 | F3: 32360 | G3: 27250
A4: 20261 | B4: F | C4: Bouwnijverheid | D4: Construction | E4: 4680 | F4: 4910 | G4: 3820
A5: 20261 | B5: GHI | C5: Handel, vervoer en opslag, Verschaffen van accommodatie en maaltijden | D5: Commerce, transports et entreposage, Hébergement et restauration | E5: 37710 | F5: 40750 | G5: 30720
A6: 20261 | B6: JK | C6: Informatie en communicatie | D6: Information et communication | E6: 1240 | F6: 1400 | G6: 980
A7: 20261 | B7: L | C7: Financiële activiteiten en verzekeringen | D7: Activités financières et assurances | E7: 600 | F7: 630 | G7: 550
A8: 20261 | B8: M | C8: Exploitatie van en handel in onroerend goed | D8: Activités immobilières | E8: 260 | F8: 290 | G8: 180
A9: 20261 | B9: NO | C9: Administratieve, ondersteunende en gespecialiseerde diensten | D9: Activités de services administratifs, de soutien et spécialisés | E9: 10950 | F9: 12730 | G9: 8470
A10: 20261 | B10: PQ | C10: Openbaar bestuur en Onderwijs | D10: Administration publique et enseignement | E10: 910 | F10: 1230 | G10: 650
A11: 20261 | B11: R | C11: Menselijke gezondheidszorg en maatschappelijke dienstverlening | D11: Arts, spectacles et activités récréatives, Autres services, divers | E11: 1580 | F11: 2460 | G11: 1440
A12: 20261 | B12: STUV | C12: Kunst amusement en recreatie, Overige diensten, diversen | D12: Santé humaine et action sociale | E12: 3430 | F12: 4100 | G12: 2270
A13: 20261 | B13: Z | C13: Onbekend | D13: Inconnu | E13: 1020 | F13: 1360 | G13: 730
... A156: 20231 | B156: Z | C156: Onbekend | D156: Inconnu | E156: 1834 | F156: 2341 | G156: 1620.02

Sheet Data_tab9
A1: Kwartaal Trimestre | B1: Sectie Nace WG | C1: Activiteit Gebruiker | D1: Activité Utilisateur | E1: tewerkgestelde werknemers - Travailleurs occupés | F1: arbeidsplaatsen - postes de travail | G1: VTE - ETP
A2: 20261 | B2: A | C2: Landbouw, bosbouw en visserij | D2: Agriculture, chasse, sylviculture et pêche | E2: 350 | F2: 450 | G2: 250
A3: 20261 | B3: B_F | C3: Industrie, Energie en Bouw | D3: Industries, énergie et construction | E3: 830 | F3: 2630 | G3: 730
A4: 20261 | B4: G_O | C4: Commerciële Dienstverlening | D4: Services commerciaux | E4: 7990 | F4: 26290 | G4: 6990
A5: 20261 | B5: P_V | C5: Niet-Commerciële Dienstverlening | D5: Services non-commerciaux | E5: 860 | F5: 3220 | G5: 760
A6: 20261 | B6: Z | C6: Onbekend | D6: Inconnu | E6: 100 | F6: 190 | G6: 80
A7: 20254 | B7: A | C7: Landbouw, bosbouw en visserij | D7: Agriculture, chasse, sylviculture et pêche | E7: 227 | F7: 291 | G7: 250.51
A8: 20254 | B8: B_F | C8: Industrie, Energie en Bouw | D8: Industries, énergie et construction | E8: 516 | F8: 1951 | G8: 767.85
A9: 20254 | B9: G_O | C9: Commerciële Dienstverlening | D9: Services commerciaux | E9: 6143 | F9: 22121 | G9: 7774.28
A10: 20254 | B10: P_V | C10: Niet-Commerciële Dienstverlening | D10: Services non-commerciaux | E10: 531 | F10: 2404 | G10: 842.24
A11: 20254 | B11: Z | C11: Onbekend | D11: Inconnu | E11: 62 | F11: 141 | G11: 91.18
A12: 20253 | B12: A | C12: Landbouw, bosbouw en visserij | D12: Agriculture, chasse, sylviculture et pêche | E12: 378 | F12: 482 | G12: 347.46
A13: 20253 | B13: B_F | C13: Industrie, Energie en Bouw | D13: Industries, énergie et construction | E13: 691 | F13: 2281 | G13: 646.68
... A66: 20231 | B66: Z | C66: Onbekend | D66: Inconnu | E66: 85 | F66: 149 | G66: 96.52

Sheet tabel Shrt - overzicht
A1: Overzicht Evolutie Loontrekkende Tewerkstelling vierde kwartaal 2025 - 2026
A3: meer info
A4: Evolutie Tewerkstelling | B4: 45291 | C4: 45747 | D4: 46112 | E4: 2023-2024 | G4: 2025-2026 | I4: 2023-2025
B5: aantallen | C5: aantallen | D5: aantallen | E5: abs | F5: in % | G5: abs | H5: in % | I5: abs | J5: in %
A6: Tewerkgestelde werknemers | B6: ='Tabel 1 lftd_sexe'!D29 -> 4127206 | C6: ='Tabel 1 lftd_sexe'!E29 -> 4133126 | D6: ='Tabel 1 lftd_sexe'!F29 -> 4129000 | E6: =C6-B6 -> 5920 | F6: =E6/B6 -> 0.0014343844 | G6: =D6-C6 -> -4126 | H6: =G6/C6 -> -0.00099827588 | I6: =D6-B6 -> 1794 | J6: =I6/B6 -> 0.00043467663
A7: Arbeidsplaatsen | B7: ='Tabel 1 lftd_sexe'!I29 -> 4276593 | C7: ='Tabel 1 lftd_sexe'!J29 -> 4288680 | D7: ='Tabel 1 lftd_sexe'!K29 -> 4291000 | E7: =C7-B7 -> 12087 | F7: =E7/B7 -> 0.0028263152 | G7: =D7-C7 -> 2320 | H7: =G7/C7 -> 0.00054095899 | I7: =D7-B7 -> 14407 | J7: =I7/B7 -> 0.0033688032
A8: Arbeidsvolume in vte | B8: ='Tabel 1 lftd_sexe'!N29 -> 3416093.9 | C8: ='Tabel 1 lftd_sexe'!O29 -> 3417143.9 | D8: ='Tabel 1 lftd_sexe'!P29 -> 3423000 | E8: =C8-B8 -> 1049.98 | F8: =E8/B8 -> 0.00030736275 | G8: =D8-C8 -> 5856.14 | H8: =G8/C8 -> 0.0017137528 | I8: =D8-B8 -> 6906.12 | J8: =I8/B8 -> 0.0020216423
A10: meer info | L10: meer info
A11: Arbeidsplaatsen | B11: 45291 | C11: 45747 | D11: 46112 | E11: 2023-2024 | G11: 2025-2026 | I11: 2023-2025 | L11: Arbeidsvolume | M11: 2023Q4 | N11: 2025Q1 | O11: 2026Q1 | P11: 2023-2024 | R11: 2025-2026 | T11: 2023-2025
A12: gender | B12: aantallen | C12: aantallen | D12: aantallen | E12: abs | F12: in % | G12: abs | H12: in % | I12: abs | J12: in % | L12: gender | M12: volume | N12: volume | O12: volume | P12: abs | Q12: in % | R12: abs | S12: in % | T12: abs | U12: in %
A13: Mannen | B13: ='Tabel 1 lftd_sexe'!I27 -> 2142011 | C13: ='Tabel 1 lftd_sexe'!J27 -> 2146672 | D13: ='Tabel 1 lftd_sexe'!K27 -> 2148500 | E13: =C13-B13 -> 4661 | F13: =E13/B13 -> 0.0021759926 | G13: =D13-C13 -> 1828 | H13: =G13/C13 -> 0.00085155068 | I13: =D13-B13 -> 6489 | J13: =I13/B13 -> 0.0030293962 | L13: Mannen | M13: ='Tabel 1 lftd_sexe'!N27 -> 1829861.6 | N13: ='Tabel 1 lftd_sexe'!O27 -> 1831081.2 | O13: ='Tabel 1 lftd_sexe'!P27 -> 1830300 | P13: =N13-M13 -> 1219.54 | Q13: =P13/M13 -> 0.0006664657 | R13: =O13-N13 -> -781.16 | S13: =R13/N13 -> -0.00042661135 | T13: =O13-M13 -> 438.38 | U13: =T13/M13 -> 0.00023957003
A14: Vrouwen | B14: ='Tabel 1 lftd_sexe'!I28 -> 2134582 | C14: ='Tabel 1 lftd_sexe'!J28 -> 2142008 | D14: ='Tabel 1 lftd_sexe'!K28 -> 2142500 | E14: =C14-B14 -> 7426 | F14: =E14/B14 -> 0.0034789013 | G14: =D14-C14 -> 492 | H14: =G14/C14 -> 0.00022969102 | I14: =D14-B14 -> 7918 | J14: =I14/B14 -> 0.0037093913 | L14: Vrouwen | M14: ='Tabel 1 lftd_sexe'!N28 -> 1586232.3 | N14: ='Tabel 1 lftd_sexe'!O28 -> 1586062.7 | O14: ='Tabel 1 lftd_sexe'!P28 -> 1592700 | P14: =N14-M14 -> -169.56 | Q14: =P14/M14 -> -0.00010689481 | R14: =O14-N14 -> 6637.3 | S14: =R14/N14 -> 0.0041847652 | T14: =O14-M14 -> 6467.74 | U14: =T14/M14 -> 0.0040774231
A15: Totaal | B15: ='Tabel 1 lftd_sexe'!I29 -> 4276593 | C15: ='Tabel 1 lftd_sexe'!J29 -> 4288680 | D15: ='Tabel 1 lftd_sexe'!K29 -> 4291000 | E15: =C15-B15 -> 12087 | F15: =E15/B15 -> 0.0028263152 | G15: =SUM(G13:G14) -> 2320 | H15: =G15/C15 -> 0.00054095899 | I15: =SUM(I13:I14) -> 14407 | J15: =I15/B15 -> 0.0033688032 | L15: Totaal | M15: ='Tabel 1 lftd_sexe'!N29 -> 3416093.9 | N15: ='Tabel 1 lftd_sexe'!O29 -> 3417143.9 | O15: ='Tabel 1 lftd_sexe'!P29 -> 3423000 | P15: =N15-M15 -> 1049.98 | Q15: =P15/M15 -> 0.00030736275 | R15: =O15-N15 -> 5856.14 | S15: =R15/N15 -> 0.0017137528 | T15: =O15-M15 -> 6906.12 | U15: =T15/M15 -> 0.0020216423
A17: meer info | L17: meer info
A18: Arbeidsplaatsen | B18: 45291 | C18: 45747 | D18: 46112 | E18: 2023-2024 | G18: 2025-2026 | I18: 2023-2025 | L18: Arbeidsvolume | M18: 2023Q4 | N18: 2025Q1 | O18: 2026Q1 | P18: 2023-2024 | R18: 2025-2026 | T18: 2023-2025
A19: Leefijd | B19: aantallen | C19: aantallen | D19: aantallen | E19: abs | F19: in % | G19: abs | H19: in % | I19: abs | J19: in % | L19: Leefijd | M19: volume | N19: volume | O19: volume | P19: abs | Q19: in % | R19: abs | S19: in % | T19: abs | U19: in %
A20: <25 | B20: ='Tabel 1 lftd_sexe'!I12 -> 282611 | C20: ='Tabel 1 lftd_sexe'!J12 -> 280423 | D20: ='Tabel 1 lftd_sexe'!K12 -> 271800 | E20: =C20-B20 -> -2188 | F20: =E20/B20 -> -0.0077420907 | G20: =D20-C20 -> -8623 | H20: =G20/C20 -> -0.030749974 | I20: =D20-B20 -> -10811 | J20: =I20/B20 -> -0.038253996 | L20: <25 | M20: ='Tabel 1 lftd_sexe'!N12 -> 231315.76 | N20: ='Tabel 1 lftd_sexe'!O12 -> 229429.98 | O20: ='Tabel 1 lftd_sexe'!P12 -> 221600 | P20: =N20-M20 -> -1885.78 | Q20: =P20/M20 -> -0.008152406 | R20: =O20-N20 -> -7829.98 | S20: =R20/N20 -> -0.034127972 | T20: =O20-M20 -> -9715.76 | U20: =T20/M20 -> -0.042002153
A21: 25 - 39 | B21: ='Tabel 1 lftd_sexe'!I15 -> 1589063 | C21: ='Tabel 1 lftd_sexe'!J15 -> 1586783 | D21: ='Tabel 1 lftd_sexe'!K15 -> 1576000 | E21: =C21-B21 -> -2280 | F21: =E21/B21 -> -0.0014348078 | G21: =D21-C21 -> -10783 | H21: =G21/C21 -> -0.0067955102 | I21: =D21-B21 -> -13063 | J21: =I21/B21 -> -0.0082205677 | L21: 25 - 39 | M21: ='Tabel 1 lftd_sexe'!N15 -> 1319381 | N21: ='Tabel 1 lftd_sexe'!O15 -> 1314108.3 | O21: ='Tabel 1 lftd_sexe'!P15 -> 1303300 | P21: =N21-M21 -> -5272.68 | Q21: =P21/M21 -> -0.0039963287 | R21: =O21-N21 -> -10808.29 | S21: =R21/N21 -> -0.0082248092 | T21: =O21-M21 -> -16080.97 | U21: =T21/M21 -> -0.012188269
A22: 40 - 49 | B22: ='Tabel 1 lftd_sexe'!I18 -> 1047412 | C22: ='Tabel 1 lftd_sexe'!J18 -> 1052307 | D22: ='Tabel 1 lftd_sexe'!K18 -> 1057000 | E22: =C22-B22 -> 4895 | F22: =E22/B22 -> 0.0046734236 | G22: =D22-C22 -> 4693 | H22: =G22/C22 -> 0.0044597252 | I22: =D22-B22 -> 9588 | J22: =I22/B22 -> 0.009153991 | L22: 40 - 49 | M22: ='Tabel 1 lftd_sexe'!N18 -> 857870.44 | N22: ='Tabel 1 lftd_sexe'!O18 -> 859215.95 | O22: ='Tabel 1 lftd_sexe'!P18 -> 865800 | P22: =N22-M22 -> 1345.51 | Q22: =P22/M22 -> 0.0015684303 | R22: =O22-N22 -> 6584.05 | S22: =R22/N22 -> 0.0076628582 | T22: =O22-M22 -> 7929.56 | U22: =T22/M22 -> 0.0092433072
A23: 50 - 64 | B23: ='Tabel 1 lftd_sexe'!I21 -> 1304661 | C23: ='Tabel 1 lftd_sexe'!J21 -> 1306165 | D23: ='Tabel 1 lftd_sexe'!K21 -> 1304000 | E23: =C23-B23 -> 1504 | F23: =E23/B23 -> 0.0011527899 | G23: =D23-C23 -> -2165 | H23: =G23/C23 -> -0.0016575241 | I23: =D23-B23 -> -661 | J23: =I23/B23 -> -0.00050664502 | L23: 50 - 64 | M23: ='Tabel 1 lftd_sexe'!N21 -> 982901.03 | N23: ='Tabel 1 lftd_sexe'!O21 -> 985769.3 | O23: ='Tabel 1 lftd_sexe'!P21 -> 992200 | P23: =N23-M23 -> 2868.27 | Q23: =P23/M23 -> 0.0029181677 | R23: =O23-N23 -> 6430.7 | S23: =R23/N23 -> 0.0065235345 | T23: =O23-M23 -> 9298.97 | U23: =T23/M23 -> 0.0094607389
A24: 65 en ouder | B24: ='Tabel 1 lftd_sexe'!I24 -> 52846 | C24: ='Tabel 1 lftd_sexe'!J24 -> 63002 | D24: ='Tabel 1 lftd_sexe'!K24 -> 82200 | E24: =C24-B24 -> 10156 | F24: =E24/B24 -> 0.19218105 | G24: =D24-C24 -> 19198 | H24: =G24/C24 -> 0.30472049 | I24: =D24-B24 -> 29354 | J24: =I24/B24 -> 0.55546304 | L24: 65 en ouder | M24: ='Tabel 1 lftd_sexe'!N24 -> 24625.68 | N24: ='Tabel 1 lftd_sexe'!O24 -> 28620.34 | O24: ='Tabel 1 lftd_sexe'!P24 -> 40100 | P24: =N24-M24 -> 3994.66 | Q24: =P24/M24 -> 0.16221522 | R24: =O24-N24 -> 11479.66 | S24: =R24/N24 -> 0.40110145 | T24: =O24-M24 -> 15474.32 | U24: =T24/M24 -> 0.62838143
A25: Totaal | B25: =SUM(B20:B24) -> 4276593 | C25: =SUM(C20:C24) -> 4288680 | D25: =SUM(D20:D24) -> 4291000 | E25: =C25-B25 -> 12087 | F25: =E25/B25 -> 0.0028263152 | G25: =SUM(G20:G24) -> 2320 | H25: =G25/C25 -> 0.00054095899 | I25: =SUM(I20:I24) -> 14407 | J25: =I25/B25 -> 0.0033688032 | L25: Totaal | M25: =SUM(M20:M24) -> 3416093.9 | N25: =SUM(N20:N24) -> 3417143.9 | O25: =SUM(O20:O24) -> 3423000 | P25: =N25-M25 -> 1049.98 | Q25: =P25/M25 -> 0.00030736275 | R25: =O25-N25 -> 5856.14 | S25: =R25/N25 -> 0.0017137528 | T25: =O25-M25 -> 6906.12 | U25: =T25/M25 -> 0.0020216423
A27: meer info | L27: meer info
A28: Arbeidsplaatsen | B28: 45291 | C28: 45747 | D28: 46112 | E28: 2023-2024 | G28: 2025-2026 | I28: 2023-2025 | L28: Arbeidsvolume | M28: 2023Q4 | N28: 2025Q1 | O28: 2026Q1 | P28: 2023-2024 | R28: 2025-2026 | T28: 2023-2025
A29: Activiteit (Nace) | B29: aantallen | C29: aantallen | D29: aantallen | E29: abs | F29: in % | G29: abs | H29: in % | I29: abs | J29: in % | L29: Activiteit (Nace) | M29: volume | N29: volume | O29: volume | P29: abs | Q29: in % | R29: abs | S29: in % | T29: abs | U29: in %
A30: Landbouw, bosbouw en visserij | C30: ='Tab2 Activité_NACE'!J8 -> 25409 | D30: ='Tab2 Activité_NACE'!K8 -> 26700 | G30: =D30-C30 -> 1291 | H30: =G30/C30 -> 0.050808769 | L30: Landbouw, bosbouw en visserij | N30: ='Tab2 Activité_NACE'!O8 -> 20887.33 | O30: ='Tab2 Activité_NACE'!P8 -> 22000 | R30: =O30-N30 -> 1112.67 | S30: =R30/N30 -> 0.053270092
A31: Industrie, Energie en Bouw | C31: ='Tab2 Activité_NACE'!J9 -> 736164 | D31: ='Tab2 Activité_NACE'!K9 -> 726500 | G31: =D31-C31 -> -9664 | H31: =G31/C31 -> -0.01312751 | L31: Industrie, Energie en Bouw | N31: ='Tab2 Activité_NACE'!O9 -> 622350.56 | O31: ='Tab2 Activité_NACE'!P9 -> 616000 | R31: =O31-N31 -> -6350.56 | S31: =R31/N31 -> -0.010204152
A32: Commerciële Dienstverlening | C32: ='Tab2 Activité_NACE'!J12 -> 1692815 | D32: ='Tab2 Activité_NACE'!K12 -> 1699200 | G32: =D32-C32 -> 6385 | H32: =G32/C32 -> 0.0037718239 | L32: Commerciële Dienstverlening | N32: ='Tab2 Activité_NACE'!O12 -> 1364675.9 | O32: ='Tab2 Activité_NACE'!P12 -> 1364600 | R32: =O32-N32 -> -75.92 | S32: =R32/N32 -> -5.5632256e-05
A33: Niet-Commerciële Dienstverlening | C33: ='Tab2 Activité_NACE'!J18 -> 1834292 | D33: ='Tab2 Activité_NACE'!K18 -> 1838600 | G33: =D33-C33 -> 4308 | H33: =G33/C33 -> 0.0023485901 | L33: Niet-Commerciële Dienstverlening | N33: ='Tab2 Activité_NACE'!O18 -> 1409230 | O33: ='Tab2 Activité_NACE'!P18 -> 1420400 | R33: =O33-N33 -> 11169.95 | S33: =R33/N33 -> 0.0079262786
A34: Totaal | C34: =SUM(C30:C33) -> 4288680 | D34: =SUM(D30:D33) -> 4291000 | G34: =SUM(G30:G33) -> 2320 | H34: =G34/C34 -> 0.00054095899 | L34: Totaal | N34: =SUM(N30:N33) -> 3417143.9 | O34: =SUM(O30:O33) -> 3423000 | R34: =O34-N34 -> 5856.14 | S34: =R34/N34 -> 0.0017137528
A36: meer info | L36: meer info
A37: Arbeidsplaatsen | B37: 45291 | C37: 45747 | D37: 46112 | E37: 2023-2024 | G37: 2025-2026 | I37: 2023-2025 | L37: Arbeidsvolume | M37: 2023Q4 | N37: 2025Q1 | O37: 2026Q1 | P37: 2023-2024 | R37: 2025-2026 | T37: 2023-2025
A38: Sector/statuut | B38: aantallen | C38: aantallen | D38: aantallen | E38: abs | F38: in % | G38: abs | H38: in % | I38: abs | J38: in % | L38: Sector/statuut | M38: volume | N38: volume | O38: volume | P38: abs | Q38: in % | R38: abs | S38: in % | T38: abs | U38: in %
A39: Privé-sector - Arbeiders | B39: ='Tab3 Sect_Stat'!I10 -> 1283969 | C39: ='Tab3 Sect_Stat'!J10 -> 1279760 | D39: ='Tab3 Sect_Stat'!K10 -> 1275000 | E39: =C39-B39 -> -4209 | F39: =E39/B39 -> -0.0032781165 | G39: =D39-C39 -> -4760 | H39: =G39/C39 -> -0.0037194474 | I39: =D39-B39 -> -8969 | J39: =I39/B39 -> -0.0069853711 | L39: Privé-sector - Arbeiders | M39: ='Tab3 Sect_Stat'!N10 -> 914388.06 | N39: ='Tab3 Sect_Stat'!O10 -> 910841.67 | O39: ='Tab3 Sect_Stat'!P10 -> 906800 | P39: =N39-M39 -> -3546.39 | Q39: =P39/M39 -> -0.0038784299 | R39: =O39-N39 -> -4041.67 | S39: =R39/N39 -> -0.0044372915 | T39: =O39-M39 -> -7588.06 | U39: =T39/M39 -> -0.0082985117
A40: Privé-sector - Bedienden | B40: ='Tab3 Sect_Stat'!I11 -> 1839419 | C40: ='Tab3 Sect_Stat'!J11 -> 1852306 | D40: ='Tab3 Sect_Stat'!K11 -> 1858500 | E40: =C40-B40 -> 12887 | F40: =E40/B40 -> 0.0070060166 | G40: =D40-C40 -> 6194 | H40: =G40/C40 -> 0.0033439399 | I40: =D40-B40 -> 19081 | J40: =I40/B40 -> 0.010373384 | L40: Privé-sector - Bedienden | M40: ='Tab3 Sect_Stat'!N11 -> 1530918.8 | N40: ='Tab3 Sect_Stat'!O11 -> 1535963.8 | O40: ='Tab3 Sect_Stat'!P11 -> 1538700 | P40: =N40-M40 -> 5044.97 | Q40: =P40/M40 -> 0.003295387 | R40: =O40-N40 -> 2736.19 | S40: =R40/N40 -> 0.0017814157 | T40: =O40-M40 -> 7781.16 | U40: =T40/M40 -> 0.0050826731
A41: Overheidssector - Arbeiders | B41: ='Tab3 Sect_Stat'!I15+'Tab3 Sect_Stat'!I20+'Tab3 Sect_Stat'!I24+'Tab3 Sect_Stat'!I28+'Tab3 Sect_Stat'!I32 -> 131893 | C41: ='Tab3 Sect_Stat'!J15+'Tab3 Sect_Stat'!J20+'Tab3 Sect_Stat'!J24+'Tab3 Sect_Stat'!J28+'Tab3 Sect_Stat'!J32 -> 132512 | D41: ='Tab3 Sect_Stat'!K15+'Tab3 Sect_Stat'!K20+'Tab3 Sect_Stat'!K24+'Tab3 Sect_Stat'!K28+'Tab3 Sect_Stat'!K32 -> 130700 | E41: =C41-B41 -> 619 | F41: =E41/B41 -> 0.0046931983 | G41: =D41-C41 -> -1812 | H41: =G41/C41 -> -0.013674233 | I41: =D41-B41 -> -1193 | J41: =I41/B41 -> -0.0090452109 | L41: Overheidssector - Arbeiders | M41: ='Tab3 Sect_Stat'!N15+'Tab3 Sect_Stat'!N20+'Tab3 Sect_Stat'!N24+'Tab3 Sect_Stat'!N28+'Tab3 Sect_Stat'!N32 -> 94888.91 | N41: ='Tab3 Sect_Stat'!O15+'Tab3 Sect_Stat'!O20+'Tab3 Sect_Stat'!O24+'Tab3 Sect_Stat'!O28+'Tab3 Sect_Stat'!O32 -> 95195.74 | O41: ='Tab3 Sect_Stat'!P15+'Tab3 Sect_Stat'!P20+'Tab3 Sect_Stat'!P24+'Tab3 Sect_Stat'!P28+'Tab3 Sect_Stat'!P32 -> 95500 | P41: =N41-M41 -> 306.83 | Q41: =P41/M41 -> 0.0032335707 | R41: =O41-N41 -> 304.26 | S41: =R41/N41 -> 0.0031961514 | T41: =O41-M41 -> 611.09 | U41: =T41/M41 -> 0.0064400571
A42: Overheidssector - bedienden | B42: ='Tab3 Sect_Stat'!I16+'Tab3 Sect_Stat'!I21+'Tab3 Sect_Stat'!I25+'Tab3 Sect_Stat'!I29+'Tab3 Sect_Stat'!I33 -> 471156 | C42: ='Tab3 Sect_Stat'!J16+'Tab3 Sect_Stat'!J21+'Tab3 Sect_Stat'!J25+'Tab3 Sect_Stat'!J29+'Tab3 Sect_Stat'!J33 -> 471450 | D42: ='Tab3 Sect_Stat'!K16+'Tab3 Sect_Stat'!K21+'Tab3 Sect_Stat'!K25+'Tab3 Sect_Stat'!K29+'Tab3 Sect_Stat'!K33 -> 472600 | E42: =C42-B42 -> 294 | F42: =E42/B42 -> 0.00062399715 | G42: =D42-C42 -> 1150 | H42: =G42/C42 -> 0.0024392831 | I42: =D42-B42 -> 1444 | J42: =I42/B42 -> 0.0030648023 | L42: Overheidssector - bedienden | M42: ='Tab3 Sect_Stat'!N16+'Tab3 Sect_Stat'!N21+'Tab3 Sect_Stat'!N25+'Tab3 Sect_Stat'!N29+'Tab3 Sect_Stat'!N33 -> 373641.15 | N42: ='Tab3 Sect_Stat'!O16+'Tab3 Sect_Stat'!O21+'Tab3 Sect_Stat'!O25+'Tab3 Sect_Stat'!O29+'Tab3 Sect_Stat'!O33 -> 372600.16 | O42: ='Tab3 Sect_Stat'!P16+'Tab3 Sect_Stat'!P21+'Tab3 Sect_Stat'!P25+'Tab3 Sect_Stat'!P29+'Tab3 Sect_Stat'!P33 -> 376100 | P42: =N42-M42 -> -1040.99 | Q42: =P42/M42 -> -0.0027860689 | R42: =O42-N42 -> 3499.84 | S42: =R42/N42 -> 0.009393018 | T42: =O42-M42 -> 2458.85 | U42: =T42/M42 -> 0.0065807794
A43: Overheidssector - Ambtenaren | B43: ='Tab3 Sect_Stat'!I17+'Tab3 Sect_Stat'!I22+'Tab3 Sect_Stat'!I26+'Tab3 Sect_Stat'!I30 -> 550156 | C43: ='Tab3 Sect_Stat'!J17+'Tab3 Sect_Stat'!J22+'Tab3 Sect_Stat'!J26+'Tab3 Sect_Stat'!J30+'Tab3 Sect_Stat'!J34 -> 552652 | D43: ='Tab3 Sect_Stat'!K17+'Tab3 Sect_Stat'!K22+'Tab3 Sect_Stat'!K26+'Tab3 Sect_Stat'!K30+'Tab3 Sect_Stat'!K34 -> 554200 | E43: =C43-B43 -> 2496 | F43: =E43/B43 -> 0.004536895 | G43: =D43-C43 -> 1548 | H43: =G43/C43 -> 0.0028010394 | I43: =D43-B43 -> 4044 | J43: =I43/B43 -> 0.0073506424 | L43: Overheidssector - Ambtenaren | M43: ='Tab3 Sect_Stat'!N17+'Tab3 Sect_Stat'!N22+'Tab3 Sect_Stat'!N26+'Tab3 Sect_Stat'!N30 -> 502256.92 | N43: ='Tab3 Sect_Stat'!O17+'Tab3 Sect_Stat'!O22+'Tab3 Sect_Stat'!O26+'Tab3 Sect_Stat'!O30 -> 502542.48 | O43: ='Tab3 Sect_Stat'!P17+'Tab3 Sect_Stat'!P22+'Tab3 Sect_Stat'!P26+'Tab3 Sect_Stat'!P30 -> 505900 | P43: =N43-M43 -> 285.56 | Q43: =P43/M43 -> 0.00056855364 | R43: =O43-N43 -> 3357.52 | S43: =R43/N43 -> 0.006681067 | T43: =O43-M43 -> 3643.08 | U43: =T43/M43 -> 0.0072534192
A44: Totaal | B44: =SUM(B39:B43) -> 4276593 | C44: =SUM(C39:C43) -> 4288680 | D44: =SUM(D39:D43) -> 4291000 | E44: =C44-B44 -> 12087 | F44: =E44/B44 -> 0.0028263152 | G44: =SUM(G39:G43) -> 2320 | H44: =G44/C44 -> 0.00054095899 | I44: =SUM(I39:I43) -> 14407 | J44: =I44/B44 -> 0.0033688032 | L44: Totaal | M44: =SUM(M39:M43) -> 3416093.9 | N44: =SUM(N39:N43) -> 3417143.9 | O44: =SUM(O39:O43) -> 3423000 | P44: =N44-M44 -> 1049.98 | Q44: =P44/M44 -> 0.00030736275 | R44: =O44-N44 -> 5856.14 | S44: =R44/N44 -> 0.0017137528 | T44: =O44-M44 -> 6906.12 | U44: =T44/M44 -> 0.0020216423
A46: meer info | L46: meer info
...

Sheet Tableau Shrt - Résumé
A1: Aperçu Evolution Emploi quatrième Trimestre 2025-2026
A3: plus d'info
A4: Evolution Emploi | B4: 45291 | C4: 45747 | D4: 46112 | E4: 2023-2024 | G4: 2025-2026 | I4: 2023-2025
B5: nombre | C5: nombre | D5: nombre | E5: abs | F5: in % | G5: abs | H5: in % | I5: nombre | J5: en %
A6: Travailleurs occupés | B6: ='Tabel 1 lftd_sexe'!D29 -> 4127206 | C6: ='Tabel 1 lftd_sexe'!E29 -> 4133126 | D6: ='Tabel 1 lftd_sexe'!F29 -> 4129000 | E6: =C6-B6 -> 5920 | F6: =E6/B6 -> 0.0014343844 | G6: =D6-C6 -> -4126 | H6: =G6/C6 -> -0.00099827588 | I6: =D6-B6 -> 1794 | J6: =I6/B6 -> 0.00043467663
A7: Postes de travail | B7: ='Tabel 1 lftd_sexe'!I29 -> 4276593 | C7: ='Tabel 1 lftd_sexe'!J29 -> 4288680 | D7: ='Tabel 1 lftd_sexe'!K29 -> 4291000 | E7: =C7-B7 -> 12087 | F7: =E7/B7 -> 0.0028263152 | G7: =D7-C7 -> 2320 | H7: =G7/C7 -> 0.00054095899 | I7: =D7-B7 -> 14407 | J7: =I7/B7 -> 0.0033688032
A8: Volume de travail en etp | B8: ='Tabel 1 lftd_sexe'!N29 -> 3416093.9 | C8: ='Tabel 1 lftd_sexe'!O29 -> 3417143.9 | D8: ='Tabel 1 lftd_sexe'!P29 -> 3423000 | E8: =C8-B8 -> 1049.98 | F8: =E8/B8 -> 0.00030736275 | G8: =D8-C8 -> 5856.14 | H8: =G8/C8 -> 0.0017137528 | I8: =D8-B8 -> 6906.12 | J8: =I8/B8 -> 0.0020216423
A10: plus d'info | L10: plus d'info
A11: Postes de travail | B11: 45291 | C11: 45747 | D11: 46112 | E11: 2023-2024 | G11: 2025-2026 | I11: 2023-2025 | L11: Volume de travail | M11: 2023Q4 | N11: 2025Q1 | O11: 2026Q1 | P11: 2023-2024 | R11: 2025-2026 | T11: 2023-2025
A12: genre | B12: nombre | C12: nombre | D12: nombre | E12: abs | F12: in % | G12: abs | H12: in % | I12: nombre | J12: en % | L12: genre | M12: volume | N12: volume | O12: volume | P12: abs | Q12: en % | R12: abs | S12: en % | T12: volume | U12: en %
A13: Hommes | B13: ='Tabel 1 lftd_sexe'!I27 -> 2142011 | C13: ='Tabel 1 lftd_sexe'!J27 -> 2146672 | D13: ='Tabel 1 lftd_sexe'!K27 -> 2148500 | E13: =C13-B13 -> 4661 | F13: =E13/B13 -> 0.0021759926 | G13: =D13-C13 -> 1828 | H13: =G13/C13 -> 0.00085155068 | I13: =D13-B13 -> 6489 | J13: =I13/B13 -> 0.0030293962 | L13: Hommes | M13: 1858874.2 | N13: ='Tabel 1 lftd_sexe'!O27 -> 1831081.2 | O13: ='Tabel 1 lftd_sexe'!P27 -> 1830300 | P13: =N13-M13 -> -27793.09 | Q13: =P13/M13 -> -0.014951571 | R13: =O13-N13 -> -781.16 | S13: =R13/N13 -> -0.00042661135 | T13: =O13-M13 -> -28574.25 | U13: =T43/M13 -> -0.34224773
A14: Femmes | B14: ='Tabel 1 lftd_sexe'!I28 -> 2134582 | C14: ='Tabel 1 lftd_sexe'!J28 -> 2142008 | D14: ='Tabel 1 lftd_sexe'!K28 -> 2142500 | E14: =C14-B14 -> 7426 | F14: =E14/B14 -> 0.0034789013 | G14: =D14-C14 -> 492 | H14: =G14/C14 -> 0.00022969102 | I14: =D14-B14 -> 7918 | J14: =I14/B14 -> 0.0037093913 | L14: Femmes | M14: 1601595.2 | N14: ='Tabel 1 lftd_sexe'!O28 -> 1586062.7 | O14: ='Tabel 1 lftd_sexe'!P28 -> 1592700 | P14: =N14-M14 -> -15532.47 | Q14: =P14/M14 -> -0.0096981249 | R14: =O14-N14 -> 6637.3 | S14: =R14/N14 -> 0.0041847652 | T14: =O14-M14 -> -8895.17 | U14: =T44/M14 -> -0.084689435
A15: Total | B15: ='Tabel 1 lftd_sexe'!I29 -> 4276593 | C15: ='Tabel 1 lftd_sexe'!J29 -> 4288680 | D15: ='Tabel 1 lftd_sexe'!K29 -> 4291000 | E15: =C15-B15 -> 12087 | F15: =E15/B15 -> 0.0028263152 | G15: =SUM(G13:G14) -> 2320 | H15: =G15/C15 -> 0.00054095899 | I15: =SUM(I13:I14) -> 14407 | J15: =I15/B15 -> 0.0033688032 | L15: Total | M15: =SUM(M13:M14) -> 3460469.4 | N15: =SUM(N13:N14) -> 3417143.9 | O15: =SUM(O13:O14) -> 3423000 | P15: =N15-M15 -> -43325.56 | Q15: =P15/M15 -> -0.01252014 | R15: =O15-N15 -> 5856.14 | S15: =R15/N15 -> 0.0017137528 | T15: =O15-M15 -> -37469.42 | U15: =T45/M15 -> 0
A17: plus d'info | L17: plus d'info
A18: Postes de travail | B18: 45291 | C18: 45747 | D18: 46112 | E18: 2023-2024 | G18: 2025-2026 | I18: 2023-2025 | L18: Volume de travail | M18: 2023Q4 | N18: 2025Q1 | O18: 2026Q1 | P18: 2023-2024 | R18: 2025-2026 | T18: 2023-2025
A19: Age | B19: nombre | C19: nombre | D19: nombre | E19: abs | F19: in % | G19: abs | H19: in % | I19: nombre | J19: en % | L19: Age | M19: volume | N19: volume | O19: volume | P19: abs | Q19: en % | R19: abs | S19: en % | T19: abs | U19: en %
A20: <25 | B20: ='Tabel 1 lftd_sexe'!I12 -> 282611 | C20: ='Tabel 1 lftd_sexe'!J12 -> 280423 | D20: ='Tabel 1 lftd_sexe'!K12 -> 271800 | E20: =C20-B20 -> -2188 | F20: =E20/B20 -> -0.0077420907 | G20: =D20-C20 -> -8623 | H20: =G20/C20 -> -0.030749974 | I20: =D20-B20 -> -10811 | J20: =I20/B20 -> -0.038253996 | L20: <25 | M20: 244761.83 | N20: ='Tabel 1 lftd_sexe'!O12 -> 229429.98 | O20: ='Tabel 1 lftd_sexe'!P12 -> 221600 | P20: =N20-M20 -> -15331.85 | Q20: =P20/M20 -> -0.062639873 | R20: =O20-N20 -> -7829.98 | S20: =R20/N20 -> -0.034127972 | T20: =O20-M20 -> -23161.83 | U20: =T40/M20 -> 6.2865194
A21: 25 - 39 | B21: ='Tabel 1 lftd_sexe'!I15 -> 1589063 | C21: ='Tabel 1 lftd_sexe'!J15 -> 1586783 | D21: ='Tabel 1 lftd_sexe'!K15 -> 1576000 | E21: =C21-B21 -> -2280 | F21: =E21/B21 -> -0.0014348078 | G21: =D21-C21 -> -10783 | H21: =G21/C21 -> -0.0067955102 | I21: =D21-B21 -> -13063 | J21: =I21/B21 -> -0.0082205677 | L21: 25 - 39 | M21: 1338293 | N21: ='Tabel 1 lftd_sexe'!O15 -> 1314108.3 | O21: ='Tabel 1 lftd_sexe'!P15 -> 1303300 | P21: =N21-M21 -> -24184.74 | Q21: =P21/M21 -> -0.018071334 | R21: =O21-N21 -> -10808.29 | S21: =R21/N21 -> -0.0082248092 | T21: =O21-M21 -> -34993.03 | U21: =T41/M21 -> -0.21207711
A22: 40 - 49 | B22: ='Tabel 1 lftd_sexe'!I18 -> 1047412 | C22: ='Tabel 1 lftd_sexe'!J18 -> 1052307 | D22: ='Tabel 1 lftd_sexe'!K18 -> 1057000 | E22: =C22-B22 -> 4895 | F22: =E22/B22 -> 0.0046734236 | G22: =D22-C22 -> 4693 | H22: =G22/C22 -> 0.0044597252 | I22: =D22-B22 -> 9588 | J22: =I22/B22 -> 0.009153991 | L22: 40 - 49 | M22: 865648.4 | N22: ='Tabel 1 lftd_sexe'!O18 -> 859215.95 | O22: ='Tabel 1 lftd_sexe'!P18 -> 865800 | P22: =N22-M22 -> -6432.45 | Q22: =P22/M22 -> -0.0074307883 | R22: =O22-N22 -> 6584.05 | S22: =R22/N22 -> 0.0076628582 | T22: =O22-M22 -> 151.6 | U22: =T42/M22 -> -0.13526934
A23: 50 - 64 | B23: ='Tabel 1 lftd_sexe'!I21 -> 1304661 | C23: ='Tabel 1 lftd_sexe'!J21 -> 1306165 | D23: ='Tabel 1 lftd_sexe'!K21 -> 1304000 | E23: =C23-B23 -> 1504 | F23: =E23/B23 -> 0.0011527899 | G23: =D23-C23 -> -2165 | H23: =G23/C23 -> -0.0016575241 | I23: =D23-B23 -> -661 | J23: =I23/B23 -> -0.00050664502 | L23: 50 - 64 | M23: 987590.81 | N23: ='Tabel 1 lftd_sexe'!O21 -> 985769.3 | O23: ='Tabel 1 lftd_sexe'!P21 -> 992200 | P23: =N23-M23 -> -1821.51 | Q23: =P23/M23 -> -0.0018443975 | R23: =O23-N23 -> 6430.7 | S23: =R23/N23 -> 0.0065235345 | T23: =O23-M23 -> 4609.19 | U23: =T43/M23 -> -0.64418936
A24: 65 et plus | B24: ='Tabel 1 lftd_sexe'!I24 -> 52846 | C24: ='Tabel 1 lftd_sexe'!J24 -> 63002 | D24: ='Tabel 1 lftd_sexe'!K24 -> 82200 | E24: =C24-B24 -> 10156 | F24: =E24/B24 -> 0.19218105 | G24: =D24-C24 -> 19198 | H24: =G24/C24 -> 0.30472049 | I24: =D24-B24 -> 29354 | J24: =I24/B24 -> 0.55546304 | L24: 65 et plus | M24: 24175.35 | N24: ='Tabel 1 lftd_sexe'!O24 -> 28620.34 | O24: ='Tabel 1 lftd_sexe'!P24 -> 40100 | P24: =N24-M24 -> 4444.99 | Q24: =P24/M24 -> 0.18386456 | R24: =O24-N24 -> 11479.66 | S24: =R24/N24 -> 0.40110145 | T24: =O24-M24 -> 15924.65 | U24: =T44/M24 -> -5.6105988
A25: Total | B25: =SUM(B20:B24) -> 4276593 | C25: =SUM(C20:C24) -> 4288680 | D25: =SUM(D20:D24) -> 4291000 | E25: =C25-B25 -> 12087 | F25: =E25/B25 -> 0.0028263152 | G25: =SUM(G20:G24) -> 2320 | H25: =G25/C25 -> 0.00054095899 | I25: =SUM(I20:I24) -> 14407 | J25: =I25/B25 -> 0.0033688032 | L25: Total | M25: =SUM(M20:M24) -> 3460469.4 | N25: =SUM(N20:N24) -> 3417143.9 | O25: =SUM(O20:O24) -> 3423000 | P25: =N25-M25 -> -43325.56 | Q25: =P25/M25 -> -0.01252014 | R25: =O25-N25 -> 5856.14 | S25: =R25/N25 -> 0.0017137528 | T25: =O25-M25 -> -37469.42 | U25: =T45/M25 -> 0
A27: plus d'info | L27: plus d'info
A28: Postes de travail | B28: 45291 | C28: 45747 | D28: 46112 | E28: 2023-2024 | G28: 2025-2026 | I28: 2023-2025 | L28: Volume de travail | M28: 2023Q4 | N28: 2025Q1 | O28: 2026Q1 | P28: 2023-2024 | R28: 2025-2026 | T28: 2023-2025
A29: Activité (Nace) | B29: nombre | C29: nombre | D29: nombre | E29: abs | F29: in % | G29: abs | H29: in % | I29: nombre | J29: en % | L29: Activité (Nace) | M29: volume | N29: volume | O29: volume | P29: abs | Q29: en % | R29: abs | S29: en % | T29: abs | U29: en %
A30: Agriculture, sylviculture et pêche | C30: ='Tab2 Activité_NACE'!J8 -> 25409 | D30: ='Tab2 Activité_NACE'!K8 -> 26700 | G30: =D30-C30 -> 1291 | H30: =G30/C30 -> 0.050808769 | L30: Agriculture, sylviculture et pêche | N30: ='Tab2 Activité_NACE'!O8 -> 20887.33 | O30: ='Tab2 Activité_NACE'!P8 -> 22000 | R30: =O30-N30 -> 1112.67 | S30: =R30/N30 -> 0.053270092
A31: Industries, énergie et construction | C31: ='Tab2 Activité_NACE'!J9 -> 736164 | D31: ='Tab2 Activité_NACE'!K9 -> 726500 | G31: =D31-C31 -> -9664 | H31: =G31/C31 -> -0.01312751 | L31: Industries, énergie et construction | N31: ='Tab2 Activité_NACE'!O9 -> 622350.56 | O31: ='Tab2 Activité_NACE'!P9 -> 616000 | R31: =O31-N31 -> -6350.56 | S31: =R31/N31 -> -0.010204152
A32: Services commerciaux | C32: ='Tab2 Activité_NACE'!J12 -> 1692815 | D32: ='Tab2 Activité_NACE'!K12 -> 1699200 | G32: =D32-C32 -> 6385 | H32: =G32/C32 -> 0.0037718239 | L32: Services commerciaux | N32: ='Tab2 Activité_NACE'!O12 -> 1364675.9 | O32: ='Tab2 Activité_NACE'!P12 -> 1364600 | R32: =O32-N32 -> -75.92 | S32: =R32/N32 -> -5.5632256e-05
A33: Services non-commerciaux | C33: ='Tab2 Activité_NACE'!J18 -> 1834292 | D33: ='Tab2 Activité_NACE'!K18 -> 1838600 | G33: =D33-C33 -> 4308 | H33: =G33/C33 -> 0.0023485901 | L33: Services non-commerciaux | N33: ='Tab2 Activité_NACE'!O18 -> 1409230 | O33: ='Tab2 Activité_NACE'!P18 -> 1420400 | R33: =O33-N33 -> 11169.95 | S33: =R33/N33 -> 0.0079262786
A34: Total | C34: =SUM(C30:C33) -> 4288680 | D34: =SUM(D30:D33) -> 4291000 | G34: =SUM(G30:G33) -> 2320 | H34: =G34/C34 -> 0.00054095899 | L34: Total | N34: =SUM(N30:N33) -> 3417143.9 | O34: =SUM(O30:O33) -> 3423000 | R34: =O34-N34 -> 5856.14 | S34: =R34/N34 -> 0.0017137528
A36: plus d'info | L36: plus d'info
A37: Postes de travail | B37: 45291 | C37: 45747 | D37: 46112 | E37: 2023-2024 | G37: 2025-2026 | I37: 2023-2025 | L37: Volume de travail | M37: 2023Q4 | N37: 2025Q1 | O37: 2026Q1 | P37: 2023-2024 | R37: 2025-2026 | T37: 2023-2025
A38: Secteur/statut | B38: nombre | C38: nombre | D38: nombre | E38: abs | F38: in % | G38: abs | H38: in % | I38: nombre | J38: en % | L38: Secteur/statut | M38: volume | N38: volume | O38: volume | P38: abs | Q38: en % | R38: abs | S38: en % | T38: abs | U38: en %
A39: Secteur privé - Ouvriers | B39: ='Tab3 Sect_Stat'!I10 -> 1283969 | C39: ='Tab3 Sect_Stat'!J10 -> 1279760 | D39: ='Tab3 Sect_Stat'!K10 -> 1275000 | E39: =C39-B39 -> -4209 | F39: =E39/B39 -> -0.0032781165 | G39: =D39-C39 -> -4760 | H39: =G39/C39 -> -0.0037194474 | I39: =D39-B39 -> -8969 | J39: =I39/B39 -> -0.0069853711 | L39: Secteur privé - Ouvriers | M39: 1544025.7 | N39: ='Tab3 Sect_Stat'!O10 -> 910841.67 | O39: ='Tab3 Sect_Stat'!P10 -> 906800 | P39: =N39-M39 -> -633184.02 | Q39: =P39/M39 -> -0.41008645 | R39: =O39-N39 -> -4041.67 | S39: =R39/N39 -> -0.0044372915 | T39: =O39-M39 -> -637225.69 | U39: =T49/M39 -> 0.74510396
A40: Secteur privé - Employés | B40: ='Tab3 Sect_Stat'!I11 -> 1839419 | C40: ='Tab3 Sect_Stat'!J11 -> 1852306 | D40: ='Tab3 Sect_Stat'!K11 -> 1858500 | E40: =C40-B40 -> 12887 | F40: =E40/B40 -> 0.0070060166 | G40: =D40-C40 -> 6194 | H40: =G40/C40 -> 0.0033439399 | I40: =D40-B40 -> 19081 | J40: =I40/B40 -> 0.010373384 | L40: Secteur privé - Employés | M40: 0 | N40: ='Tab3 Sect_Stat'!O11 -> 1535963.8 | O40: ='Tab3 Sect_Stat'!P11 -> 1538700 | P40: =N40-M40 -> 1535963.8 | Q40: =P40/M40 -> #DIV/0! | R40: =O40-N40 -> 2736.19 | S40: =R40/N40 -> 0.0017814157 | T40: =O40-M40 -> 1538700 | U40: =T40/M40 -> #DIV/0!
A41: Secteur public - Ouvriers | B41: ='Tab3 Sect_Stat'!I15+'Tab3 Sect_Stat'!I20+'Tab3 Sect_Stat'!I24+'Tab3 Sect_Stat'!I28+'Tab3 Sect_Stat'!I32 -> 131893 | C41: ='Tab3 Sect_Stat'!J15+'Tab3 Sect_Stat'!J20+'Tab3 Sect_Stat'!J24+'Tab3 Sect_Stat'!J28+'Tab3 Sect_Stat'!J32 -> 132512 | D41: ='Tab3 Sect_Stat'!K15+'Tab3 Sect_Stat'!K20+'Tab3 Sect_Stat'!K24+'Tab3 Sect_Stat'!K28+'Tab3 Sect_Stat'!K32 -> 130700 | E41: =C41-B41 -> 619 | F41: =E41/B41 -> 0.0046931983 | G41: =D41-C41 -> -1812 | H41: =G41/C41 -> -0.013674233 | I41: =D41-B41 -> -1193 | J41: =I41/B41 -> -0.0090452109 | L41: Secteur public - Ouvriers | M41: 379321.32 | N41: ='Tab3 Sect_Stat'!O15+'Tab3 Sect_Stat'!O20+'Tab3 Sect_Stat'!O24+'Tab3 Sect_Stat'!O28+'Tab3 Sect_Stat'!O32 -> 95195.74 | O41: ='Tab3 Sect_Stat'!P15+'Tab3 Sect_Stat'!P20+'Tab3 Sect_Stat'!P24+'Tab3 Sect_Stat'!P28+'Tab3 Sect_Stat'!P32 -> 95500 | P41: =N41-M41 -> -284125.58 | Q41: =P41/M41 -> -0.74903667 | R41: =O41-N41 -> 304.26 | S41: =R41/N41 -> 0.0031961514 | T41: =O41-M41 -> -283821.32 | U41: =T41/M41 -> -0.74823456
A42: Secteur public - Employés | B42: ='Tab3 Sect_Stat'!I16+'Tab3 Sect_Stat'!I21+'Tab3 Sect_Stat'!I25+'Tab3 Sect_Stat'!I29+'Tab3 Sect_Stat'!I33 -> 471156 | C42: ='Tab3 Sect_Stat'!J16+'Tab3 Sect_Stat'!J21+'Tab3 Sect_Stat'!J25+'Tab3 Sect_Stat'!J29+'Tab3 Sect_Stat'!J33 -> 471450 | D42: ='Tab3 Sect_Stat'!K16+'Tab3 Sect_Stat'!K21+'Tab3 Sect_Stat'!K25+'Tab3 Sect_Stat'!K29+'Tab3 Sect_Stat'!K33 -> 472600 | E42: =C42-B42 -> 294 | F42: =E42/B42 -> 0.00062399715 | G42: =D42-C42 -> 1150 | H42: =G42/C42 -> 0.0024392831 | I42: =D42-B42 -> 1444 | J42: =I42/B42 -> 0.0030648023 | L42: Secteur public - Employés | M42: 493195.69 | N42: ='Tab3 Sect_Stat'!O16+'Tab3 Sect_Stat'!O21+'Tab3 Sect_Stat'!O25+'Tab3 Sect_Stat'!O29+'Tab3 Sect_Stat'!O33 -> 372600.16 | O42: ='Tab3 Sect_Stat'!P16+'Tab3 Sect_Stat'!P21+'Tab3 Sect_Stat'!P25+'Tab3 Sect_Stat'!P29+'Tab3 Sect_Stat'!P33 -> 376100 | P42: =N42-M42 -> -120595.53 | Q42: =P42/M42 -> -0.24451862 | R42: =O42-N42 -> 3499.84 | S42: =R42/N42 -> 0.009393018 | T42: =O42-M42 -> -117095.69 | U42: =T42/M42 -> -0.23742237
A43: Secteur public - Fonctionnaires | B43: ='Tab3 Sect_Stat'!I17+'Tab3 Sect_Stat'!I22+'Tab3 Sect_Stat'!I26+'Tab3 Sect_Stat'!I30 -> 550156 | C43: ='Tab3 Sect_Stat'!J17+'Tab3 Sect_Stat'!J22+'Tab3 Sect_Stat'!J26+'Tab3 Sect_Stat'!J30 -> 552652 | D43: ='Tab3 Sect_Stat'!K17+'Tab3 Sect_Stat'!K22+'Tab3 Sect_Stat'!K26+'Tab3 Sect_Stat'!K30 -> 554200 | E43: =C43-B43 -> 2496 | F43: =E43/B43 -> 0.004536895 | G43: =D43-C43 -> 1548 | H43: =G43/C43 -> 0.0028010394 | I43: =D43-B43 -> 4044 | J43: =I43/B43 -> 0.0073506424 | L43: Secteur public - Fonctionnaires | M43: 1142095.5 | N43: ='Tab3 Sect_Stat'!O17+'Tab3 Sect_Stat'!O22+'Tab3 Sect_Stat'!O26+'Tab3 Sect_Stat'!O30 -> 502542.48 | O43: ='Tab3 Sect_Stat'!P17+'Tab3 Sect_Stat'!P22+'Tab3 Sect_Stat'!P26+'Tab3 Sect_Stat'!P30 -> 505900 | P43: =N43-M43 -> -639553.01 | Q43: =P43/M43 -> -0.55998208 | R43: =O43-N43 -> 3357.52 | S43: =R43/N43 -> 0.006681067 | T43: =O43-M43 -> -636195.49 | U43: =T43/M43 -> -0.55704229
A44: Total | B44: =SUM(B39:B43) -> 4276593 | C44: =SUM(C39:C43) -> 4288680 | D44: =SUM(D39:D43) -> 4291000 | E44: =C44-B44 -> 12087 | F44: =E44/B44 -> 0.0028263152 | G44: =SUM(G39:G43) -> 2320 | H44: =G44/C44 -> 0.00054095899 | I44: =SUM(I39:I43) -> 14407 | J44: =I44/B44 -> 0.0033688032 | L44: Total | M44: =SUM(M39:M43) -> 3558638.2 | N44: =SUM(N39:N43) -> 3417143.9 | O44: =SUM(O39:O43) -> 3423000 | P44: =N44-M44 -> -141494.33 | Q44: =P44/M44 -> -0.039760808 | R44: =O44-N44 -> 5856.14 | S44: =R44/N44 -> 0.0017137528 | T44: =O44-M44 -> -135638.19 | U44: =T44/M44 -> -0.038115195
A46: plus d'info | L46: plus d'info
...

Sheet Tabel 1 lftd_sexe
A1: Terug lijst van de tabellen
