Workbook

Sheet Handleiding-Manuel
A2: Handleiding - ruwe data /Manuel Données Brutes
A4: In volgende tabbladen worden alle tabellen van de arbeidsmarktanalyse in lijstvorm opgenomen. Op deze manier kan u eenvoudig alle gegevens zelf indelen volgens eigen behoeften
A5: Dans les feuilles suivantes, tous les tableaux de l'analyse du marché du travail sont repris sous forme de listes. Ceci vous permet de présenter aisément les données selon vos propres besoins
B7: Dimensies | C7: Dimensions
A8: Data_tab1 | B8: Leeftijdsklasse en geslacht | C8: Classe d'âge et sexe
A9: Data_tab2 | B9: Activiteit van de werkgever Nace 2025 | C9: Activité de l'employeur Nace 2025
A10: Data_tab3 | B10: Sector, entiteit overheidssector en statuut | C10: Secteur, entité secteur public, statut
A11: Data_tab4 | B11: Hoofdverblijfplaats van de werknemer | C11: Résidence principale du travailleur
A12: Data_tab5 | B12: Prestatietype en arbeidsduur | C12: Type de prestation et durée de travail
A13: Data_tab6 | B13: Sector en dimensie (grootteklasse) van de werkgever | C13: Secteur et dimension(taille) de l'employeur
A14: Data_tab7 | B14: Sectorgroep (paritair comite) van de werknemer | C14: Groupe sectoriel (commission paritaire) du travailleur
A15: Data_tab8 | B15: (Klassieke) Uitzendarbeid naar activiteit van de gebruiker | C15: Travail intérimaire (classique) par activté de l'utilisateur
A16: Data_tab9 | B16: (Bijzondere) Uitzendarbeid naar activiteit van de gebruiker | C16: Travail intérimaire (particulier) par activté de l'utilisateur
A18: Opmerking: De gegevens van het meest recente kwartaal zijn ramingen en worden daarom als afgeronde cijfers opgenomen in de ruwe data. Bij de volgende publicatie worden deze gegevens geactualiseerd.
A19: Remarque: Les données du trimestre le plus récent sont des estimations et sont dès lors reprises comme des chiffres arrondis dans les données brutes. Elles seront actualisées lors de la publication prochaine.
A21: Overzicht gegevens - Résumé des données
A22: Tevens kan u de samenvatting van de meest recente evolutie terugvinden zoals voorheen in de publicaties gepresenteerd
A23: Vous pouvez également retrouver un résumé des évolutions les plus récentes présentées comme avant dans les publications
A25: Opmerking 1: In 2025 werd de NACE-nomenclatuur 2008 ingeruild voor de NACE-nomenclatuur 2025. Een heel aantal NACE-codes bleven overanderd, maar dat geldt zeker niet voor alle codes. In dit tabblad - en ook in de volgende tabbladen met een vermelding van NACE 25 - brengen we dan ook de verdeling van de gegevens naar NACE- sectie volgens de NACE 25 nomenclatuur. Voor 2025 is dat vanzelfsprekend, maar ook voor de gegevens uit 2024 geven we hier de verdeling volgens NACE 25. We creëren als het ware een fictieve situatie waarin de nieuwe NACE-nomenclatuur 2025 al van kracht was in 2024. Dat is noodzakelijk om de gegevens uit 2025 te vergelijken met hun tegenhanger uit 2024. Deze retropolatie beperkt zich tot de 4 kwartalen van 2024. Voor de voorgaande kwartalen voorzien we enkel een verdeling naar de destijds van toepassing zijnde NACE-nomenclatuur 2008. Remarque 1: En 2025, la nomenclature NACE 2008 a été remplacée par la nomenclature NACE 2025. Un certain nombre de codes NACE sont demeurés inchangés, mais cette stabilité ne s’applique pas à l’ensemble des codes. Dès lors, le présent onglet - et aussi les onglets suivants avec une mention du NACE 25 - présente la répartition des données par section NACE selon la nomenclature NACE 2025. Pour l’année 2025, cette approche s’impose naturellement ; toutefois, pour les données relatives à l’année 2024, la répartition est également fournie sur la base de la nomenclature NACE 2025. Il s’agit ainsi de créer une situation fictive dans laquelle la nouvelle nomenclature NACE 2025 aurait déjà été d’application en 2024. Cette démarche est indispensable afin de permettre une comparaison cohérente entre les données de 2025 et celles de 2024. Pour les trimestres précédents, nous ne prévoyons qu’une répartition selon la nomenclature NACE 2008 alors en vigueur.
A27: Opmerking 2: De Kruispuntbank Sociale Zekerheid (KSZ) kende vanaf 2018 tot eind 2024 problemen met het up to date houden van de woonplaatsgegevens en dat had ook gevolgen voor onze statistieken. De onnauwkeurigheden werden ondertussen gecorrigeerd voor wat betreft de data uit 2023 en 2024. De onderstaande tabel is voor wat betreft de vier kwartalen van 2023 en 2024 dan ook gebaseerd op de gecorrigeerde woonplaatsgegevens waardoor de cijfers kunnen afwijken van eerder gepubliceerde verdelingen naar woonplaats. U vindt hieronder zowel de gecorrigeerde gegevens als de gegevens die we in het verleden publiceerden op basis van afwijkende KSZ-data. De gegevens van de voorgaande jaren zullen worden gecorrigeerd van zodra we over de gecorrigeerde gegevens beschikken. De indeling van de provincies is zoals die vanaf 2025 gelden: de vroegere gemeente Zwijndrecht is dus overal opgenomen in de provincie Oost-Vlaanderen Remarque 2 : La Banque-carrefour de la Sécurité sociale (BCSS) a rencontré, de 2018 à fin 2024, des difficultés pour maintenir à jour les données relatives au lieu de résidence, ce qui a également eu des répercussions sur nos statistiques. Les inexactitudes ont entre-temps été corrigées pour ce qui concerne les données de 2023 et 2024. Le tableau ci-dessous, pour les quatre trimestres de 2023 et 2024, est donc basé sur les données corrigées relatives au lieu de résidence, ce qui peut entraîner des écarts par rapport aux répartitions publiées précédemment selon le lieu de résidence. Vous trouverez ci-dessous à la fois les données corrigées et les données que nous avions publiées par le passé sur la base des données erronées de la BCSS. Les données des années antérieures seront corrigées dès que nous disposerons des données rectifiées. La répartition par Province est celle des provinces actuelles: ceci implique que l'ancienne commune Zwijndrecht est partout inclus dans la Province de la Flandre-Orientale.
A29: Opmerking 3: De invoering van nieuwe paritaire subcomités voor de bedienden van de gesubsidieerde vrije universiteiten van de Gemeenschappen heeft in het derde kwartaal 2025 geleid tot een verschuiving van een 13.000 arbeidsplaatsen van PC 999 naar PC 225. Aangezien nog niet alle universiteiten deze aanpassing al hebben doorgevoerd zullen er zich in de volgende kwartalen nog gelijkaardige verschuivingen voordoen. Anderzijds vallen 2.500 arbeidsplaatsen van werknemers die arbeid verrichten in het kader van een persoonlijk assistentiebudget zonder arbeidsovereenkomst vanaf 2025/3 niet langer onder pc 337 opgenomen maar wel onder PC 999. (De werkgevers van deze werknemers verschuiven eveneens van pc 337 naar PC 999. Het gaat hierbij om ongeveer 1.730 werkgevers.) Remarque 3 : L’introduction de nouveaux sous-comités paritaires pour les employés des universités libres subventionnées des Communautés a entraîné, au troisième trimestre 2025, le transfert d’environ 13.000 postes de travail du CP 999 vers le CP 225. Étant donné que toutes les universités n’ont pas encore appliqué cette modification, des transferts similaires continueront à se produire au cours des prochains trimestres. Par ailleurs, à partir du troisième trimestre 2025, 2.500 postes de travail occupés par des travailleurs qui effectuent des prestations dans le cadre d’un budget d’assistance personnelle sans contrat de travail ne relèveront plus repris de la CP 337 , mais de la CP 999. (Les employeurs de ces travailleurs passeront également de la CP 337 à la CP 999. Cela concerne environ 1 730 employeurs.)

Sheet Data -tab_1
A1: Kwartaal Trimestre | B1: Lftdsklasse (glob) | C1: Leeftijdsklasse - Classe d'age | D1: Geslacht - Sexe | E1: tewerkgestelde werknemers - Travailleurs occupés | F1: arbeidsplaatsen - postes de travail | G1: VTE - ETP
A2: 20261 | B2: A0024 | C2: <25 | D2: Man - Homme | E2: 154000 | F2: 158500 | G2: 134200
A3: 20261 | B3: A0024 | C3: <25 | D3: Vrouw - Femme | E3: 108000 | F3: 113300 | G3: 87400
A4: 20261 | B4: A2539 | C4: 25-39 | D4: Man - Homme | E4: 752600 | F4: 782400 | G4: 689000
A5: 20261 | B5: A2539 | C5: 25-39 | D5: Vrouw - Femme | E5: 756800 | F5: 793600 | G5: 614300
A6: 20261 | B6: A4049 | C6: 40-49 | D6: Man - Homme | E6: 497800 | F6: 515500 | G6: 451400
A7: 20261 | B7: A4049 | C7: 40-49 | D7: Vrouw - Femme | E7: 517700 | F7: 541500 | G7: 414400
A8: 20261 | B8: A5064 | C8: 50-64 | D8: Man - Homme | E8: 630400 | F8: 647700 | G8: 532100
A9: 20261 | B9: A5064 | C9: 50-64 | D9: Vrouw - Femme | E9: 632800 | F9: 656300 | G9: 460100
A10: 20261 | B10: A6599 | C10: >=65 | D10: Man - Homme | E10: 42800 | F10: 44400 | G10: 23600
A11: 20261 | B11: A6599 | C11: >=65 | D11: Vrouw - Femme | E11: 36100 | F11: 37800 | G11: 16500
A12: 20254 | B12: A0024 | C12: <25 | D12: Man - Homme | E12: 158239 | F12: 162739 | G12: 141432.38
A13: 20254 | B13: A0024 | C13: <25 | D13: Vrouw - Femme | E13: 114058 | F13: 119234 | G13: 92568.55
... A171: 20221 | B171: A6599 | C171: >=65 | D171: Vrouw - Femme | E171: 15649 | F171: 16269 | G171: 6687.44

Sheet Data_tab_2
A1: Opmerking: In 2025 werd de NACE-nomenclatuur 2008 ingeruild voor de NACE-nomenclatuur 2025. Een heel aantal NACE-codes bleven overanderd, maar dat geldt zeker niet voor alle codes. In dit tabblad brengen dan ook een verdeling van de gegevens naar NACE- sectie volgens de NACE 25 nomenclatuur. Voor 2025 is dat vanzelfsprekend, maar ook voor de gegevens uit 2024 geven we hier de verdeling volgens NACE 25. We creëren als het ware een fictieve situatie waarin de nieuwe NACE-nomenclatuur 2025 al van kracht was in 2024. Dat is noodzakelijk om de gegevens uit 2025 te vergelijken met hun tegenhanger uit 2024. Deze retropolatie beperkt zich tot de 4 kwartalen van 2024. Voor de voorgaande kwartalen voorzien we enkel een verdeling naar de destijds van toepassing zijnde NACE-nomenclatuur 2008. Remarque: En 2025, la nomenclature NACE 2008 a été remplacée par la nomenclature NACE 2025. Un certain nombre de codes NACE sont demeurés inchangés, mais cette stabilité ne s’applique pas à l’ensemble des codes. Dès lors, le présent onglet présente la répartition des données par section NACE selon la nomenclature NACE 2025. Pour l’année 2025, cette approche s’impose naturellement ; toutefois, pour les données relatives à l’année 2024, la répartition est également fournie sur la base de la nomenclature NACE 2025. Il s’agit ainsi de créer une situation fictive dans laquelle la nouvelle nomenclature NACE 2025 aurait déjà été d’application en 2024. Cette démarche est indispensable afin de permettre une comparaison cohérente entre les données de 2025 et celles de 2024. Pour les trimestres précédents, nous ne prévoyons qu’une répartition selon la nomenclature NACE 2008 alors en vigueur.
A2: ANTRIM | B2: Versie | C2: Sectie Nace -Nace Section | D2: Activiteit Werkgever (NACE-Bel 2025) | E2: Activité Employeur (NACE-Bel 2025) | F2: tewerkgestelde werknemers - Travailleurs occupés | G2: arbeidsplaatsen - postes de travail | H2: VTE - ETP
A3: 20261 | B3: 04e | C3: A | D3: Landbouw, bosbouw en visserij | E3: Agriculture, chasse, sylviculture et pêche | F3: 25900 | G3: 26700 | H3: 22000
A4: 20261 | B4: 04e | C4: BCDE | D4: Winning van delfstoffen, Industrie, Productie en distributie van elektriciteit, gas, stoom, gekoelde lucht en water, Afvalbeheer | E4: Industries extractives, industrie, production et distribution d'électricité, de gaz, de vapeur, d'air conditionné et d'eau, gestion des déchets | F4: 514500 | G4: 519800 | H4: 448800
A5: 20261 | B5: 04e | C5: F | D5: Bouwnijverheid | E5: Construction | F5: 205500 | G5: 206700 | H5: 167200
A6: 20261 | B6: 04e | C6: GHI | D6: Handel, vervoer en opslag, Verschaffen van accommodatie en maaltijden | E6: Commerce, transports et entreposage, Hébergement et restauration | F6: 837500 | G6: 894700 | H6: 701500
A7: 20261 | B7: 04e | C7: JK | D7: Informatie en communicatie | E7: Information et communication | F7: 122600 | G7: 123200 | H7: 114800
A8: 20261 | B8: 04e | C8: L | D8: Financiële activiteiten en verzekeringen | E8: Activités financières et assurances | F8: 119100 | G8: 119800 | H8: 106800
A9: 20261 | B9: 04e | C9: M | D9: Exploitatie van en handel in onroerend goed | E9: Activités immobilières | F9: 25500 | G9: 26500 | H9: 21700
A10: 20261 | B10: 04e | C10: NO | D10: Administratieve, ondersteunende en gespecialiseerde diensten | E10: Activités de services administratifs, de soutien et spécialisés | F10: 494500 | G10: 535000 | H10: 419800
A11: 20261 | B11: 04e | C11: PQ | D11: Openbaar bestuur en Onderwijs | E11: Administration publique et enseignement | F11: 918600 | G11: 948700 | H11: 799200
A12: 20261 | B12: 04e | C12: R | D12: Menselijke gezondheidszorg en maatschappelijke dienstverlening | E12: Santé humaine et action sociale | F12: 599600 | G12: 610500 | H12: 438000
A13: 20261 | B13: 04e | C13: STUV | D13: Kunst amusement en recreatie, Overige diensten, diversen | E13: Arts, spectacles et activités récréatives, Autres services, divers | F13: 265700 | G13: 279400 | H13: 183200
A14: 20254 | B14: 07e | C14: A | D14: Landbouw, bosbouw en visserij | E14: Agriculture, chasse, sylviculture et pêche | F14: 19424 | G14: 19965 | H14: 23808.93
... A101: 20241 | B101: 07e | C101: STUV | D101: Kunst amusement en recreatie, Overige diensten, diversen | E101: Arts, spectacles et activités récréatives, Autres services, divers | F101: 259668 | G101: 272661 | H101: 180758.47

Sheet Data_tab_3
A1: Kwartaal | B1: Sector WG | C1: L Sector WG | D1: L Secteur Empl | E1: PO_GRP2 | F1: wkn type | G1: Hoedanigheid - statut | H1: Entiteit overheidssector | I1: Entité secteur public | J1: tewerkgestelde werknemers - Travailleurs occupés | K1: arbeidsplaatsen - postes de travail | L1: VTE - ETP
A2: 20261 | B2: 1 | C2: Privé | D2: Privé | E2: P | F2: 1_ARB | G2: Arbeider - Ouvrier | H2: Privé | I2: Privé | J2: 1201000 | K2: 1275000 | L2: 906800
A3: 20261 | B3: 1 | C3: Privé | D3: Privé | E3: P | F3: 2_BED | G3: BED | H3: Privé | I3: Privé | J3: 1800500 | K3: 1858500 | L3: 1538700
A4: 20261 | B4: 2 | C4: Openbaar | D4: Public | E4: 1 | F4: 1_ARB | G4: Arbeider - Ouvrier | H4: Federaal | I4: Fédéral | J4: 3700 | K4: 3800 | L4: 2800
A5: 20261 | B5: 2 | C5: Openbaar | D5: Public | E5: 1 | F5: 2_BED | G5: BED | H5: Federaal | I5: Fédéral | J5: 52000 | K5: 52800 | L5: 46000
A6: 20261 | B6: 2 | C6: Openbaar | D6: Public | E6: 1 | F6: 3_AMB | G6: Ambtenaar - Fonctionnaire | H6: Federaal | I6: Fédéral | J6: 144600 | K6: 144900 | L6: 137000
A7: 20261 | B7: 2 | C7: Openbaar | D7: Public | E7: 2_6_0 | F7: 1_ARB | G7: Arbeider - Ouvrier | H7: Gewest_gemeenschap_exclusief Onderwijs | I7: Région_Communauté exclusif Enseignement | J7: 21900 | K7: 22000 | L7: 17100
A8: 20261 | B8: 2 | C8: Openbaar | D8: Public | E8: 2_6_0 | F8: 2_BED | G8: BED | H8: Gewest_gemeenschap_exclusief Onderwijs | I8: Région_Communauté exclusif Enseignement | J8: 56200 | K8: 57000 | L8: 49300
A9: 20261 | B9: 2 | C9: Openbaar | D9: Public | E9: 2_6_0 | F9: 3_AMB | G9: Ambtenaar - Fonctionnaire | H9: Gewest_gemeenschap_exclusief Onderwijs | I9: Région_Communauté exclusif Enseignement | J9: 47400 | K9: 47500 | L9: 44600
A10: 20261 | B10: 2 | C10: Openbaar | D10: Public | E10: 2_6_4 | F10: 1_ARB | G10: Arbeider - Ouvrier | H10: Gewest_gemeenschap_Onderwijs | I10: Région_Communauté Enseignement | J10: 7700 | K10: 8300 | L10: 5300
A11: 20261 | B11: 2 | C11: Openbaar | D11: Public | E11: 2_6_4 | F11: 2_BED | G11: BED | H11: Gewest_gemeenschap_Onderwijs | I11: Région_Communauté Enseignement | J11: 151800 | K11: 165500 | L11: 128300
A12: 20261 | B12: 2 | C12: Openbaar | D12: Public | E12: 2_6_4 | F12: 3_AMB | G12: Ambtenaar - Fonctionnaire | H12: Gewest_gemeenschap_Onderwijs | I12: Région_Communauté Enseignement | J12: 259300 | K12: 262000 | L12: 232400
A13: 20261 | B13: 2 | C13: Openbaar | D13: Public | E13: 7_8 | F13: 1_ARB | G13: Arbeider - Ouvrier | H13: Plaatselijke en Provinciale Besturen | I13: Administrations provinciales et locales | J13: 82000 | K13: 83600 | L13: 62700
... A273: 20221 | B273: 1 | C273: Privé | D273: Privé | E273: P | F273: 2_BED | G273: Bediende - Employé | H273: privé | I273: privé | J273: 1746370 | K273: 1788533 | L273: 1482169.4

Sheet Data_tab4
A1: Kwartaal | B1: REGIO TraCorr | C1: Naam Gewest | D1: Nom Région | E1: NISPROVLAST TraCorr | F1: Nom de la Province | G1: Naam Provincie | H1: tewerkgestelde werknemers - Travailleurs occupés | I1: arbeidsplaatsen - postes de travail | J1: VTE - ETP
A2: 20261 | B2: 00000 | C2: Onbekend | D2: Inconnu | E2: 00000 | F2: Inconnu | G2: Onbekend | H2: 17000 | I2: 17500 | J2: 13400
A3: 20261 | B3: 00002 | C3: Buurlanden | D3: Pays limitrophes | E3: 00002 | F3: Pays limitrophes | G3: Buurlanden | H3: 70000 | I3: 70900 | J3: 57500
A4: 20261 | B4: 00007 | C4: Overige landen | D4: Autres Pays | E4: 00007_8 | F4: Autres pays | G4: Overige Landen | H4: 13000 | I4: 13100 | J4: 11100
A5: 20261 | B5: 02000 | C5: Vlaams Gewest | D5: Région Flamandet | E5: 10000 | F5: Anvers | G5: Antwerpen | H5: 691100 | I5: 720700 | J5: 578500
A6: 20261 | B6: 02000 | C6: Vlaams Gewest | D6: Région Flamandet | E6: 20001 | F6: Brabant flamand | G6: Vlaams-Brabant | H6: 436100 | I6: 452700 | J6: 370600
A7: 20261 | B7: 02000 | C7: Vlaams Gewest | D7: Région Flamandet | E7: 30000 | F7: Flandre-Occidentale | G7: West-Vlaanderen | H7: 440100 | I7: 462500 | J7: 367300
A8: 20261 | B8: 02000 | C8: Vlaams Gewest | D8: Région Flamandet | E8: 40000 | F8: Flandre-Orientale | G8: Oost-Vlaanderen | H8: 610000 | I8: 636600 | J8: 513600
A9: 20261 | B9: 02000 | C9: Vlaams Gewest | D9: Région Flamandet | E9: 70000 | F9: Limbourg | G9: Limpurg | H9: 315700 | I9: 330600 | J9: 255400
A10: 20261 | B10: 03000 | C10: Waals Gewest | D10: Région Wallonne | E10: 20002 | F10: Brabant Wallon | G10: Waals-Brabant | H10: 135300 | I10: 139600 | J10: 114600
A11: 20261 | B11: 03000 | C11: Waals Gewest | D11: Région Wallonne | E11: 50000 | F11: Hainaut | G11: Henegouwen | H11: 433200 | I11: 445200 | J11: 347400
A12: 20261 | B12: 03000 | C12: Waals Gewest | D12: Région Wallonne | E12: 60000 | F12: Liège | G12: Luik | H12: 365100 | I12: 378100 | J12: 296500
A13: 20261 | B13: 03000 | C13: Waals Gewest | D13: Région Wallonne | E13: 80000 | F13: Luxembourg | G13: Luxemburg | H13: 72800 | I13: 75600 | J13: 57600
... A239: 20221 | B239: 00000 | C239: NIET LOCALISEERBAAR | D239: Inconnu | E239: 00000 | F239: Inconnu | G239: Onbekend | H239: 30855 | I239: 31366 | J239: 23902.12

Sheet Data_tab5
A1: Kwartaal | B1: Sector WG | C1: L Sector WG | D1: L Secteur Empl | E1: TypePrest | F1: KlasseDT | G1: L_typePrestatie | H1: L_typedeprestation | I1: tewerkgestelde werknemers - Travailleurs occupés | J1: arbeidsplaatsen - postes de travail | K1: VTE - ETP
A2: 20261 | B2: 1 | C2: Privé | D2: Privé | E2: F | F2: K100 | G2: voltijds | H2: temps plein | I2: 1892100 | J2: 1894000 | K2: 1731000
A3: 20261 | B3: 1 | C3: Privé | D3: Privé | E3: P | F3: K0045 | G3: deeltijds | H3: Temps partiel | I3: 72300 | J3: 97800 | K3: 28500
A4: 20261 | B4: 1 | C4: Privé | D4: Privé | E4: P | F4: K4665 | G4: deeltijds | H4: Temps partiel | I4: 252000 | J4: 262300 | K4: 122600
A5: 20261 | B5: 1 | C5: Privé | D5: Privé | E5: P | F5: K6695 | G5: deeltijds | H5: Temps partiel | I5: 578600 | J5: 580700 | K5: 413300
A6: 20261 | B6: 1 | C6: Privé | D6: Privé | E6: P | F6: K9599 | G6: deeltijds | H6: Temps partiel | I6: 56200 | J6: 56300 | K6: 29200
A7: 20261 | B7: 1 | C7: Privé | D7: Privé | E7: S | F7: K100 | G7: Seizoen_Interim_gelegenheids | H7: Saison_intérim_occasionnel | I7: 150300 | J7: 242400 | K7: 120900
A8: 20261 | B8: 2 | C8: Openbaar | D8: Public | E8: F | F8: K100 | G8: voltijds | H8: temps plein | I8: 687500 | J8: 689300 | K8: 654000
A9: 20261 | B9: 2 | C9: Openbaar | D9: Public | E9: PS | F9: K0045 | G9: deeltijds/seizoen_interim_gelegenh. | H9: temps partiel/saison_intérim_occ | I9: 66700 | J9: 89700 | K9: 67100
A10: 20261 | B10: 2 | C10: Openbaar | D10: Public | E10: PS | F10: K4665 | G10: deeltijds/seizoen_interim_gelegenh. | H10: temps partiel/saison_intérim_occ | I10: 141900 | J10: 146200 | K10: 81700
A11: 20261 | B11: 2 | C11: Openbaar | D11: Public | E11: PS | F11: K6695 | G11: deeltijds/seizoen_interim_gelegenh. | H11: temps partiel/saison_intérim_occ | I11: 218300 | J11: 219100 | K11: 167600
A12: 20261 | B12: 2 | C12: Openbaar | D12: Public | E12: PS | F12: K9599 | G12: deeltijds/seizoen_interim_gelegenh. | H12: temps partiel/saison_intérim_occ | I12: 13100 | J12: 13200 | K12: 7100
A13: 20254 | B13: 1 | C13: Privé | D13: Privé | E13: F | F13: K100 | G13: voltijds | H13: temps plein | I13: 1900128 | J13: 1901749 | K13: 1745125.4
... A188: 20221 | B188: 2 | C188: Openbaar | D188: Public | E188: PS | F188: K9599 | G188: deeltijds/seizoen_interim_gelegenh. | H188: temps partiel/saison_intérim_occ | I188: 8544 | J188: 8692 | K188: 4551.71

Sheet Data_tab6
A1: Kwartaal | B1: L Sector WG | C1: L Secteur Empl | D1: Dimgr | E1: Dimensieklasse - Classe De Dimension | F1: tewerkgestelde werknemers - Travailleurs occupés | G1: arbeidsplaatsen - postes de travail | H1: VTE - ETP
A2: 20261 | B2: Openbaar | C2: Public | D2: PU1 | E2: <1000 | F2: 306000 | G2: 317700 | H2: 252700
A3: 20261 | B3: Openbaar | C3: Public | D3: PU9 | E3: >=1000 | F3: 821500 | G3: 839800 | H3: 724800
A4: 20261 | B4: Privé | C4: Privé | D4: PR4 | E4: 20-199 | F4: 933000 | G4: 963000 | H4: 783000
A5: 20261 | B5: Privé | C5: Privé | D5: PR7 | E5: 200-999 | F5: 621500 | G5: 631000 | H5: 510300
A6: 20261 | B6: Privé | C6: Privé | D6: PR1 | E6: <20 | F6: 702000 | G6: 760500 | H6: 571000
A7: 20261 | B7: Privé | C7: Privé | D7: PR9 | E7: >=1000 | F7: 745000 | G7: 779000 | H7: 581200
A8: 20254 | B8: Openbaar | C8: Public | D8: PU1 | E8: <1000 | F8: 301505 | G8: 312628 | H8: 248630.96
A9: 20254 | B9: Openbaar | C9: Public | D9: PU9 | E9: >=1000 | F9: 821024 | G9: 837975 | H9: 725241.94
A10: 20254 | B10: Privé | C10: Privé | D10: PR4 | E10: 20-199 | F10: 921656 | G10: 950044 | H10: 782017.7
A11: 20254 | B11: Privé | C11: Privé | D11: PR7 | E11: 200-999 | F11: 617327 | G11: 627999 | H11: 511990.09
A12: 20254 | B12: Privé | C12: Privé | D12: PR1 | E12: <20 | F12: 699860 | G12: 751636 | H12: 586283.31
A13: 20254 | B13: Privé | C13: Privé | D13: PR9 | E13: >=1000 | F13: 747240 | G13: 777784 | H13: 596974.1
... A103: 20221 | B103: Openbaar | C103: Public | D103: PU9 | E103: >=1000 | F103: 800523 | G103: 818485 | H103: 711542.95

Sheet Data_tab7
A1: Kwartaal | B1: PC_sectorgr | C1: L PC_sectorgr | D1: L PC_groupe sectoriel | E1: tewerkgestelde werknemers - Travailleurs occupés | F1: arbeidsplaatsen - postes de travail | G1: VTE - ETP
A2: 20261 | B2: A | C2: Land- en tuinbouw, bosbouw en zeevisserij | D2: Agriculture, chasse, sylviculture et pêche | E2: 38800 | F2: 39800 | G2: 32100
A3: 20261 | B3: B | C3: Industrie, Gas en elektriciteit | D3: Industries, gaz et électricité | E3: 602300 | F3: 606300 | G3: 525000
A4: 20261 | B4: C | C4: Bouw | D4: Construction | E4: 130900 | F4: 131200 | G4: 99700
A5: 20261 | B5: D | C5: Distributie, transport en logistiek | D5: Distribution, transport et logistique | E5: 464600 | F5: 487000 | G5: 377900
A6: 20261 | B6: E | C6: Diensten aan ondernemingen en personen | D6: Services aux entreprises et aux personnes | E6: 405000 | F6: 450000 | G6: 290000
A7: 20261 | B7: F | C7: Financiële sector | D7: Secteur financier | E7: 100600 | F7: 101200 | G7: 89300
A8: 20261 | B8: G | C8: Horeca, sport en ontspanning, media | D8: Horeca, sports et loisirs, media | E8: 141500 | F8: 181000 | G8: 112000
A9: 20261 | B9: N | C9: Social profit | D9: Secteur non marchand (social) | E9: 655000 | F9: 674500 | G9: 487400
A10: 20261 | B10: S | C10: Overige sectoren | D10: Secteurs divers | E10: 535800 | F10: 540000 | G10: 489400
A11: 20261 | B11: Z | C11: Geen paritair comité van toepassing | D11: Aucune commission paritaire d'application | E11: 1054500 | F11: 1080000 | G11: 920200
A12: 20254 | B12: A | C12: Land- en tuinbouw, bosbouw en zeevisserij | D12: Agriculture, chasse, sylviculture et pêche | E12: 31887 | F12: 32541 | G12: 34569.57
A13: 20254 | B13: B | C13: Industrie, Gas en elektriciteit | D13: Industries, gaz et électricité | E13: 601608 | F13: 605152 | G13: 521710.24
... A171: 20221 | B171: Z | C171: Geen paritair comité van toepassing | D171: Aucune commission paritaire d'application | E171: 1049562 | F171: 1080434 | G171: 916546.39

Sheet Data_tab8
A1: ANTRIM | B1: Sectie Nace WG | C1: Activiteit Gebruiker (NACE-Bel 2025) | D1: Activité Utilisateur (NACE-Bel 2025) | E1: tewerkgestelde werknemers - Travailleurs occupés | F1: arbeidsplaatsen - postes de travail | G1: VTE - ETP
A2: 20261 | B2: A | C2: Landbouw, bosbouw en visserij | D2: Agriculture, chasse, sylviculture et pêche | E2: 500 | F2: 550 | G2: 390
A3: 20261 | B3: BCDE | C3: Winning van delfstoffen, Industrie, Productie en distributie van elektriciteit, gas, stoom, gekoelde lucht en water, Afvalbeheer | D3: Industries extractives, industrie, production et distribution d'électricité, de gaz, de vapeur, d'air conditionné et d'eau, gestion des déchets | E3: 31190 | F3: 32360 | G3: 27250
A4: 20261 | B4: F | C4: Bouwnijverheid | D4: Construction | E4: 4680 | F4: 4910 | G4: 3820
A5: 20261 | B5: GHI | C5: Handel, vervoer en opslag, Verschaffen van accommodatie en maaltijden | D5: Commerce, transports et entreposage, Hébergement et restauration | E5: 37710 | F5: 40750 | G5: 30720
A6: 20261 | B6: JK | C6: Informatie en communicatie | D6: Information et communication | E6: 1240 | F6: 1400 | G6: 980
A7: 20261 | B7: L | C7: Financiële activiteiten en verzekeringen | D7: Activités financières et assurances | E7: 600 | F7: 630 | G7: 550
A8: 20261 | B8: M | C8: Exploitatie van en handel in onroerend goed | D8: Activités immobilières | E8: 260 | F8: 290 | G8: 180
A9: 20261 | B9: NO | C9: Administratieve, ondersteunende en gespecialiseerde diensten | D9: Activités de services administratifs, de soutien et spécialisés | E9: 10950 | F9: 12730 | G9: 8470
A10: 20261 | B10: PQ | C10: Openbaar bestuur en Onderwijs | D10: Administration publique et enseignement | E10: 910 | F10: 1230 | G10: 650
A11: 20261 | B11: R | C11: Menselijke gezondheidszorg en maatschappelijke dienstverlening | D11: Arts, spectacles et activités récréatives, Autres services, divers | E11: 1580 | F11: 2460 | G11: 1440
A12: 20261 | B12: STUV | C12: Kunst amusement en recreatie, Overige diensten, diversen | D12: Santé humaine et action sociale | E12: 3430 | F12: 4100 | G12: 2270
A13: 20261 | B13: Z | C13: Onbekend | D13: Inconnu | E13: 1020 | F13: 1360 | G13: 730
... A156: 20231 | B156: Z | C156: Onbekend | D156: Inconnu | E156: 1834 | F156: 2341 | G156: 1620.02

Sheet Data_tab9
A1: Kwartaal Trimestre | B1: Sectie Nace WG | C1: Activiteit Gebruiker | D1: Activité Utilisateur | E1: tewerkgestelde werknemers - Travailleurs occupés | F1: arbeidsplaatsen - postes de travail | G1: VTE - ETP
A2: 20261 | B2: A | C2: Landbouw, bosbouw en visserij | D2: Agriculture, chasse, sylviculture et pêche | E2: 350 | F2: 450 | G2: 250
A3: 20261 | B3: B_F | C3: Industrie, Energie en Bouw | D3: Industries, énergie et construction | E3: 830 | F3: 2630 | G3: 730
A4: 20261 | B4: G_O | C4: Commerciële Dienstverlening | D4: Services commerciaux | E4: 7990 | F4: 26290 | G4: 6990
A5: 20261 | B5: P_V | C5: Niet-Commerciële Dienstverlening | D5: Services non-commerciaux | E5: 860 | F5: 3220 | G5: 760
A6: 20261 | B6: Z | C6: Onbekend | D6: Inconnu | E6: 100 | F6: 190 | G6: 80
A7: 20254 | B7: A | C7: Landbouw, bosbouw en visserij | D7: Agriculture, chasse, sylviculture et pêche | E7: 227 | F7: 291 | G7: 250.51
A8: 20254 | B8: B_F | C8: Industrie, Energie en Bouw | D8: Industries, énergie et construction | E8: 516 | F8: 1951 | G8: 767.85
A9: 20254 | B9: G_O | C9: Commerciële Dienstverlening | D9: Services commerciaux | E9: 6143 | F9: 22121 | G9: 7774.28
A10: 20254 | B10: P_V | C10: Niet-Commerciële Dienstverlening | D10: Services non-commerciaux | E10: 531 | F10: 2404 | G10: 842.24
A11: 20254 | B11: Z | C11: Onbekend | D11: Inconnu | E11: 62 | F11: 141 | G11: 91.18
A12: 20253 | B12: A | C12: Landbouw, bosbouw en visserij | D12: Agriculture, chasse, sylviculture et pêche | E12: 378 | F12: 482 | G12: 347.46
A13: 20253 | B13: B_F | C13: Industrie, Energie en Bouw | D13: Industries, énergie et construction | E13: 691 | F13: 2281 | G13: 646.68
... A66: 20231 | B66: Z | C66: Onbekend | D66: Inconnu | E66: 85 | F66: 149 | G66: 96.52

Sheet tabel Shrt - overzicht
A1: Overzicht Evolutie Loontrekkende Tewerkstelling vierde kwartaal 2025 - 2026
A3: meer info
A4: Evolutie Tewerkstelling | B4: 45291 | C4: 45747 | D4: 46112 | E4: 2023-2024 | G4: 2025-2026 | I4: 2023-2025
B5: aantallen | C5: aantallen | D5: aantallen | E5: abs | F5: in % | G5: abs | H5: in % | I5: abs | J5: in %
A6: Tewerkgestelde werknemers | B6: ='Tabel 1 lftd_sexe'!D29 -> 4127206 | C6: ='Tabel 1 lftd_sexe'!E29 -> 4133126 | D6: ='Tabel 1 lftd_sexe'!F29 -> 4129000 | E6: =C6-B6 -> 5920 | F6: =E6/B6 -> 0.0014343844 | G6: =D6-C6 -> -4126 | H6: =G6/C6 -> -0.00099827588 | I6: =D6-B6 -> 1794 | J6: =I6/B6 -> 0.00043467663
A7: Arbeidsplaatsen | B7: ='Tabel 1 lftd_sexe'!I29 -> 4276593 | C7: ='Tabel 1 lftd_sexe'!J29 -> 4288680 | D7: ='Tabel 1 lftd_sexe'!K29 -> 4291000 | E7: =C7-B7 -> 12087 | F7: =E7/B7 -> 0.0028263152 | G7: =D7-C7 -> 2320 | H7: =G7/C7 -> 0.00054095899 | I7: =D7-B7 -> 14407 | J7: =I7/B7 -> 0.0033688032
A8: Arbeidsvolume in vte | B8: ='Tabel 1 lftd_sexe'!N29 -> 3416093.9 | C8: ='Tabel 1 lftd_sexe'!O29 -> 3417143.9 | D8: ='Tabel 1 lftd_sexe'!P29 -> 3423000 | E8: =C8-B8 -> 1049.98 | F8: =E8/B8 -> 0.00030736275 | G8: =D8-C8 -> 5856.14 | H8: =G8/C8 -> 0.0017137528 | I8: =D8-B8 -> 6906.12 | J8: =I8/B8 -> 0.0020216423
A10: meer info | L10: meer info
A11: Arbeidsplaatsen | B11: 45291 | C11: 45747 | D11: 46112 | E11: 2023-2024 | G11: 2025-2026 | I11: 2023-2025 | L11: Arbeidsvolume | M11: 2023Q4 | N11: 2025Q1 | O11: 2026Q1 | P11: 2023-2024 | R11: 2025-2026 | T11: 2023-2025
A12: gender | B12: aantallen | C12: aantallen | D12: aantallen | E12: abs | F12: in % | G12: abs | H12: in % | I12: abs | J12: in % | L12: gender | M12: volume | N12: volume | O12: volume | P12: abs | Q12: in % | R12: abs | S12: in % | T12: abs | U12: in %
A13: Mannen | B13: ='Tabel 1 lftd_sexe'!I27 -> 2142011 | C13: ='Tabel 1 lftd_sexe'!J27 -> 2146672 | D13: ='Tabel 1 lftd_sexe'!K27 -> 2148500 | E13: =C13-B13 -> 4661 | F13: =E13/B13 -> 0.0021759926 | G13: =D13-C13 -> 1828 | H13: =G13/C13 -> 0.00085155068 | I13: =D13-B13 -> 6489 | J13: =I13/B13 -> 0.0030293962 | L13: Mannen | M13: ='Tabel 1 lftd_sexe'!N27 -> 1829861.6 | N13: ='Tabel 1 lftd_sexe'!O27 -> 1831081.2 | O13: ='Tabel 1 lftd_sexe'!P27 -> 1830300 | P13: =N13-M13 -> 1219.54 | Q13: =P13/M13 -> 0.0006664657 | R13: =O13-N13 -> -781.16 | S13: =R13/N13 -> -0.00042661135 | T13: =O13-M13 -> 438.38 | U13: =T13/M13 -> 0.00023957003
A14: Vrouwen | B14: ='Tabel 1 lftd_sexe'!I28 -> 2134582 | C14: ='Tabel 1 lftd_sexe'!J28 -> 2142008 | D14: ='Tabel 1 lftd_sexe'!K28 -> 2142500 | E14: =C14-B14 -> 7426 | F14: =E14/B14 -> 0.0034789013 | G14: =D14-C14 -> 492 | H14: =G14/C14 -> 0.00022969102 | I14: =D14-B14 -> 7918 | J14: =I14/B14 -> 0.0037093913 | L14: Vrouwen | M14: ='Tabel 1 lftd_sexe'!N28 -> 1586232.3 | N14: ='Tabel 1 lftd_sexe'!O28 -> 1586062.7 | O14: ='Tabel 1 lftd_sexe'!P28 -> 1592700 | P14: =N14-M14 -> -169.56 | Q14: =P14/M14 -> -0.00010689481 | R14: =O14-N14 -> 6637.3 | S14: =R14/N14 -> 0.0041847652 | T14: =O14-M14 -> 6467.74 | U14: =T14/M14 -> 0.0040774231
A15: Totaal | B15: ='Tabel 1 lftd_sexe'!I29 -> 4276593 | C15: ='Tabel 1 lftd_sexe'!J29 -> 4288680 | D15: ='Tabel 1 lftd_sexe'!K29 -> 4291000 | E15: =C15-B15 -> 12087 | F15: =E15/B15 -> 0.0028263152 | G15: =SUM(G13:G14) -> 2320 | H15: =G15/C15 -> 0.00054095899 | I15: =SUM(I13:I14) -> 14407 | J15: =I15/B15 -> 0.0033688032 | L15: Totaal | M15: ='Tabel 1 lftd_sexe'!N29 -> 3416093.9 | N15: ='Tabel 1 lftd_sexe'!O29 -> 3417143.9 | O15: ='Tabel 1 lftd_sexe'!P29 -> 3423000 | P15: =N15-M15 -> 1049.98 | Q15: =P15/M15 -> 0.00030736275 | R15: =O15-N15 -> 5856.14 | S15: =R15/N15 -> 0.0017137528 | T15: =O15-M15 -> 6906.12 | U15: =T15/M15 -> 0.0020216423
A17: meer info | L17: meer info
A18: Arbeidsplaatsen | B18: 45291 | C18: 45747 | D18: 46112 | E18: 2023-2024 | G18: 2025-2026 | I18: 2023-2025 | L18: Arbeidsvolume | M18: 2023Q4 | N18: 2025Q1 | O18: 2026Q1 | P18: 2023-2024 | R18: 2025-2026 | T18: 2023-2025
A19: Leefijd | B19: aantallen | C19: aantallen | D19: aantallen | E19: abs | F19: in % | G19: abs | H19: in % | I19: abs | J19: in % | L19: Leefijd | M19: volume | N19: volume | O19: volume | P19: abs | Q19: in % | R19: abs | S19: in % | T19: abs | U19: in %
A20: <25 | B20: ='Tabel 1 lftd_sexe'!I12 -> 282611 | C20: ='Tabel 1 lftd_sexe'!J12 -> 280423 | D20: ='Tabel 1 lftd_sexe'!K12 -> 271800 | E20: =C20-B20 -> -2188 | F20: =E20/B20 -> -0.0077420907 | G20: =D20-C20 -> -8623 | H20: =G20/C20 -> -0.030749974 | I20: =D20-B20 -> -10811 | J20: =I20/B20 -> -0.038253996 | L20: <25 | M20: ='Tabel 1 lftd_sexe'!N12 -> 231315.76 | N20: ='Tabel 1 lftd_sexe'!O12 -> 229429.98 | O20: ='Tabel 1 lftd_sexe'!P12 -> 221600 | P20: =N20-M20 -> -1885.78 | Q20: =P20/M20 -> -0.008152406 | R20: =O20-N20 -> -7829.98 | S20: =R20/N20 -> -0.034127972 | T20: =O20-M20 -> -9715.76 | U20: =T20/M20 -> -0.042002153
A21: 25 - 39 | B21: ='Tabel 1 lftd_sexe'!I15 -> 1589063 | C21: ='Tabel 1 lftd_sexe'!J15 -> 1586783 | D21: ='Tabel 1 lftd_sexe'!K15 -> 1576000 | E21: =C21-B21 -> -2280 | F21: =E21/B21 -> -0.0014348078 | G21: =D21-C21 -> -10783 | H21: =G21/C21 -> -0.0067955102 | I21: =D21-B21 -> -13063 | J21: =I21/B21 -> -0.0082205677 | L21: 25 - 39 | M21: ='Tabel 1 lftd_sexe'!N15 -> 1319381 | N21: ='Tabel 1 lftd_sexe'!O15 -> 1314108.3 | O21: ='Tabel 1 lftd_sexe'!P15 -> 1303300 | P21: =N21-M21 -> -5272.68 | Q21: =P21/M21 -> -0.0039963287 | R21: =O21-N21 -> -10808.29 | S21: =R21/N21 -> -0.0082248092 | T21: =O21-M21 -> -16080.97 | U21: =T21/M21 -> -0.012188269
A22: 40 - 49 | B22: ='Tabel 1 lftd_sexe'!I18 -> 1047412 | C22: ='Tabel 1 lftd_sexe'!J18 -> 1052307 | D22: ='Tabel 1 lftd_sexe'!K18 -> 1057000 | E22: =C22-B22 -> 4895 | F22: =E22/B22 -> 0.0046734236 | G22: =D22-C22 -> 4693 | H22: =G22/C22 -> 0.0044597252 | I22: =D22-B22 -> 9588 | J22: =I22/B22 -> 0.009153991 | L22: 40 - 49 | M22: ='Tabel 1 lftd_sexe'!N18 -> 857870.44 | N22: ='Tabel 1 lftd_sexe'!O18 -> 859215.95 | O22: ='Tabel 1 lftd_sexe'!P18 -> 865800 | P22: =N22-M22 -> 1345.51 | Q22: =P22/M22 -> 0.0015684303 | R22: =O22-N22 -> 6584.05 | S22: =R22/N22 -> 0.0076628582 | T22: =O22-M22 -> 7929.56 | U22: =T22/M22 -> 0.0092433072
A23: 50 - 64 | B23: ='Tabel 1 lftd_sexe'!I21 -> 1304661 | C23: ='Tabel 1 lftd_sexe'!J21 -> 1306165 | D23: ='Tabel 1 lftd_sexe'!K21 -> 1304000 | E23: =C23-B23 -> 1504 | F23: =E23/B23 -> 0.0011527899 | G23: =D23-C23 -> -2165 | H23: =G23/C23 -> -0.0016575241 | I23: =D23-B23 -> -661 | J23: =I23/B23 -> -0.00050664502 | L23: 50 - 64 | M23: ='Tabel 1 lftd_sexe'!N21 -> 982901.03 | N23: ='Tabel 1 lftd_sexe'!O21 -> 985769.3 | O23: ='Tabel 1 lftd_sexe'!P21 -> 992200 | P23: =N23-M23 -> 2868.27 | Q23: =P23/M23 -> 0.0029181677 | R23: =O23-N23 -> 6430.7 | S23: =R23/N23 -> 0.0065235345 | T23: =O23-M23 -> 9298.97 | U23: =T23/M23 -> 0.0094607389
A24: 65 en ouder | B24: ='Tabel 1 lftd_sexe'!I24 -> 52846 | C24: ='Tabel 1 lftd_sexe'!J24 -> 63002 | D24: ='Tabel 1 lftd_sexe'!K24 -> 82200 | E24: =C24-B24 -> 10156 | F24: =E24/B24 -> 0.19218105 | G24: =D24-C24 -> 19198 | H24: =G24/C24 -> 0.30472049 | I24: =D24-B24 -> 29354 | J24: =I24/B24 -> 0.55546304 | L24: 65 en ouder | M24: ='Tabel 1 lftd_sexe'!N24 -> 24625.68 | N24: ='Tabel 1 lftd_sexe'!O24 -> 28620.34 | O24: ='Tabel 1 lftd_sexe'!P24 -> 40100 | P24: =N24-M24 -> 3994.66 | Q24: =P24/M24 -> 0.16221522 | R24: =O24-N24 -> 11479.66 | S24: =R24/N24 -> 0.40110145 | T24: =O24-M24 -> 15474.32 | U24: =T24/M24 -> 0.62838143
A25: Totaal | B25: =SUM(B20:B24) -> 4276593 | C25: =SUM(C20:C24) -> 4288680 | D25: =SUM(D20:D24) -> 4291000 | E25: =C25-B25 -> 12087 | F25: =E25/B25 -> 0.0028263152 | G25: =SUM(G20:G24) -> 2320 | H25: =G25/C25 -> 0.00054095899 | I25: =SUM(I20:I24) -> 14407 | J25: =I25/B25 -> 0.0033688032 | L25: Totaal | M25: =SUM(M20:M24) -> 3416093.9 | N25: =SUM(N20:N24) -> 3417143.9 | O25: =SUM(O20:O24) -> 3423000 | P25: =N25-M25 -> 1049.98 | Q25: =P25/M25 -> 0.00030736275 | R25: =O25-N25 -> 5856.14 | S25: =R25/N25 -> 0.0017137528 | T25: =O25-M25 -> 6906.12 | U25: =T25/M25 -> 0.0020216423
A27: meer info | L27: meer info
A28: Arbeidsplaatsen | B28: 45291 | C28: 45747 | D28: 46112 | E28: 2023-2024 | G28: 2025-2026 | I28: 2023-2025 | L28: Arbeidsvolume | M28: 2023Q4 | N28: 2025Q1 | O28: 2026Q1 | P28: 2023-2024 | R28: 2025-2026 | T28: 2023-2025
A29: Activiteit (Nace) | B29: aantallen | C29: aantallen | D29: aantallen | E29: abs | F29: in % | G29: abs | H29: in % | I29: abs | J29: in % | L29: Activiteit (Nace) | M29: volume | N29: volume | O29: volume | P29: abs | Q29: in % | R29: abs | S29: in % | T29: abs | U29: in %
A30: Landbouw, bosbouw en visserij | C30: ='Tab2 Activité_NACE'!J8 -> 25409 | D30: ='Tab2 Activité_NACE'!K8 -> 26700 | G30: =D30-C30 -> 1291 | H30: =G30/C30 -> 0.050808769 | L30: Landbouw, bosbouw en visserij | N30: ='Tab2 Activité_NACE'!O8 -> 20887.33 | O30: ='Tab2 Activité_NACE'!P8 -> 22000 | R30: =O30-N30 -> 1112.67 | S30: =R30/N30 -> 0.053270092
A31: Industrie, Energie en Bouw | C31: ='Tab2 Activité_NACE'!J9 -> 736164 | D31: ='Tab2 Activité_NACE'!K9 -> 726500 | G31: =D31-C31 -> -9664 | H31: =G31/C31 -> -0.01312751 | L31: Industrie, Energie en Bouw | N31: ='Tab2 Activité_NACE'!O9 -> 622350.56 | O31: ='Tab2 Activité_NACE'!P9 -> 616000 | R31: =O31-N31 -> -6350.56 | S31: =R31/N31 -> -0.010204152
A32: Commerciële Dienstverlening | C32: ='Tab2 Activité_NACE'!J12 -> 1692815 | D32: ='Tab2 Activité_NACE'!K12 -> 1699200 | G32: =D32-C32 -> 6385 | H32: =G32/C32 -> 0.0037718239 | L32: Commerciële Dienstverlening | N32: ='Tab2 Activité_NACE'!O12 -> 1364675.9 | O32: ='Tab2 Activité_NACE'!P12 -> 1364600 | R32: =O32-N32 -> -75.92 | S32: =R32/N32 -> -5.5632256e-05
A33: Niet-Commerciële Dienstverlening | C33: ='Tab2 Activité_NACE'!J18 -> 1834292 | D33: ='Tab2 Activité_NACE'!K18 -> 1838600 | G33: =D33-C33 -> 4308 | H33: =G33/C33 -> 0.0023485901 | L33: Niet-Commerciële Dienstverlening | N33: ='Tab2 Activité_NACE'!O18 -> 1409230 | O33: ='Tab2 Activité_NACE'!P18 -> 1420400 | R33: =O33-N33 -> 11169.95 | S33: =R33/N33 -> 0.0079262786
A34: Totaal | C34: =SUM(C30:C33) -> 4288680 | D34: =SUM(D30:D33) -> 4291000 | G34: =SUM(G30:G33) -> 2320 | H34: =G34/C34 -> 0.00054095899 | L34: Totaal | N34: =SUM(N30:N33) -> 3417143.9 | O34: =SUM(O30:O33) -> 3423000 | R34: =O34-N34 -> 5856.14 | S34: =R34/N34 -> 0.0017137528
A36: meer info | L36: meer info
A37: Arbeidsplaatsen | B37: 45291 | C37: 45747 | D37: 46112 | E37: 2023-2024 | G37: 2025-2026 | I37: 2023-2025 | L37: Arbeidsvolume | M37: 2023Q4 | N37: 2025Q1 | O37: 2026Q1 | P37: 2023-2024 | R37: 2025-2026 | T37: 2023-2025
A38: Sector/statuut | B38: aantallen | C38: aantallen | D38: aantallen | E38: abs | F38: in % | G38: abs | H38: in % | I38: abs | J38: in % | L38: Sector/statuut | M38: volume | N38: volume | O38: volume | P38: abs | Q38: in % | R38: abs | S38: in % | T38: abs | U38: in %
A39: Privé-sector - Arbeiders | B39: ='Tab3 Sect_Stat'!I10 -> 1283969 | C39: ='Tab3 Sect_Stat'!J10 -> 1279760 | D39: ='Tab3 Sect_Stat'!K10 -> 1275000 | E39: =C39-B39 -> -4209 | F39: =E39/B39 -> -0.0032781165 | G39: =D39-C39 -> -4760 | H39: =G39/C39 -> -0.0037194474 | I39: =D39-B39 -> -8969 | J39: =I39/B39 -> -0.0069853711 | L39: Privé-sector - Arbeiders | M39: ='Tab3 Sect_Stat'!N10 -> 914388.06 | N39: ='Tab3 Sect_Stat'!O10 -> 910841.67 | O39: ='Tab3 Sect_Stat'!P10 -> 906800 | P39: =N39-M39 -> -3546.39 | Q39: =P39/M39 -> -0.0038784299 | R39: =O39-N39 -> -4041.67 | S39: =R39/N39 -> -0.0044372915 | T39: =O39-M39 -> -7588.06 | U39: =T39/M39 -> -0.0082985117
A40: Privé-sector - Bedienden | B40: ='Tab3 Sect_Stat'!I11 -> 1839419 | C40: ='Tab3 Sect_Stat'!J11 -> 1852306 | D40: ='Tab3 Sect_Stat'!K11 -> 1858500 | E40: =C40-B40 -> 12887 | F40: =E40/B40 -> 0.0070060166 | G40: =D40-C40 -> 6194 | H40: =G40/C40 -> 0.0033439399 | I40: =D40-B40 -> 19081 | J40: =I40/B40 -> 0.010373384 | L40: Privé-sector - Bedienden | M40: ='Tab3 Sect_Stat'!N11 -> 1530918.8 | N40: ='Tab3 Sect_Stat'!O11 -> 1535963.8 | O40: ='Tab3 Sect_Stat'!P11 -> 1538700 | P40: =N40-M40 -> 5044.97 | Q40: =P40/M40 -> 0.003295387 | R40: =O40-N40 -> 2736.19 | S40: =R40/N40 -> 0.0017814157 | T40: =O40-M40 -> 7781.16 | U40: =T40/M40 -> 0.0050826731
A41: Overheidssector - Arbeiders | B41: ='Tab3 Sect_Stat'!I15+'Tab3 Sect_Stat'!I20+'Tab3 Sect_Stat'!I24+'Tab3 Sect_Stat'!I28+'Tab3 Sect_Stat'!I32 -> 131893 | C41: ='Tab3 Sect_Stat'!J15+'Tab3 Sect_Stat'!J20+'Tab3 Sect_Stat'!J24+'Tab3 Sect_Stat'!J28+'Tab3 Sect_Stat'!J32 -> 132512 | D41: ='Tab3 Sect_Stat'!K15+'Tab3 Sect_Stat'!K20+'Tab3 Sect_Stat'!K24+'Tab3 Sect_Stat'!K28+'Tab3 Sect_Stat'!K32 -> 130700 | E41: =C41-B41 -> 619 | F41: =E41/B41 -> 0.0046931983 | G41: =D41-C41 -> -1812 | H41: =G41/C41 -> -0.013674233 | I41: =D41-B41 -> -1193 | J41: =I41/B41 -> -0.0090452109 | L41: Overheidssector - Arbeiders | M41: ='Tab3 Sect_Stat'!N15+'Tab3 Sect_Stat'!N20+'Tab3 Sect_Stat'!N24+'Tab3 Sect_Stat'!N28+'Tab3 Sect_Stat'!N32 -> 94888.91 | N41: ='Tab3 Sect_Stat'!O15+'Tab3 Sect_Stat'!O20+'Tab3 Sect_Stat'!O24+'Tab3 Sect_Stat'!O28+'Tab3 Sect_Stat'!O32 -> 95195.74 | O41: ='Tab3 Sect_Stat'!P15+'Tab3 Sect_Stat'!P20+'Tab3 Sect_Stat'!P24+'Tab3 Sect_Stat'!P28+'Tab3 Sect_Stat'!P32 -> 95500 | P41: =N41-M41 -> 306.83 | Q41: =P41/M41 -> 0.0032335707 | R41: =O41-N41 -> 304.26 | S41: =R41/N41 -> 0.0031961514 | T41: =O41-M41 -> 611.09 | U41: =T41/M41 -> 0.0064400571
A42: Overheidssector - bedienden | B42: ='Tab3 Sect_Stat'!I16+'Tab3 Sect_Stat'!I21+'Tab3 Sect_Stat'!I25+'Tab3 Sect_Stat'!I29+'Tab3 Sect_Stat'!I33 -> 471156 | C42: ='Tab3 Sect_Stat'!J16+'Tab3 Sect_Stat'!J21+'Tab3 Sect_Stat'!J25+'Tab3 Sect_Stat'!J29+'Tab3 Sect_Stat'!J33 -> 471450 | D42: ='Tab3 Sect_Stat'!K16+'Tab3 Sect_Stat'!K21+'Tab3 Sect_Stat'!K25+'Tab3 Sect_Stat'!K29+'Tab3 Sect_Stat'!K33 -> 472600 | E42: =C42-B42 -> 294 | F42: =E42/B42 -> 0.00062399715 | G42: =D42-C42 -> 1150 | H42: =G42/C42 -> 0.0024392831 | I42: =D42-B42 -> 1444 | J42: =I42/B42 -> 0.0030648023 | L42: Overheidssector - bedienden | M42: ='Tab3 Sect_Stat'!N16+'Tab3 Sect_Stat'!N21+'Tab3 Sect_Stat'!N25+'Tab3 Sect_Stat'!N29+'Tab3 Sect_Stat'!N33 -> 373641.15 | N42: ='Tab3 Sect_Stat'!O16+'Tab3 Sect_Stat'!O21+'Tab3 Sect_Stat'!O25+'Tab3 Sect_Stat'!O29+'Tab3 Sect_Stat'!O33 -> 372600.16 | O42: ='Tab3 Sect_Stat'!P16+'Tab3 Sect_Stat'!P21+'Tab3 Sect_Stat'!P25+'Tab3 Sect_Stat'!P29+'Tab3 Sect_Stat'!P33 -> 376100 | P42: =N42-M42 -> -1040.99 | Q42: =P42/M42 -> -0.0027860689 | R42: =O42-N42 -> 3499.84 | S42: =R42/N42 -> 0.009393018 | T42: =O42-M42 -> 2458.85 | U42: =T42/M42 -> 0.0065807794
A43: Overheidssector - Ambtenaren | B43: ='Tab3 Sect_Stat'!I17+'Tab3 Sect_Stat'!I22+'Tab3 Sect_Stat'!I26+'Tab3 Sect_Stat'!I30 -> 550156 | C43: ='Tab3 Sect_Stat'!J17+'Tab3 Sect_Stat'!J22+'Tab3 Sect_Stat'!J26+'Tab3 Sect_Stat'!J30+'Tab3 Sect_Stat'!J34 -> 552652 | D43: ='Tab3 Sect_Stat'!K17+'Tab3 Sect_Stat'!K22+'Tab3 Sect_Stat'!K26+'Tab3 Sect_Stat'!K30+'Tab3 Sect_Stat'!K34 -> 554200 | E43: =C43-B43 -> 2496 | F43: =E43/B43 -> 0.004536895 | G43: =D43-C43 -> 1548 | H43: =G43/C43 -> 0.0028010394 | I43: =D43-B43 -> 4044 | J43: =I43/B43 -> 0.0073506424 | L43: Overheidssector - Ambtenaren | M43: ='Tab3 Sect_Stat'!N17+'Tab3 Sect_Stat'!N22+'Tab3 Sect_Stat'!N26+'Tab3 Sect_Stat'!N30 -> 502256.92 | N43: ='Tab3 Sect_Stat'!O17+'Tab3 Sect_Stat'!O22+'Tab3 Sect_Stat'!O26+'Tab3 Sect_Stat'!O30 -> 502542.48 | O43: ='Tab3 Sect_Stat'!P17+'Tab3 Sect_Stat'!P22+'Tab3 Sect_Stat'!P26+'Tab3 Sect_Stat'!P30 -> 505900 | P43: =N43-M43 -> 285.56 | Q43: =P43/M43 -> 0.00056855364 | R43: =O43-N43 -> 3357.52 | S43: =R43/N43 -> 0.006681067 | T43: =O43-M43 -> 3643.08 | U43: =T43/M43 -> 0.0072534192
A44: Totaal | B44: =SUM(B39:B43) -> 4276593 | C44: =SUM(C39:C43) -> 4288680 | D44: =SUM(D39:D43) -> 4291000 | E44: =C44-B44 -> 12087 | F44: =E44/B44 -> 0.0028263152 | G44: =SUM(G39:G43) -> 2320 | H44: =G44/C44 -> 0.00054095899 | I44: =SUM(I39:I43) -> 14407 | J44: =I44/B44 -> 0.0033688032 | L44: Totaal | M44: =SUM(M39:M43) -> 3416093.9 | N44: =SUM(N39:N43) -> 3417143.9 | O44: =SUM(O39:O43) -> 3423000 | P44: =N44-M44 -> 1049.98 | Q44: =P44/M44 -> 0.00030736275 | R44: =O44-N44 -> 5856.14 | S44: =R44/N44 -> 0.0017137528 | T44: =O44-M44 -> 6906.12 | U44: =T44/M44 -> 0.0020216423
A46: meer info | L46: meer info
A47: Arbeidsplaatsen | B47: 45291 | C47: 45747 | D47: 46112 | E47: 2023-2024 | G47: 2025-2026 | I47: 2023-2025 | L47: Arbeidsvolume | M47: 2023Q4 | N47: 2025Q1 | O47: 2026Q1 | P47: 2023-2024 | R47: 2025-2026 | T47: 2023-2025
A48: Sector/arbeidsregime | B48: aantallen | C48: aantallen | D48: aantallen | E48: abs | F48: in % | G48: abs | H48: in % | I48: abs | J48: in % | L48: Sector/arbeidsregime | M48: volume | N48: volume | O48: volume | P48: abs | Q48: in % | R48: abs | S48: in % | T48: abs | U48: in %
A49: Privé-sector - voltijds | B49: ='Tabel 5 typ prest'!I39 -> 1924913 | C49: ='Tabel 5 typ prest'!J39 -> 1907968 | D49: ='Tabel 5 typ prest'!K39 -> 1894000 | E49: =C49-B49 -> -16945 | F49: =E49/B49 -> -0.0088029953 | G49: =D49-C49 -> -13968 | H49: =G49/C49 -> -0.0073208775 | I49: =D49-B49 -> -30913 | J49: =I49/B49 -> -0.016059427 | L49: Privé-sector - voltijds | M49: ='Tabel 5 typ prest'!N10 -> 1751471.2 | N49: ='Tabel 5 typ prest'!O10 -> 1741082.8 | O49: ='Tabel 5 typ prest'!P10 -> 1731000 | P49: =N49-M49 -> -10388.42 | Q49: =P49/M49 -> -0.0059312538 | R49: =O49-N49 -> -10082.75 | S49: =R49/N49 -> -0.0057910803 | T49: =O49-M49 -> -20471.17 | U49: =T49/M49 -> -0.011687986
A50: Privé-sector - deeltijds/interim | B50: ='Tabel 5 typ prest'!I40+'Tabel 5 typ prest'!I17 -> 1198475 | C50: ='Tabel 5 typ prest'!J40+'Tabel 5 typ prest'!J17 -> 1224098 | D50: ='Tabel 5 typ prest'!K40+'Tabel 5 typ prest'!K17 -> 1239500 | E50: =C50-B50 -> 25623 | F50: =E50/B50 -> 0.02137967 | G50: =D50-C50 -> 15402 | H50: =G50/C50 -> 0.012582326 | I50: =D50-B50 -> 41025 | J50: =I50/B50 -> 0.034231002 | L50: Privé-sector - deeltijds/interim | M50: ='Tabel 5 typ prest'!N11+'Tabel 5 typ prest'!N17 -> 693835.73 | N50: ='Tabel 5 typ prest'!O11+'Tabel 5 typ prest'!O17 -> 705722.73 | O50: ='Tabel 5 typ prest'!P11+'Tabel 5 typ prest'!P17 -> 714500 | P50: =N50-M50 -> 11887 | Q50: =P50/M50 -> 0.017132297 | R50: =O50-N50 -> 8777.27 | S50: =R50/N50 -> 0.012437278 | T50: =O50-M50 -> 20664.27 | U50: =T50/M50 -> 0.029782655
A51: Overheidssector - voltijds | B51: ='Tabel 5 typ prest'!I20 -> 690226 | C51: ='Tabel 5 typ prest'!J20 -> 685149 | D51: ='Tabel 5 typ prest'!K20 -> 689300 | E51: =C51-B51 -> -5077 | F51: =E51/B51 -> -0.0073555618 | G51: =D51-C51 -> 4151 | H51: =G51/C51 -> 0.0060585362 | I51: =D51-B51 -> -926 | J51: =I51/B51 -> -0.0013415896 | L51: Overheidssector - voltijds | M51: ='Tabel 5 typ prest'!N20 -> 653852.23 | N51: ='Tabel 5 typ prest'!O20 -> 646072.5 | O51: ='Tabel 5 typ prest'!P20 -> 654000 | P51: =N51-M51 -> -7779.73 | Q51: =P51/M51 -> -0.0118983 | R51: =O51-N51 -> 7927.5 | S51: =R51/N51 -> 0.012270295 | T51: =O51-M51 -> 147.77 | U51: =T51/M51 -> 0.00022599908
A52: Overheidssector - deeltijds | B52: ='Tabel 5 typ prest'!I21 -> 462979 | C52: ='Tabel 5 typ prest'!J21 -> 471465 | D52: ='Tabel 5 typ prest'!K21 -> 468200 | E52: =C52-B52 -> 8486 | F52: =E52/B52 -> 0.018329125 | G52: =D52-C52 -> -3265 | H52: =G52/C52 -> -0.0069252224 | I52: =D52-B52 -> 5221 | J52: =I52/B52 -> 0.011276969 | L52: Overheidssector - deeltijds | M52: ='Tabel 5 typ prest'!N21 -> 316934.75 | N52: ='Tabel 5 typ prest'!O21 -> 324265.88 | O52: ='Tabel 5 typ prest'!P21 -> 323500 | P52: =N52-M52 -> 7331.13 | Q52: =P52/M52 -> 0.023131354 | R52: =O52-N52 -> -765.88 | S52: =R52/N52 -> -0.002361889 | T52: =O52-M52 -> 6565.25 | U52: =T52/M52 -> 0.020714832
A53: Totaal | B53: =SUM(B49:B52) -> 4276593 | C53: =SUM(C49:C52) -> 4288680 | D53: =SUM(D49:D52) -> 4291000 | E53: =C53-B53 -> 12087 | F53: =E53/B53 -> 0.0028263152 | G53: =SUM(G49:G52) -> 2320 | H53: =G53/C53 -> 0.00054095899 | I53: =SUM(I49:I52) -> 14407 | J53: =I53/B53 -> 0.0033688032 | L53: Totaal | M53: =SUM(M49:M52) -> 3416093.9 | N53: =SUM(N49:N52) -> 3417143.9 | O53: =SUM(O49:O52) -> 3423000 | P53: =N53-M53 -> 1049.98 | Q53: =P53/M53 -> 0.00030736275 | R53: =O53-N53 -> 5856.14 | S53: =R53/N53 -> 0.0017137528 | T53: =O53-M53 -> 6906.12 | U53: =T53/M53 -> 0.0020216423
A55: meer info | L55: meer info
A56: Arbeidsplaatsen | B56: 45291 | C56: 45747 | D56: 46112 | E56: 2023-2024 | G56: 2025-2026 | I56: 2023-2025 | L56: Arbeidsvolume | M56: 2023Q4 | N56: 2025Q1 | O56: 2026Q1 | P56: 2023-2024 | R56: 2025-2026 | T56: 2023-2025
A57: Gewest hoofdverblijfplaats | B57: aantallen | C57: aantallen | D57: aantallen | E57: abs | F57: in % | G57: abs | H57: in % | I57: abs | J57: in % | L57: Gewest hoofdverblijfplaats | M57: volume | N57: volume | O57: volume | P57: abs | Q57: in % | R57: abs | S57: in % | T57: abs | U57: in %
A58: Brussels Hoofdstedelijk Gewest | C58: ='Tab4 Domicile'!J$8 -> 366767 | D58: ='Tab4 Domicile'!K$8 -> 365000 | G58: =D58-C58 -> -1767 | H58: =G58/C58 -> -0.0048177726 | L58: Brussels Hoofdstedelijk Gewest | N58: ='Tab4 Domicile'!O8 -> 295920.44 | O58: ='Tab4 Domicile'!P8 -> 293900 | R58: =O58-N58 -> -2020.44 | S58: =R58/N58 -> -0.006827646
A59: Vlaams Gewest | C59: ='Tab4 Domicile'!J9 -> 2599286 | D59: ='Tab4 Domicile'!K9 -> 2603100 | G59: =D59-C59 -> 3814 | H59: =G59/C59 -> 0.001467326 | L59: Vlaams Gewest | N59: ='Tab4 Domicile'!O9 -> 2079339.5 | O59: ='Tab4 Domicile'!P9 -> 2085400 | R59: =O59-N59 -> 6060.54 | S59: =R59/N59 -> 0.0029146468
A60: Waals Gewest | C60: ='Tab4 Domicile'!J15 -> 1221429 | D60: ='Tab4 Domicile'!K15 -> 1221400 | G60: =D60-C60 -> -29 | H60: =G60/C60 -> -2.3742682e-05 | L60: Waals Gewest | N60: ='Tab4 Domicile'!O15 -> 960273.82 | O60: ='Tab4 Domicile'!P15 -> 961700 | R60: =O60-N60 -> 1426.18 | S60: =R60/N60 -> 0.0014851805
A61: Buitenland/onbekend | C61: ='Tab4 Domicile'!J24+'Tab4 Domicile'!J25+'Tab4 Domicile'!J26 -> 101198 | D61: ='Tab4 Domicile'!K24+'Tab4 Domicile'!K25+'Tab4 Domicile'!K26 -> 101500 | G61: =D61-C61 -> 302 | H61: =G61/C61 -> 0.0029842487 | L61: Buitenland/onbekend | N61: =SUM('Tab4 Domicile'!O24:O26) -> 81610.14 | O61: =SUM('Tab4 Domicile'!P24:P26) -> 82000 | R61: =O61-N61 -> 389.86 | S61: =R61/N61 -> 0.0047771025
A62: Totaal | C62: =SUM(C58:C61) -> 4288680 | D62: =SUM(D58:D61) -> 4291000 | G62: =SUM(G58:G61) -> 2320 | H62: =G62/C62 -> 0.00054095899 | L62: Totaal | N62: =SUM(N58:N61) -> 3417143.9 | O62: =SUM(O58:O61) -> 3423000 | R62: =O62-N62 -> 5856.14 | S62: =R62/N62 -> 0.0017137528
A65: meer info | L65: meer info
A66: Arbeidsplaatsen | B66: 45291 | C66: 45747 | D66: 46112 | E66: 2023-2024 | G66: 2025-2026 | I66: 2023-2025 | L66: Arbeidsvolume | M66: 2023Q4 | N66: 2025Q1 | O66: 2026Q1 | P66: 2023-2024 | R66: 2025-2026 | T66: 2023-2025
A67: Paritair Comité | B67: aantallen | C67: aantallen | D67: aantallen | E67: abs | F67: in % | G67: abs | H67: in % | I67: abs | J67: in % | L67: Paritair comité | M67: volume | N67: volume | O67: volume | P67: abs | Q67: in % | R67: abs | S67: in % | T67: abs | U67: in %
A68: Onder paritair comité | B68: =SUM('Tabel 7 PC'!H11:H19) -> 3183789 | C68: =SUM('Tabel 7 PC'!I11:I19) -> 3192832 | D68: =SUM('Tabel 7 PC'!J11:J19) -> 3211000 | E68: =C68-B68 -> 9043 | F68: =E68/B68 -> 0.0028403264 | G68: =D68-C68 -> 18168 | H68: =G68/C68 -> 0.0056902462 | I68: =D68-B68 -> 27211 | J68: =I68/B68 -> 0.0085467347 | L68: Onder paritair comité | M68: =SUM('Tabel 7 PC'!M11:M19) -> 2491380.8 | N68: =SUM('Tabel 7 PC'!N11:N19) -> 2492663 | O68: =SUM('Tabel 7 PC'!O11:O19) -> 2502800 | P68: =N68-M68 -> 1282.17 | Q68: =P68/M68 -> 0.00051464232 | R68: =O68-N68 -> 10137.01 | S68: =R68/N68 -> 0.0040667391 | T68: =O68-M68 -> 11419.18 | U68: =T68/M68 -> 0.0045834743
A69: Geen par. com. van toepassing | B69: ='Tabel 7 PC'!H20 -> 1092804 | C69: ='Tabel 7 PC'!I20 -> 1095848 | D69: ='Tabel 7 PC'!J20 -> 1080000 | E69: =C69-B69 -> 3044 | F69: =E69/B69 -> 0.0027854949 | G69: =D69-C69 -> -15848 | H69: =G69/C69 -> -0.01446186 | I69: =D69-B69 -> -12804 | J69: =I69/B69 -> -0.011716648 | L69: Geen par. com. van toepassing | M69: ='Tabel 7 PC'!M20 -> 924713.06 | N69: ='Tabel 7 PC'!N20 -> 924480.87 | O69: ='Tabel 7 PC'!O20 -> 920200 | P69: =N69-M69 -> -232.19 | Q69: =P69/M69 -> -0.00025109411 | R69: =O69-N69 -> -4280.87 | S69: =R69/N69 -> -0.0046305663 | T69: =O69-M69 -> -4513.06 | U69: =T69/M69 -> -0.0048804977
A70: Totaal | B70: =SUM(B68:B69) -> 4276593 | C70: =SUM(C68:C69) -> 4288680 | D70: =SUM(D68:D69) -> 4291000 | E70: =C70-B70 -> 12087 | F70: =E70/B70 -> 0.0028263152 | G70: =SUM(G68:G69) -> 2320 | H70: =G70/C70 -> 0.00054095899 | I70: =SUM(I68:I69) -> 14407 | J70: =I70/B70 -> 0.0033688032 | L70: Totaal | M70: =SUM(M68:M69) -> 3416093.9 | N70: =SUM(N68:N69) -> 3417143.9 | O70: =SUM(O68:O69) -> 3423000 | P70: =N70-M70 -> 1049.98 | Q70: =P70/M70 -> 0.00030736275 | R70: =O70-N70 -> 5856.14 | S70: =R70/N70 -> 0.0017137528 | T70: =O70-M70 -> 6906.12 | U70: =T70/M70 -> 0.0020216423
A73: 'Klassieke' uitzendarbeid
A74: meer info | L74: meer info
A75: Arbeidsplaatsen | B75: 45291 | C75: 45747 | D75: 46112 | E75: 2023-2024 | G75: 2025-2026 | I75: 2023-2025 | L75: Arbeidsvolume | M75: 2023Q4 | N75: 2025Q1 | O75: 2026Q1 | P75: 2023-2024 | R75: 2025-2026 | T75: 2023-2025
A76: Activiteit gebruiker interim (NACE) | B76: aantallen | C76: aantallen | D76: aantallen | E76: abs | F76: in % | G76: abs | H76: in % | I76: abs | J76: in % | L76: Activiteit gebruiker interim (NACE) | M76: volume | N76: volume | O76: volume | P76: abs | Q76: in % | R76: abs | S76: in % | T76: abs | U76: in %
A77: Landbouw, bosbouw en visserij | C77: ='Tab8 Intérim classique'!E8 -> 499 | D77: ='Tab8 Intérim classique'!F8 -> 550 | G77: =D77-C77 -> 51 | H77: =G77/C77 -> 0.10220441 | L77: Landbouw, bosbouw en visserij | N77: ='Tab8 Intérim classique'!J8 -> 338.97 | O77: ='Tab8 Intérim classique'!K8 -> 390 | R77: =O77-N77 -> 51.03 | S77: =R77/N77 -> 0.1505443
A78: Industrie, Energie en Bouw | C78: ='Tab8 Intérim classique'!E9 -> 37735 | D78: ='Tab8 Intérim classique'!F9 -> 37270 | G78: =D78-C78 -> -465 | H78: =G78/C78 -> -0.012322777 | L78: Industrie, Energie en Bouw | N78: ='Tab8 Intérim classique'!J9 -> 31714.14 | O78: ='Tab8 Intérim classique'!K9 -> 31070 | R78: =O78-N78 -> -644.14 | S78: =R78/N78 -> -0.020310814
A79: Commerciële Dienstverlening | C79: ='Tab8 Intérim classique'!E12 -> 59006 | D79: ='Tab8 Intérim classique'!F12 -> 55800 | G79: =D79-C79 -> -3206 | H79: =G79/C79 -> -0.054333458 | L79: Commerciële Dienstverlening | N79: ='Tab8 Intérim classique'!J12 -> 44333.81 | O79: ='Tab8 Intérim classique'!K12 -> 40900 | R79: =O79-N79 -> -3433.81 | S79: =R79/N79 -> -0.077453528
A80: Niet-Commerciële Dienstverlening | C80: ='Tab8 Intérim classique'!E18 -> 8617 | D80: ='Tab8 Intérim classique'!F18 -> 7790 | G80: =D80-C80 -> -827 | H80: =G80/C80 -> -0.095973076 | L80: Niet-Commerciële Dienstverlening | N80: ='Tab8 Intérim classique'!J18 -> 4856.48 | O80: ='Tab8 Intérim classique'!K18 -> 4360 | R80: =O80-N80 -> -496.48 | S80: =R80/N80 -> -0.10223042
A81: Onbekend | C81: ='Tab8 Intérim classique'!E22 -> 1451 | D81: ='Tab8 Intérim classique'!F22 -> 1360 | G81: =D81-C81 -> -91 | H81: =G81/C81 -> -0.062715369 | L81: Onbekend | N81: ='Tab8 Intérim classique'!J22 -> 798.29 | O81: ='Tab8 Intérim classique'!K22 -> 730 | R81: =O81-N81 -> -68.29 | S81: =R81/N81 -> -0.085545353
A82: Totaal | C82: =SUM(C77:C81) -> 107308 | D82: =SUM(D77:F81) -> 102770 | G82: =SUM(G77:G80) -> -4447 | H82: =G82/C82 -> -0.041441458 | L82: Totaal | N82: =SUM(N77:N81) -> 82041.69 | O82: =SUM(O77:Q81) -> 77450 | R82: =O82-N82 -> -4591.69 | S82: =R82/N82 -> -0.055967765
A85: 'Bijzondere' uitzendarbeid
A86: meer info | L86: meer info
A87: Arbeidsplaatsen | B87: 45291 | C87: 45747 | D87: 46112 | E87: 2023-2024 | G87: 2025-2026 | I87: 2023-2025 | L87: Arbeidsvolume | M87: 2023Q4 | N87: 2025Q1 | O87: 2026Q1 | P87: 2023-2024 | R87: 2025-2026
A88: Activiteit gebruiker interim (NACE) | B88: aantallen | C88: aantallen | D88: aantallen | E88: abs | F88: in % | G88: abs | H88: in % | I88: abs | J88: in % | L88: Activiteit gebruiker interim (NACE) | M88: volume | N88: volume | O88: volume | P88: abs | Q88: in % | R88: abs | S88: in %
A89: Landbouw, bosbouw en visserij | C89: ='Tabel 9 bijz uitzend'!D8 -> 409 | D89: ='Tabel 9 bijz uitzend'!E8 -> 450 | G89: =D89-C89 -> 41 | H89: =G89/C89 -> 0.1002445 | L89: Landbouw, bosbouw en visserij | N89: ='Tabel 9 bijz uitzend'!I8 -> 240.95 | O89: ='Tabel 9 bijz uitzend'!J8 -> 250 | R89: =O89-N89 -> 9.05 | S89: =R89/N89 -> 0.03755966
A90: Industrie, Energie en Bouw | C90: ='Tabel 9 bijz uitzend'!D9 -> 2137 | D90: ='Tabel 9 bijz uitzend'!E9 -> 2630 | G90: =D90-C90 -> 493 | H90: =G90/C90 -> 0.23069724 | L90: Industrie, Energie en Bouw | N90: ='Tabel 9 bijz uitzend'!I9 -> 573.52 | O90: ='Tabel 9 bijz uitzend'!J9 -> 730 | R90: =O90-N90 -> 156.48 | S90: =R90/N90 -> 0.2728414
A91: Commerciële Dienstverlening | C91: ='Tabel 9 bijz uitzend'!D10 -> 21893 | D91: ='Tabel 9 bijz uitzend'!E10 -> 26290 | G91: =D91-C91 -> 4397 | H91: =G91/C91 -> 0.20084045 | L91: Commerciële Dienstverlening | N91: ='Tabel 9 bijz uitzend'!I10 -> 5919.83 | O91: ='Tabel 9 bijz uitzend'!J10 -> 6990 | R91: =O91-N91 -> 1070.17 | S91: =R91/N91 -> 0.18077715
A92: Niet-Commerciële Dienstverlening | C92: ='Tabel 9 bijz uitzend'!D11 -> 2670 | D92: ='Tabel 9 bijz uitzend'!E11 -> 3220 | G92: =D92-C92 -> 550 | H92: =G92/C92 -> 0.20599251 | L92: Niet-Commerciële Dienstverlening | N92: ='Tabel 9 bijz uitzend'!I11 -> 654.98 | O92: ='Tabel 9 bijz uitzend'!J11 -> 760 | R92: =O92-N92 -> 105.02 | S92: =R92/N92 -> 0.16034077
A93: Onbekend | C93: ='Tabel 9 bijz uitzend'!D12 -> 112 | D93: ='Tabel 9 bijz uitzend'!E12 -> 190 | G93: =D93-C93 -> 78 | H93: =G93/C93 -> 0.69642857 | L93: Onbekend | N93: ='Tabel 9 bijz uitzend'!I12 -> 66.9 | O93: ='Tabel 9 bijz uitzend'!J12 -> 80 | R93: =O93-N93 -> 13.1 | S93: =R93/N93 -> 0.19581465
A94: Totaal | C94: =SUM(C89:C93) -> 27221 | D94: =SUM(D89:D93) -> 32780 | G94: =SUM(G89:G93) -> 5559 | H94: =G94/C94 -> 0.20421733 | L94: Totaal | N94: =SUM(N89:N93) -> 7456.18 | O94: =SUM(O89:O93) -> 8810 | R94: =SUM(R89:R93) -> 1353.82 | S94: =R94/N94 -> 0.18157019

Sheet Tableau Shrt - Résumé
A1: Aperçu Evolution Emploi quatrième Trimestre 2025-2026
A3: plus d'info
A4: Evolution Emploi | B4: 45291 | C4: 45747 | D4: 46112 | E4: 2023-2024 | G4: 2025-2026 | I4: 2023-2025
B5: nombre | C5: nombre | D5: nombre | E5: abs | F5: in % | G5: abs | H5: in % | I5: nombre | J5: en %
A6: Travailleurs occupés | B6: ='Tabel 1 lftd_sexe'!D29 -> 4127206 | C6: ='Tabel 1 lftd_sexe'!E29 -> 4133126 | D6: ='Tabel 1 lftd_sexe'!F29 -> 4129000 | E6: =C6-B6 -> 5920 | F6: =E6/B6 -> 0.0014343844 | G6: =D6-C6 -> -4126 | H6: =G6/C6 -> -0.00099827588 | I6: =D6-B6 -> 1794 | J6: =I6/B6 -> 0.00043467663
A7: Postes de travail | B7: ='Tabel 1 lftd_sexe'!I29 -> 4276593 | C7: ='Tabel 1 lftd_sexe'!J29 -> 4288680 | D7: ='Tabel 1 lftd_sexe'!K29 -> 4291000 | E7: =C7-B7 -> 12087 | F7: =E7/B7 -> 0.0028263152 | G7: =D7-C7 -> 2320 | H7: =G7/C7 -> 0.00054095899 | I7: =D7-B7 -> 14407 | J7: =I7/B7 -> 0.0033688032
A8: Volume de travail en etp | B8: ='Tabel 1 lftd_sexe'!N29 -> 3416093.9 | C8: ='Tabel 1 lftd_sexe'!O29 -> 3417143.9 | D8: ='Tabel 1 lftd_sexe'!P29 -> 3423000 | E8: =C8-B8 -> 1049.98 | F8: =E8/B8 -> 0.00030736275 | G8: =D8-C8 -> 5856.14 | H8: =G8/C8 -> 0.0017137528 | I8: =D8-B8 -> 6906.12 | J8: =I8/B8 -> 0.0020216423
A10: plus d'info | L10: plus d'info
A11: Postes de travail | B11: 45291 | C11: 45747 | D11: 46112 | E11: 2023-2024 | G11: 2025-2026 | I11: 2023-2025 | L11: Volume de travail | M11: 2023Q4 | N11: 2025Q1 | O11: 2026Q1 | P11: 2023-2024 | R11: 2025-2026 | T11: 2023-2025
A12: genre | B12: nombre | C12: nombre | D12: nombre | E12: abs | F12: in % | G12: abs | H12: in % | I12: nombre | J12: en % | L12: genre | M12: volume | N12: volume | O12: volume | P12: abs | Q12: en % | R12: abs | S12: en % | T12: volume | U12: en %
A13: Hommes | B13: ='Tabel 1 lftd_sexe'!I27 -> 2142011 | C13: ='Tabel 1 lftd_sexe'!J27 -> 2146672 | D13: ='Tabel 1 lftd_sexe'!K27 -> 2148500 | E13: =C13-B13 -> 4661 | F13: =E13/B13 -> 0.0021759926 | G13: =D13-C13 -> 1828 | H13: =G13/C13 -> 0.00085155068 | I13: =D13-B13 -> 6489 | J13: =I13/B13 -> 0.0030293962 | L13: Hommes | M13: 1858874.2 | N13: ='Tabel 1 lftd_sexe'!O27 -> 1831081.2 | O13: ='Tabel 1 lftd_sexe'!P27 -> 1830300 | P13: =N13-M13 -> -27793.09 | Q13: =P13/M13 -> -0.014951571 | R13: =O13-N13 -> -781.16 | S13: =R13/N13 -> -0.00042661135 | T13: =O13-M13 -> -28574.25 | U13: =T43/M13 -> -0.34224773
A14: Femmes | B14: ='Tabel 1 lftd_sexe'!I28 -> 2134582 | C14: ='Tabel 1 lftd_sexe'!J28 -> 2142008 | D14: ='Tabel 1 lftd_sexe'!K28 -> 2142500 | E14: =C14-B14 -> 7426 | F14: =E14/B14 -> 0.0034789013 | G14: =D14-C14 -> 492 | H14: =G14/C14 -> 0.00022969102 | I14: =D14-B14 -> 7918 | J14: =I14/B14 -> 0.0037093913 | L14: Femmes | M14: 1601595.2 | N14: ='Tabel 1 lftd_sexe'!O28 -> 1586062.7 | O14: ='Tabel 1 lftd_sexe'!P28 -> 1592700 | P14: =N14-M14 -> -15532.47 | Q14: =P14/M14 -> -0.0096981249 | R14: =O14-N14 -> 6637.3 | S14: =R14/N14 -> 0.0041847652 | T14: =O14-M14 -> -8895.17 | U14: =T44/M14 -> -0.084689435
A15: Total | B15: ='Tabel 1 lftd_sexe'!I29 -> 4276593 | C15: ='Tabel 1 lftd_sexe'!J29 -> 4288680 | D15: ='Tabel 1 lftd_sexe'!K29 -> 4291000 | E15: =C15-B15 -> 12087 | F15: =E15/B15 -> 0.0028263152 | G15: =SUM(G13:G14) -> 2320 | H15: =G15/C15 -> 0.00054095899 | I15: =SUM(I13:I14) -> 14407 | J15: =I15/B15 -> 0.0033688032 | L15: Total | M15: =SUM(M13:M14) -> 3460469.4 | N15: =SUM(N13:N14) -> 3417143.9 | O15: =SUM(O13:O14) -> 3423000 | P15: =N15-M15 -> -43325.56 | Q15: =P15/M15 -> -0.01252014 | R15: =O15-N15 -> 5856.14 | S15: =R15/N15 -> 0.0017137528 | T15: =O15-M15 -> -37469.42 | U15: =T45/M15 -> 0
A17: plus d'info | L17: plus d'info
A18: Postes de travail | B18: 45291 | C18: 45747 | D18: 46112 | E18: 2023-2024 | G18: 2025-2026 | I18: 2023-2025 | L18: Volume de travail | M18: 2023Q4 | N18: 2025Q1 | O18: 2026Q1 | P18: 2023-2024 | R18: 2025-2026 | T18: 2023-2025
A19: Age | B19: nombre | C19: nombre | D19: nombre | E19: abs | F19: in % | G19: abs | H19: in % | I19: nombre | J19: en % | L19: Age | M19: volume | N19: volume | O19: volume | P19: abs | Q19: en % | R19: abs | S19: en % | T19: abs | U19: en %
A20: <25 | B20: ='Tabel 1 lftd_sexe'!I12 -> 282611 | C20: ='Tabel 1 lftd_sexe'!J12 -> 280423 | D20: ='Tabel 1 lftd_sexe'!K12 -> 271800 | E20: =C20-B20 -> -2188 | F20: =E20/B20 -> -0.0077420907 | G20: =D20-C20 -> -8623 | H20: =G20/C20 -> -0.030749974 | I20: =D20-B20 -> -10811 | J20: =I20/B20 -> -0.038253996 | L20: <25 | M20: 244761.83 | N20: ='Tabel 1 lftd_sexe'!O12 -> 229429.98 | O20: ='Tabel 1 lftd_sexe'!P12 -> 221600 | P20: =N20-M20 -> -15331.85 | Q20: =P20/M20 -> -0.062639873 | R20: =O20-N20 -> -7829.98 | S20: =R20/N20 -> -0.034127972 | T20: =O20-M20 -> -23161.83 | U20: =T40/M20 -> 6.2865194
A21: 25 - 39 | B21: ='Tabel 1 lftd_sexe'!I15 -> 1589063 | C21: ='Tabel 1 lftd_sexe'!J15 -> 1586783 | D21: ='Tabel 1 lftd_sexe'!K15 -> 1576000 | E21: =C21-B21 -> -2280 | F21: =E21/B21 -> -0.0014348078 | G21: =D21-C21 -> -10783 | H21: =G21/C21 -> -0.0067955102 | I21: =D21-B21 -> -13063 | J21: =I21/B21 -> -0.0082205677 | L21: 25 - 39 | M21: 1338293 | N21: ='Tabel 1 lftd_sexe'!O15 -> 1314108.3 | O21: ='Tabel 1 lftd_sexe'!P15 -> 1303300 | P21: =N21-M21 -> -24184.74 | Q21: =P21/M21 -> -0.018071334 | R21: =O21-N21 -> -10808.29 | S21: =R21/N21 -> -0.0082248092 | T21: =O21-M21 -> -34993.03 | U21: =T41/M21 -> -0.21207711
A22: 40 - 49 | B22: ='Tabel 1 lftd_sexe'!I18 -> 1047412 | C22: ='Tabel 1 lftd_sexe'!J18 -> 1052307 | D22: ='Tabel 1 lftd_sexe'!K18 -> 1057000 | E22: =C22-B22 -> 4895 | F22: =E22/B22 -> 0.0046734236 | G22: =D22-C22 -> 4693 | H22: =G22/C22 -> 0.0044597252 | I22: =D22-B22 -> 9588 | J22: =I22/B22 -> 0.009153991 | L22: 40 - 49 | M22: 865648.4 | N22: ='Tabel 1 lftd_sexe'!O18 -> 859215.95 | O22: ='Tabel 1 lftd_sexe'!P18 -> 865800 | P22: =N22-M22 -> -6432.45 | Q22: =P22/M22 -> -0.0074307883 | R22: =O22-N22 -> 6584.05 | S22: =R22/N22 -> 0.0076628582 | T22: =O22-M22 -> 151.6 | U22: =T42/M22 -> -0.13526934
A23: 50 - 64 | B23: ='Tabel 1 lftd_sexe'!I21 -> 1304661 | C23: ='Tabel 1 lftd_sexe'!J21 -> 1306165 | D23: ='Tabel 1 lftd_sexe'!K21 -> 1304000 | E23: =C23-B23 -> 1504 | F23: =E23/B23 -> 0.0011527899 | G23: =D23-C23 -> -2165 | H23: =G23/C23 -> -0.0016575241 | I23: =D23-B23 -> -661 | J23: =I23/B23 -> -0.00050664502 | L23: 50 - 64 | M23: 987590.81 | N23: ='Tabel 1 lftd_sexe'!O21 -> 985769.3 | O23: ='Tabel 1 lftd_sexe'!P21 -> 992200 | P23: =N23-M23 -> -1821.51 | Q23: =P23/M23 -> -0.0018443975 | R23: =O23-N23 -> 6430.7 | S23: =R23/N23 -> 0.0065235345 | T23: =O23-M23 -> 4609.19 | U23: =T43/M23 -> -0.64418936
A24: 65 et plus | B24: ='Tabel 1 lftd_sexe'!I24 -> 52846 | C24: ='Tabel 1 lftd_sexe'!J24 -> 63002 | D24: ='Tabel 1 lftd_sexe'!K24 -> 82200 | E24: =C24-B24 -> 10156 | F24: =E24/B24 -> 0.19218105 | G24: =D24-C24 -> 19198 | H24: =G24/C24 -> 0.30472049 | I24: =D24-B24 -> 29354 | J24: =I24/B24 -> 0.55546304 | L24: 65 et plus | M24: 24175.35 | N24: ='Tabel 1 lftd_sexe'!O24 -> 28620.34 | O24: ='Tabel 1 lftd_sexe'!P24 -> 40100 | P24: =N24-M24 -> 4444.99 | Q24: =P24/M24 -> 0.18386456 | R24: =O24-N24 -> 11479.66 | S24: =R24/N24 -> 0.40110145 | T24: =O24-M24 -> 15924.65 | U24: =T44/M24 -> -5.6105988
A25: Total | B25: =SUM(B20:B24) -> 4276593 | C25: =SUM(C20:C24) -> 4288680 | D25: =SUM(D20:D24) -> 4291000 | E25: =C25-B25 -> 12087 | F25: =E25/B25 -> 0.0028263152 | G25: =SUM(G20:G24) -> 2320 | H25: =G25/C25 -> 0.00054095899 | I25: =SUM(I20:I24) -> 14407 | J25: =I25/B25 -> 0.0033688032 | L25: Total | M25: =SUM(M20:M24) -> 3460469.4 | N25: =SUM(N20:N24) -> 3417143.9 | O25: =SUM(O20:O24) -> 3423000 | P25: =N25-M25 -> -43325.56 | Q25: =P25/M25 -> -0.01252014 | R25: =O25-N25 -> 5856.14 | S25: =R25/N25 -> 0.0017137528 | T25: =O25-M25 -> -37469.42 | U25: =T45/M25 -> 0
A27: plus d'info | L27: plus d'info
A28: Postes de travail | B28: 45291 | C28: 45747 | D28: 46112 | E28: 2023-2024 | G28: 2025-2026 | I28: 2023-2025 | L28: Volume de travail | M28: 2023Q4 | N28: 2025Q1 | O28: 2026Q1 | P28: 2023-2024 | R28: 2025-2026 | T28: 2023-2025
A29: Activité (Nace) | B29: nombre | C29: nombre | D29: nombre | E29: abs | F29: in % | G29: abs | H29: in % | I29: nombre | J29: en % | L29: Activité (Nace) | M29: volume | N29: volume | O29: volume | P29: abs | Q29: en % | R29: abs | S29: en % | T29: abs | U29: en %
A30: Agriculture, sylviculture et pêche | C30: ='Tab2 Activité_NACE'!J8 -> 25409 | D30: ='Tab2 Activité_NACE'!K8 -> 26700 | G30: =D30-C30 -> 1291 | H30: =G30/C30 -> 0.050808769 | L30: Agriculture, sylviculture et pêche | N30: ='Tab2 Activité_NACE'!O8 -> 20887.33 | O30: ='Tab2 Activité_NACE'!P8 -> 22000 | R30: =O30-N30 -> 1112.67 | S30: =R30/N30 -> 0.053270092
A31: Industries, énergie et construction | C31: ='Tab2 Activité_NACE'!J9 -> 736164 | D31: ='Tab2 Activité_NACE'!K9 -> 726500 | G31: =D31-C31 -> -9664 | H31: =G31/C31 -> -0.01312751 | L31: Industries, énergie et construction | N31: ='Tab2 Activité_NACE'!O9 -> 622350.56 | O31: ='Tab2 Activité_NACE'!P9 -> 616000 | R31: =O31-N31 -> -6350.56 | S31: =R31/N31 -> -0.010204152
A32: Services commerciaux | C32: ='Tab2 Activité_NACE'!J12 -> 1692815 | D32: ='Tab2 Activité_NACE'!K12 -> 1699200 | G32: =D32-C32 -> 6385 | H32: =G32/C32 -> 0.0037718239 | L32: Services commerciaux | N32: ='Tab2 Activité_NACE'!O12 -> 1364675.9 | O32: ='Tab2 Activité_NACE'!P12 -> 1364600 | R32: =O32-N32 -> -75.92 | S32: =R32/N32 -> -5.5632256e-05
A33: Services non-commerciaux | C33: ='Tab2 Activité_NACE'!J18 -> 1834292 | D33: ='Tab2 Activité_NACE'!K18 -> 1838600 | G33: =D33-C33 -> 4308 | H33: =G33/C33 -> 0.0023485901 | L33: Services non-commerciaux | N33: ='Tab2 Activité_NACE'!O18 -> 1409230 | O33: ='Tab2 Activité_NACE'!P18 -> 1420400 | R33: =O33-N33 -> 11169.95 | S33: =R33/N33 -> 0.0079262786
A34: Total | C34: =SUM(C30:C33) -> 4288680 | D34: =SUM(D30:D33) -> 4291000 | G34: =SUM(G30:G33) -> 2320 | H34: =G34/C34 -> 0.00054095899 | L34: Total | N34: =SUM(N30:N33) -> 3417143.9 | O34: =SUM(O30:O33) -> 3423000 | R34: =O34-N34 -> 5856.14 | S34: =R34/N34 -> 0.0017137528
A36: plus d'info | L36: plus d'info
A37: Postes de travail | B37: 45291 | C37: 45747 | D37: 46112 | E37: 2023-2024 | G37: 2025-2026 | I37: 2023-2025 | L37: Volume de travail | M37: 2023Q4 | N37: 2025Q1 | O37: 2026Q1 | P37: 2023-2024 | R37: 2025-2026 | T37: 2023-2025
A38: Secteur/statut | B38: nombre | C38: nombre | D38: nombre | E38: abs | F38: in % | G38: abs | H38: in % | I38: nombre | J38: en % | L38: Secteur/statut | M38: volume | N38: volume | O38: volume | P38: abs | Q38: en % | R38: abs | S38: en % | T38: abs | U38: en %
A39: Secteur privé - Ouvriers | B39: ='Tab3 Sect_Stat'!I10 -> 1283969 | C39: ='Tab3 Sect_Stat'!J10 -> 1279760 | D39: ='Tab3 Sect_Stat'!K10 -> 1275000 | E39: =C39-B39 -> -4209 | F39: =E39/B39 -> -0.0032781165 | G39: =D39-C39 -> -4760 | H39: =G39/C39 -> -0.0037194474 | I39: =D39-B39 -> -8969 | J39: =I39/B39 -> -0.0069853711 | L39: Secteur privé - Ouvriers | M39: 1544025.7 | N39: ='Tab3 Sect_Stat'!O10 -> 910841.67 | O39: ='Tab3 Sect_Stat'!P10 -> 906800 | P39: =N39-M39 -> -633184.02 | Q39: =P39/M39 -> -0.41008645 | R39: =O39-N39 -> -4041.67 | S39: =R39/N39 -> -0.0044372915 | T39: =O39-M39 -> -637225.69 | U39: =T49/M39 -> 0.74510396
A40: Secteur privé - Employés | B40: ='Tab3 Sect_Stat'!I11 -> 1839419 | C40: ='Tab3 Sect_Stat'!J11 -> 1852306 | D40: ='Tab3 Sect_Stat'!K11 -> 1858500 | E40: =C40-B40 -> 12887 | F40: =E40/B40 -> 0.0070060166 | G40: =D40-C40 -> 6194 | H40: =G40/C40 -> 0.0033439399 | I40: =D40-B40 -> 19081 | J40: =I40/B40 -> 0.010373384 | L40: Secteur privé - Employés | M40: 0 | N40: ='Tab3 Sect_Stat'!O11 -> 1535963.8 | O40: ='Tab3 Sect_Stat'!P11 -> 1538700 | P40: =N40-M40 -> 1535963.8 | Q40: =P40/M40 -> #DIV/0! | R40: =O40-N40 -> 2736.19 | S40: =R40/N40 -> 0.0017814157 | T40: =O40-M40 -> 1538700 | U40: =T40/M40 -> #DIV/0!
A41: Secteur public - Ouvriers | B41: ='Tab3 Sect_Stat'!I15+'Tab3 Sect_Stat'!I20+'Tab3 Sect_Stat'!I24+'Tab3 Sect_Stat'!I28+'Tab3 Sect_Stat'!I32 -> 131893 | C41: ='Tab3 Sect_Stat'!J15+'Tab3 Sect_Stat'!J20+'Tab3 Sect_Stat'!J24+'Tab3 Sect_Stat'!J28+'Tab3 Sect_Stat'!J32 -> 132512 | D41: ='Tab3 Sect_Stat'!K15+'Tab3 Sect_Stat'!K20+'Tab3 Sect_Stat'!K24+'Tab3 Sect_Stat'!K28+'Tab3 Sect_Stat'!K32 -> 130700 | E41: =C41-B41 -> 619 | F41: =E41/B41 -> 0.0046931983 | G41: =D41-C41 -> -1812 | H41: =G41/C41 -> -0.013674233 | I41: =D41-B41 -> -1193 | J41: =I41/B41 -> -0.0090452109 | L41: Secteur public - Ouvriers | M41: 379321.32 | N41: ='Tab3 Sect_Stat'!O15+'Tab3 Sect_Stat'!O20+'Tab3 Sect_Stat'!O24+'Tab3 Sect_Stat'!O28+'Tab3 Sect_Stat'!O32 -> 95195.74 | O41: ='Tab3 Sect_Stat'!P15+'Tab3 Sect_Stat'!P20+'Tab3 Sect_Stat'!P24+'Tab3 Sect_Stat'!P28+'Tab3 Sect_Stat'!P32 -> 95500 | P41: =N41-M41 -> -284125.58 | Q41: =P41/M41 -> -0.74903667 | R41: =O41-N41 -> 304.26 | S41: =R41/N41 -> 0.0031961514 | T41: =O41-M41 -> -283821.32 | U41: =T41/M41 -> -0.74823456
A42: Secteur public - Employés | B42: ='Tab3 Sect_Stat'!I16+'Tab3 Sect_Stat'!I21+'Tab3 Sect_Stat'!I25+'Tab3 Sect_Stat'!I29+'Tab3 Sect_Stat'!I33 -> 471156 | C42: ='Tab3 Sect_Stat'!J16+'Tab3 Sect_Stat'!J21+'Tab3 Sect_Stat'!J25+'Tab3 Sect_Stat'!J29+'Tab3 Sect_Stat'!J33 -> 471450 | D42: ='Tab3 Sect_Stat'!K16+'Tab3 Sect_Stat'!K21+'Tab3 Sect_Stat'!K25+'Tab3 Sect_Stat'!K29+'Tab3 Sect_Stat'!K33 -> 472600 | E42: =C42-B42 -> 294 | F42: =E42/B42 -> 0.00062399715 | G42: =D42-C42 -> 1150 | H42: =G42/C42 -> 0.0024392831 | I42: =D42-B42 -> 1444 | J42: =I42/B42 -> 0.0030648023 | L42: Secteur public - Employés | M42: 493195.69 | N42: ='Tab3 Sect_Stat'!O16+'Tab3 Sect_Stat'!O21+'Tab3 Sect_Stat'!O25+'Tab3 Sect_Stat'!O29+'Tab3 Sect_Stat'!O33 -> 372600.16 | O42: ='Tab3 Sect_Stat'!P16+'Tab3 Sect_Stat'!P21+'Tab3 Sect_Stat'!P25+'Tab3 Sect_Stat'!P29+'Tab3 Sect_Stat'!P33 -> 376100 | P42: =N42-M42 -> -120595.53 | Q42: =P42/M42 -> -0.24451862 | R42: =O42-N42 -> 3499.84 | S42: =R42/N42 -> 0.009393018 | T42: =O42-M42 -> -117095.69 | U42: =T42/M42 -> -0.23742237
A43: Secteur public - Fonctionnaires | B43: ='Tab3 Sect_Stat'!I17+'Tab3 Sect_Stat'!I22+'Tab3 Sect_Stat'!I26+'Tab3 Sect_Stat'!I30 -> 550156 | C43: ='Tab3 Sect_Stat'!J17+'Tab3 Sect_Stat'!J22+'Tab3 Sect_Stat'!J26+'Tab3 Sect_Stat'!J30 -> 552652 | D43: ='Tab3 Sect_Stat'!K17+'Tab3 Sect_Stat'!K22+'Tab3 Sect_Stat'!K26+'Tab3 Sect_Stat'!K30 -> 554200 | E43: =C43-B43 -> 2496 | F43: =E43/B43 -> 0.004536895 | G43: =D43-C43 -> 1548 | H43: =G43/C43 -> 0.0028010394 | I43: =D43-B43 -> 4044 | J43: =I43/B43 -> 0.0073506424 | L43: Secteur public - Fonctionnaires | M43: 1142095.5 | N43: ='Tab3 Sect_Stat'!O17+'Tab3 Sect_Stat'!O22+'Tab3 Sect_Stat'!O26+'Tab3 Sect_Stat'!O30 -> 502542.48 | O43: ='Tab3 Sect_Stat'!P17+'Tab3 Sect_Stat'!P22+'Tab3 Sect_Stat'!P26+'Tab3 Sect_Stat'!P30 -> 505900 | P43: =N43-M43 -> -639553.01 | Q43: =P43/M43 -> -0.55998208 | R43: =O43-N43 -> 3357.52 | S43: =R43/N43 -> 0.006681067 | T43: =O43-M43 -> -636195.49 | U43: =T43/M43 -> -0.55704229
A44: Total | B44: =SUM(B39:B43) -> 4276593 | C44: =SUM(C39:C43) -> 4288680 | D44: =SUM(D39:D43) -> 4291000 | E44: =C44-B44 -> 12087 | F44: =E44/B44 -> 0.0028263152 | G44: =SUM(G39:G43) -> 2320 | H44: =G44/C44 -> 0.00054095899 | I44: =SUM(I39:I43) -> 14407 | J44: =I44/B44 -> 0.0033688032 | L44: Total | M44: =SUM(M39:M43) -> 3558638.2 | N44: =SUM(N39:N43) -> 3417143.9 | O44: =SUM(O39:O43) -> 3423000 | P44: =N44-M44 -> -141494.33 | Q44: =P44/M44 -> -0.039760808 | R44: =O44-N44 -> 5856.14 | S44: =R44/N44 -> 0.0017137528 | T44: =O44-M44 -> -135638.19 | U44: =T44/M44 -> -0.038115195
A46: plus d'info | L46: plus d'info
A47: Postes de travail | B47: 45291 | C47: 45747 | D47: 46112 | E47: 2023-2024 | G47: 2025-2026 | I47: 2023-2025 | L47: Volume de travail | M47: 2023Q4 | N47: 2025Q1 | O47: 2026Q1 | P47: 2023-2024 | R47: 2025-2026 | T47: 2023-2025
A48: Secteur/régime de travail | B48: nombre | C48: nombre | D48: nombre | E48: abs | F48: in % | G48: abs | H48: in % | I48: nombre | J48: en % | L48: Secteur/régime de travail | M48: volume | N48: volume | O48: volume | P48: abs | Q48: en % | R48: abs | S48: en % | T48: abs | U48: en %
A49: Secteur privé - Temps Plein | B49: ='Tabel 5 typ prest'!I39 -> 1924913 | C49: ='Tabel 5 typ prest'!J39 -> 1907968 | D49: ='Tabel 5 typ prest'!K39 -> 1894000 | E49: =C49-B49 -> -16945 | F49: =E49/B49 -> -0.0088029953 | G49: =D49-C49 -> -13968 | H49: =G49/C49 -> -0.0073208775 | I49: =D49-B49 -> -30913 | J49: =I49/B49 -> -0.016059427 | L49: Secteur privé - Temps Plein | M49: 580540.34 | N49: ='Tabel 5 typ prest'!O39 -> 1741082.8 | O49: ='Tabel 5 typ prest'!P39 -> 1731000 | P49: =N49-M49 -> 1160542.4 | Q49: =P49/M49 -> 1.9990728 | R49: =O49-N49 -> -10082.75 | S49: =R49/N49 -> -0.0057910803 | T49: =O49-M49 -> 1150459.7 | U49: =T49/M49 -> 1.9817049
A50: Secteur privé - Temps Partiel/Intér. | B50: ='Tabel 5 typ prest'!I40+'Tabel 5 typ prest'!I17 -> 1198475 | C50: ='Tabel 5 typ prest'!J40+'Tabel 5 typ prest'!J17 -> 1224098 | D50: ='Tabel 5 typ prest'!K40+'Tabel 5 typ prest'!K17 -> 1239500 | E50: =C50-B50 -> 25623 | F50: =E50/B50 -> 0.02137967 | G50: =D50-C50 -> 15402 | H50: =G50/C50 -> 0.012582326 | I50: =D50-B50 -> 41025 | J50: =I50/B50 -> 0.034231002 | L50: Secteur privé - Temps Partiel/Intér. | M50: 31056.34 | N50: ='Tabel 5 typ prest'!O40+'Tabel 5 typ prest'!O17 -> 705722.73 | O50: ='Tabel 5 typ prest'!P40+'Tabel 5 typ prest'!P17 -> 714500 | P50: =N50-M50 -> 674666.39 | Q50: =P50/M50 -> 21.72395 | R50: =O50-N50 -> 8777.27 | S50: =R50/N50 -> 0.012437278 | T50: =O50-M50 -> 683443.66 | U50: =T50/M50 -> 22.006575
A51: Secteur public - Temps Plein | B51: ='Tabel 5 typ prest'!I20 -> 690226 | C51: ='Tabel 5 typ prest'!J20 -> 685149 | D51: ='Tabel 5 typ prest'!K20 -> 689300 | E51: =C51-B51 -> -5077 | F51: =E51/B51 -> -0.0073555618 | G51: =D51-C51 -> 4151 | H51: =G51/C51 -> 0.0060585362 | I51: =D51-B51 -> -926 | J51: =I51/B51 -> -0.0013415896 | L51: Secteur public - Temps Plein | M51: 312787.24 | N51: ='Tabel 5 typ prest'!O20 -> 646072.5 | O51: ='Tabel 5 typ prest'!P20 -> 654000 | P51: =N51-M51 -> 333285.26 | Q51: =P51/M51 -> 1.0655334 | R51: =O51-N51 -> 7927.5 | S51: =R51/N51 -> 0.012270295 | T51: =O51-M51 -> 341212.76 | U51: =T51/M51 -> 1.0908781
A52: Secteur public - Temps Partiel | B52: ='Tabel 5 typ prest'!I21 -> 462979 | C52: ='Tabel 5 typ prest'!J21 -> 471465 | D52: ='Tabel 5 typ prest'!K21 -> 468200 | E52: =C52-B52 -> 8486 | F52: =E52/B52 -> 0.018329125 | G52: =D52-C52 -> -3265 | H52: =G52/C52 -> -0.0069252224 | I52: =D52-B52 -> 5221 | J52: =I52/B52 -> 0.011276969 | L52: Secteur public - Temps Partiel | M52: 65140.75 | N52: ='Tabel 5 typ prest'!O21 -> 324265.88 | O52: ='Tabel 5 typ prest'!P21 -> 323500 | P52: =N52-M52 -> 259125.13 | Q52: =P52/M52 -> 3.9779267 | R52: =O52-N52 -> -765.88 | S52: =R52/N52 -> -0.002361889 | T52: =O52-M52 -> 258359.25 | U52: =T52/M52 -> 3.9661694
A53: Total | B53: =SUM(B49:B52) -> 4276593 | C53: =SUM(C49:C52) -> 4288680 | D53: =SUM(D49:D52) -> 4291000 | E53: =C53-B53 -> 12087 | F53: =E53/B53 -> 0.0028263152 | G53: =SUM(G49:G52) -> 2320 | H53: =G53/C53 -> 0.00054095899 | I53: =SUM(I49:I52) -> 14407 | J53: =I53/B53 -> 0.0033688032 | L53: Total | M53: =SUM(M49:M52) -> 989524.67 | N53: =SUM(N49:N52) -> 3417143.9 | O53: =SUM(O49:O52) -> 3423000 | P53: =N53-M53 -> 2427619.2 | Q53: =P53/M53 -> 2.4533185 | R53: =O53-N53 -> 5856.14 | S53: =R53/N53 -> 0.0017137528 | T53: =O53-M53 -> 2433475.3 | U53: =T53/M53 -> 2.4592366
A55: plus d'info | L55: plus d'info
A56: Postes de travail | B56: 45291 | C56: 45747 | D56: 46112 | E56: 2023-2024 | G56: 2025-2026 | I56: 2023-2025 | L56: Volume de travail | M56: 2023Q4 | N56: 2025Q1 | O56: 2026Q1 | P56: 2023-2024 | R56: 2025-2026 | T56: 2023-2025
A57: Région du domicile | B57: nombre | C57: nombre | D57: nombre | E57: abs | F57: in % | G57: abs | H57: in % | I57: nombre | J57: en % | L57: Région du domicile | M57: volume | N57: volume | O57: volume | P57: abs | Q57: en % | R57: abs | S57: en % | T57: abs | U57: en %
A58: Région de Bruxelles-Capitale | C58: ='Tab4 Domicile'!J$8 -> 366767 | D58: ='Tab4 Domicile'!K$8 -> 365000 | G58: =D58-C58 -> -1767 | H58: =G58/C58 -> -0.0048177726 | L58: Région de Bruxelles-Capitale | N58: ='Tab4 Domicile'!O$8 -> 295920.44 | O58: ='Tab4 Domicile'!P$8 -> 293900 | R58: =O58-N58 -> -2020.44 | S58: =R58/N58 -> -0.006827646
A59: Région Flamande | C59: ='Tab4 Domicile'!J9 -> 2599286 | D59: ='Tab4 Domicile'!K9 -> 2603100 | G59: =D59-C59 -> 3814 | H59: =G59/C59 -> 0.001467326 | L59: Région Flamande | N59: ='Tab4 Domicile'!O9 -> 2079339.5 | O59: ='Tab4 Domicile'!P9 -> 2085400 | R59: =O59-N59 -> 6060.54 | S59: =R59/N59 -> 0.0029146468
A60: Région Wallonne | C60: ='Tab4 Domicile'!J15 -> 1221429 | D60: ='Tab4 Domicile'!K15 -> 1221400 | G60: =D60-C60 -> -29 | H60: =G60/C60 -> -2.3742682e-05 | L60: Région Wallonne | N60: ='Tab4 Domicile'!O15 -> 960273.82 | O60: ='Tab4 Domicile'!P15 -> 961700 | R60: =O60-N60 -> 1426.18 | S60: =R60/N60 -> 0.0014851805
A61: Pays étranger/Inconnu | C61: ='Tab4 Domicile'!J24+'Tab4 Domicile'!J25+'Tab4 Domicile'!J26 -> 101198 | D61: ='Tab4 Domicile'!K24+'Tab4 Domicile'!K25+'Tab4 Domicile'!K26 -> 101500 | G61: =D61-C61 -> 302 | H61: =G61/C61 -> 0.0029842487 | L61: Pays étranger/Inconnu | N61: ='Tab4 Domicile'!O24+'Tab4 Domicile'!O25+'Tab4 Domicile'!O26 -> 81610.14 | O61: ='Tab4 Domicile'!P24+'Tab4 Domicile'!P25+'Tab4 Domicile'!P26 -> 82000 | R61: =O61-N61 -> 389.86 | S61: =R61/N61 -> 0.0047771025
A62: Total | C62: =SUM(C58:C61) -> 4288680 | D62: =SUM(D58:D61) -> 4291000 | G62: =SUM(G58:G61) -> 2320 | H62: =G62/C62 -> 0.00054095899 | L62: Total | N62: =SUM(N58:N61) -> 3417143.9 | O62: =SUM(O58:O61) -> 3423000 | R62: =O62-N62 -> 5856.14 | S62: =R62/N62 -> 0.0017137528
A65: plus d'info | L65: plus d'info
A66: Postes de travail | B66: 45291 | C66: 45747 | D66: 46112 | E66: 2023-2024 | G66: 2025-2026 | I66: 2023-2025 | L66: Volume de travail | M66: 2023Q4 | N66: 2025Q1 | O66: 2026Q1 | P66: 2023-2024 | R66: 2025-2026 | T66: 2023-2025
A67: Commission paritaire | B67: nombre | C67: nombre | D67: nombre | E67: abs | F67: in % | G67: abs | H67: in % | I67: nombre | J67: en % | L67: Commission paritaire | M67: volume | N67: volume | O67: volume | P67: abs | Q67: en % | R67: abs | S67: en % | T67: abs | U67: en %
A68: sous commission paritaire | B68: =SUM('Tabel 7 PC'!H10:H18) -> 2640457 | C68: =SUM('Tabel 7 PC'!I11:I19) -> 3192832 | D68: =SUM('Tabel 7 PC'!J11:J19) -> 3211000 | E68: =C68-B68 -> 552375 | F68: =E68/B68 -> 0.20919674 | G68: =D68-C68 -> 18168 | H68: =G68/C68 -> 0.0056902462 | I68: =D68-B68 -> 570543 | J68: =I68/B68 -> 0.21607737 | L68: sous commission paritaire | M68: -490061.06 | N68: =SUM('Tabel 7 PC'!N11:N19) -> 2492663 | O68: =SUM('Tabel 7 PC'!O11:O19) -> 2502800 | P68: =N68-M68 -> 2982724.1 | Q68: =P68/M68 -> -6.0864335 | R68: =O68-N68 -> 10137.01 | S68: =R68/N68 -> 0.0040667391 | T68: =O68-M68 -> 2992861.1 | U68: =T68/M68 -> -6.1071187
A69: commission paritaire pas d'application | B69: ='Tabel 7 PC'!H19 -> 543332 | C69: ='Tabel 7 PC'!I20 -> 1095848 | D69: ='Tabel 7 PC'!J20 -> 1080000 | E69: =C69-B69 -> 552516 | F69: =E69/B69 -> 1.0169031 | G69: =D69-C69 -> -15848 | H69: =G69/C69 -> -0.01446186 | I69: =D69-B69 -> 536668 | J69: =I69/B69 -> 0.98773494 | L69: commission paritaire pas d'application | M69: 490061.06 | N69: ='Tabel 7 PC'!N20 -> 924480.87 | O69: ='Tabel 7 PC'!O20 -> 920200 | P69: =N69-M69 -> 434419.81 | Q69: =P69/M69 -> 0.88646058 | R69: =O69-N69 -> -4280.87 | S69: =R69/N69 -> -0.0046305663 | T69: =O69-M69 -> 430138.94 | U69: =T69/M69 -> 0.8777252
A70: Total | B70: =SUM(B68:B69) -> 3183789 | C70: =SUM(C68:C69) -> 4288680 | D70: =SUM(D68:D69) -> 4291000 | E70: =C70-B70 -> 1104891 | F70: =E70/B70 -> 0.3470365 | G70: =SUM(G68:G69) -> 2320 | H70: =G70/C70 -> 0.00054095899 | I70: =SUM(I68:I69) -> 1107211 | J70: =I70/B70 -> 0.34776519 | L70: Total | M70: =SUM(M68:M69) -> 0 | N70: =SUM(N68:N69) -> 3417143.9 | O70: =SUM(O68:O69) -> 3423000 | P70: =N70-M70 -> 3417143.9 | Q70: =P70/M70 -> #DIV/0! | R70: =O70-N70 -> 5856.14 | S70: =R70/N70 -> 0.0017137528 | T70: =O70-M70 -> 3423000 | U70: =T70/M70 -> #DIV/0!
A73: Travail intérimaire classique
A74: meer info | L74: meer info
A75: Postes de travail | B75: 45291 | C75: 45747 | D75: 46112 | E75: 2023-2024 | G75: 2025-2026 | I75: 2023-2025 | L75: Volume de travail | M75: 2023Q4 | N75: 2025Q1 | O75: 2026Q1 | P75: 2023-2024 | R75: 2025-2026 | T75: 2023-2025
A76: Activité Entreprise Utilisatrice | B76: nombre | C76: nombre | D76: nombre | E76: abs | F76: in % | G76: abs | H76: in % | I76: abs | J76: in % | L76: Activité Entreprise Utilisatrice | M76: volume | N76: volume | O76: volume | P76: abs | Q76: in % | R76: abs | S76: in % | T76: abs | U76: in %
A77: Agriculture, chasse, sylviculture et pêche | C77: ='Tab8 Intérim classique'!E8 -> 499 | D77: ='Tab8 Intérim classique'!F8 -> 550 | G77: =D77-C77 -> 51 | H77: =G77/C77 -> 0.10220441 | L77: Agriculture, chasse, sylviculture et pêche | N77: ='Tab8 Intérim classique'!J8 -> 338.97 | O77: ='Tab8 Intérim classique'!K8 -> 390 | R77: =O77-N77 -> 51.03 | S77: =R77/N77 -> 0.1505443
A78: Industries, énergie et construction | C78: ='Tab8 Intérim classique'!E9 -> 37735 | D78: ='Tab8 Intérim classique'!F9 -> 37270 | G78: =D78-C78 -> -465 | H78: =G78/C78 -> -0.012322777 | L78: Industries, énergie et construction | N78: ='Tab8 Intérim classique'!J9 -> 31714.14 | O78: ='Tab8 Intérim classique'!K9 -> 31070 | R78: =O78-N78 -> -644.14 | S78: =R78/N78 -> -0.020310814
A79: Services commerciaux | C79: ='Tab8 Intérim classique'!E12 -> 59006 | D79: ='Tab8 Intérim classique'!F12 -> 55800 | G79: =D79-C79 -> -3206 | H79: =G79/C79 -> -0.054333458 | L79: Services commerciaux | N79: ='Tab8 Intérim classique'!J12 -> 44333.81 | O79: ='Tab8 Intérim classique'!K12 -> 40900 | R79: =O79-N79 -> -3433.81 | S79: =R79/N79 -> -0.077453528
A80: Services non-commerciaux | C80: ='Tab8 Intérim classique'!E18 -> 8617 | D80: ='Tab8 Intérim classique'!F18 -> 7790 | G80: =D80-C80 -> -827 | H80: =G80/C80 -> -0.095973076 | L80: Services non-commerciaux | N80: ='Tab8 Intérim classique'!J18 -> 4856.48 | O80: ='Tab8 Intérim classique'!K18 -> 4360 | R80: =O80-N80 -> -496.48 | S80: =R80/N80 -> -0.10223042
A81: Inconnu | C81: ='Tab8 Intérim classique'!E22 -> 1451 | D81: ='Tab8 Intérim classique'!F22 -> 1360 | G81: =D81-C81 -> -91 | H81: =G81/C81 -> -0.062715369 | L81: Inconnu | N81: ='Tab8 Intérim classique'!J22 -> 798.29 | O81: ='Tab8 Intérim classique'!K22 -> 730 | R81: =O81-N81 -> -68.29 | S81: =R81/N81 -> -0.085545353
A82: Totaal | C82: =SUM(C77:C81) -> 107308 | D82: =SUM(D77:F81) -> 102770 | G82: =SUM(G77:G80) -> -4447 | H82: =G82/C82 -> -0.041441458 | L82: Totaal | N82: =SUM(N77:N81) -> 82041.69 | O82: =SUM(O77:Q81) -> 77450 | R82: =O82-N82 -> -4591.69 | S82: =R82/N82 -> -0.055967765
A85: Travail intérim 'particulier'
A86: meer info | L86: meer info
A87: Postes de travail | B87: 45291 | C87: 45747 | D87: 46112 | E87: 2023-2024 | G87: 2025-2026 | I87: 2023-2025 | L87: Volume de travail | M87: 2023Q4 | N87: 2025Q1 | O87: 2026Q1 | P87: 2023-2024 | R87: 2025-2026
A88: Activité Entreprise Utilisatrice | B88: nombre | C88: nombre | D88: nombre | E88: abs | F88: in % | G88: abs | H88: in % | I88: abs | J88: in % | L88: Activité Entreprise Utilisatrice | M88: volume | N88: volume | O88: volume | P88: abs | Q88: in % | R88: abs | S88: in %
A89: Agriculture, chasse, sylviculture et pêche | C89: ='Tabel 9 bijz uitzend'!D8 -> 409 | D89: ='Tabel 9 bijz uitzend'!E8 -> 450 | G89: =D89-C89 -> 41 | H89: =G89/C89 -> 0.1002445 | L89: Agriculture, chasse, sylviculture et pêche | N89: ='Tabel 9 bijz uitzend'!I8 -> 240.95 | O89: ='Tabel 9 bijz uitzend'!J8 -> 250 | R89: =O89-N89 -> 9.05 | S89: =R89/N89 -> 0.03755966
A90: Industries, énergie et construction | C90: ='Tabel 9 bijz uitzend'!D9 -> 2137 | D90: ='Tabel 9 bijz uitzend'!E9 -> 2630 | G90: =D90-C90 -> 493 | H90: =G90/C90 -> 0.23069724 | L90: Industries, énergie et construction | N90: ='Tabel 9 bijz uitzend'!I9 -> 573.52 | O90: ='Tabel 9 bijz uitzend'!J9 -> 730 | R90: =O90-N90 -> 156.48 | S90: =R90/N90 -> 0.2728414
A91: Services commerciaux | C91: ='Tabel 9 bijz uitzend'!D10 -> 21893 | D91: ='Tabel 9 bijz uitzend'!E10 -> 26290 | G91: =D91-C91 -> 4397 | H91: =G91/C91 -> 0.20084045 | L91: Services commerciaux | N91: ='Tabel 9 bijz uitzend'!I10 -> 5919.83 | O91: ='Tabel 9 bijz uitzend'!J10 -> 6990 | R91: =O91-N91 -> 1070.17 | S91: =R91/N91 -> 0.18077715
A92: Services non-commerciaux | C92: ='Tabel 9 bijz uitzend'!D11 -> 2670 | D92: ='Tabel 9 bijz uitzend'!E11 -> 3220 | G92: =D92-C92 -> 550 | H92: =G92/C92 -> 0.20599251 | L92: Services non-commerciaux | N92: ='Tabel 9 bijz uitzend'!I11 -> 654.98 | O92: ='Tabel 9 bijz uitzend'!J11 -> 760 | R92: =O92-N92 -> 105.02 | S92: =R92/N92 -> 0.16034077
A93: Inconnu | C93: ='Tabel 9 bijz uitzend'!D12 -> 112 | D93: ='Tabel 9 bijz uitzend'!E12 -> 190 | G93: =D93-C93 -> 78 | H93: =G93/C93 -> 0.69642857 | L93: Inconnu | N93: ='Tabel 9 bijz uitzend'!I12 -> 66.9 | O93: ='Tabel 9 bijz uitzend'!J12 -> 80 | R93: =O93-N93 -> 13.1 | S93: =R93/N93 -> 0.19581465
A94: Totaal | C94: =SUM(C89:C93) -> 27221 | D94: =SUM(D89:D93) -> 32780 | G94: =SUM(G89:G93) -> 5559 | H94: =G94/C94 -> 0.20421733 | L94: Totaal | N94: =SUM(N89:N93) -> 7456.18 | O94: =SUM(O89:O93) -> 8810 | R94: =SUM(R89:R93) -> 1353.82 | S94: =R94/N94 -> 0.18157019

Sheet Tabel 1 lftd_sexe
A1: Terug lijst van de tabellen
A4: Tabel 1 | E4: NAAR LEEFTIJDSKLASSE EN GESLACHT
A7: Leeftijd (1), geslacht | D7: Aantal tewerkgestelde werknemers | I7: Aantal Arbeidsplaatsen | N7: Arbeidsvolume in voltijdsequivalenten
D8: Aantal op 2024K1 | E8: Aantal op 2025K1 | F8: Raming op 2026K1 | G8: Verschil Jaar-1 | I8: Aantal op 2024K1 | J8: Aantal op 2025K1 | K8: Raming op 2026K1 | L8: Verschil Jaar-1 | N8: Aantal op 2024K1 | O8: Aantal op 2025K1 | P8: Raming op 2026K1 | Q8: Verschil Jaar-1
D9: Aantal x1.000 | E9: Aantal x1.000 | F9: Aantal x1.000 | G9: Aantal x1.000 | H9: in % | I9: Aantal x1.000 | J9: Aantal x1.000 | K9: Aantal x1.000 | L9: Aantal x1.000 | M9: in % | N9: Aantal x1.000 | O9: Aantal x1.000 | P9: Aantal x1.000 | Q9: vte x1.000 | R9: in %
A10: <25 | C10: Mannen | D10: 156686 | E10: 157227 | F10: 154000 | G10: -3227 | H10: -0.020524465 | I10: 161002 | J10: 161764 | K10: 158500 | L10: -3264 | M10: -0.020177543 | N10: 136773.19 | O10: 137467.15 | P10: 134200 | Q10: -3267.15 | R10: -0.023766769
C11: Vrouwen | D11: 115819 | E11: 113173 | F11: 108000 | G11: -5173 | H11: -0.045708782 | I11: 121609 | J11: 118659 | K11: 113300 | L11: -5359 | M11: -0.04516303 | N11: 94542.57 | O11: 91962.83 | P11: 87400 | Q11: -4562.83 | R11: -0.049616024
C12: Totaal | D12: 272505 | E12: 270400 | F12: 262000 | G12: -8400 | H12: -0.031065089 | I12: 282611 | J12: 280423 | K12: 271800 | L12: -8623 | M12: -0.030749974 | N12: 231315.76 | O12: 229429.98 | P12: 221600 | Q12: -7829.98 | R12: -0.034127972
A13: 25 - 39 | C13: Mannen | D13: 761516 | E13: 758302 | F13: 752600 | G13: -5702 | H13: -0.0075194316 | I13: 787694 | J13: 786008 | K13: 782400 | L13: -3608 | M13: -0.0045902841 | N13: 696928.14 | O13: 694975.14 | P13: 689000 | Q13: -5975.14 | R13: -0.0085976313
C14: Vrouwen | D14: 766395 | E14: 764903 | F14: 756800 | G14: -8103 | H14: -0.0105935 | I14: 801369 | J14: 800775 | K14: 793600 | L14: -7175 | M14: -0.0089600699 | N14: 622452.83 | O14: 619133.15 | P14: 614300 | Q14: -4833.15 | R14: -0.0078063176
C15: Totaal | D15: 1527911 | E15: 1523205 | F15: 1509400 | G15: -13805 | H15: -0.0090631268 | I15: 1589063 | J15: 1586783 | K15: 1576000 | L15: -10783 | M15: -0.0067955102 | N15: 1319381 | O15: 1314108.3 | P15: 1303300 | Q15: -10808.29 | R15: -0.0082248092
A16: 40 - 49 | C16: Mannen | D16: 497396 | E16: 497280 | F16: 497800 | G16: 520 | H16: 0.0010456885 | I16: 512946 | J16: 513828 | K16: 515500 | L16: 1672 | M16: 0.0032540072 | N16: 449781.33 | O16: 449675.26 | P16: 451400 | Q16: 1724.74 | R16: 0.0038355234
C17: Vrouwen | D17: 512451 | E17: 515241 | F17: 517700 | G17: 2459 | H17: 0.0047725239 | I17: 534466 | J17: 538479 | K17: 541500 | L17: 3021 | M17: 0.0056102466 | N17: 408089.11 | O17: 409540.69 | P17: 414400 | Q17: 4859.31 | R17: 0.011865268
C18: Totaal | D18: 1009847 | E18: 1012521 | F18: 1015500 | G18: 2979 | H18: 0.0029421612 | I18: 1047412 | J18: 1052307 | K18: 1057000 | L18: 4693 | M18: 0.0044597252 | N18: 857870.44 | O18: 859215.95 | P18: 865800 | Q18: 6584.05 | R18: 0.0076628582
A19: 50 - 64 | C19: Mannen | D19: 634284 | E19: 632974 | F19: 630400 | G19: -2574 | H19: -0.0040665177 | I19: 650441 | J19: 649728 | K19: 647700 | L19: -2028 | M19: -0.0031213061 | N19: 531297.69 | O19: 531546.95 | P19: 532100 | Q19: 553.05 | R19: 0.0010404537
C20: Vrouwen | D20: 632000 | E20: 633568 | F20: 632800 | G20: -768 | H20: -0.0012121824 | I20: 654220 | J20: 656437 | K20: 656300 | L20: -137 | M20: -0.00020870243 | N20: 451603.34 | O20: 454222.35 | P20: 460100 | Q20: 5877.65 | R20: 0.012940028
C21: Totaal | D21: 1266284 | E21: 1266542 | F21: 1263200 | G21: -3342 | H21: -0.0026386808 | I21: 1304661 | J21: 1306165 | K21: 1304000 | L21: -2165 | M21: -0.0016575241 | N21: 982901.03 | O21: 985769.3 | P21: 992200 | Q21: 6430.7 | R21: 0.0065235345
A22: 65 en ouder | C22: Mannen | D22: 28788 | E22: 33992 | F22: 42800 | G22: 8808 | H22: 0.25911979 | I22: 29928 | J22: 35344 | K22: 44400 | L22: 9056 | M22: 0.25622454 | N22: 15081.27 | O22: 17416.66 | P22: 23600 | Q22: 6183.34 | R22: 0.35502444
C23: Vrouwen | D23: 21871 | E23: 26466 | F23: 36100 | G23: 9634 | H23: 0.36401421 | I23: 22918 | J23: 27658 | K23: 37800 | L23: 10142 | M23: 0.36669318 | N23: 9544.41 | O23: 11203.68 | P23: 16500 | Q23: 5296.32 | R23: 0.47273039
C24: Totaal | D24: 50659 | E24: 60458 | F24: 78900 | G24: 18442 | H24: 0.30503821 | I24: 52846 | J24: 63002 | K24: 82200 | L24: 19198 | M24: 0.30472049 | N24: 24625.68 | O24: 28620.34 | P24: 40100 | Q24: 11479.66 | R24: 0.40110145
L25: =K25-J25 -> 0 | Q25: =P25-O25 -> 0 | R25: =Q25/O25 -> #DIV/0!
L26: =K26-J26 -> 0 | Q26: =P26-O26 -> 0 | R26: =Q26/O26 -> #DIV/0!
A27: Totaal | C27: Mannen | D27: =SUM(D10,D13,D16,D19,D22) -> 2078670 | E27: =SUM(E10,E13,E16,E19,E22) -> 2079775 | F27: =SUM(F10,F13,F16,F19,F22) -> 2077600 | G27: =SUM(G10,G13,G16,G19,G22) -> -2175 | H27: =G27/E27 -> -0.0010457862 | I27: =SUM(I10,I13,I16,I19,I22) -> 2142011 | J27: =SUM(J10,J13,J16,J19,J22) -> 2146672 | K27: =SUM(K10,K13,K16,K19,K22) -> 2148500 | L27: =K27-J27 -> 1828 | M27: =L27/J27 -> 0.00085155068 | N27: =SUM(N10,N13,N16,N19,N22) -> 1829861.6 | O27: =SUM(O10,O13,O16,O19,O22) -> 1831081.2 | P27: =SUM(P10,P13,P16,P19,P22) -> 1830300 | Q27: =P27-O27 -> -781.16 | R27: =Q27/O27 -> -0.00042661135
C28: Vrouwen | D28: =SUM(D11,D14,D17,D20,D23) -> 2048536 | E28: =SUM(E11,E14,E17,E20,E23) -> 2053351 | F28: =SUM(F11,F14,F17,F20,F23) -> 2051400 | G28: =SUM(G11,G14,G17,G20,G23) -> -1951 | H28: =G28/E28 -> -0.00095015416 | I28: =SUM(I11,I14,I17,I20,I23) -> 2134582 | J28: =SUM(J11,J14,J17,J20,J23) -> 2142008 | K28: =SUM(K11,K14,K17,K20,K23) -> 2142500 | L28: =K28-J28 -> 492 | M28: =L28/J28 -> 0.00022969102 | N28: =SUM(N11,N14,N17,N20,N23) -> 1586232.3 | O28: =SUM(O11,O14,O17,O20,O23) -> 1586062.7 | P28: =SUM(P11,P14,P17,P20,P23) -> 1592700 | Q28: =P28-O28 -> 6637.3 | R28: =Q28/O28 -> 0.0041847652
C29: Totaal | D29: =SUM(D27:D28) -> 4127206 | E29: =SUM(E27:E28) -> 4133126 | F29: =SUM(F27:F28) -> 4129000 | G29: =F29-E29 -> -4126 | H29: =G29/E29 -> -0.00099827588 | I29: =SUM(I27:I28) -> 4276593 | J29: =SUM(J27:J28) -> 4288680 | K29: =SUM(K27:K28) -> 4291000 | L29: =K29-J29 -> 2320 | M29: =L29/J29 -> 0.00054095899 | N29: =SUM(N27:N28) -> 3416093.9 | O29: =SUM(O27:O28) -> 3417143.9 | P29: =SUM(P27:P28) -> 3423000 | Q29: =P29-O29 -> 5856.14 | R29: =Q29/O29 -> 0.0017137528
B30: =#REF! -> #REF!
B31: =#REF! -> #REF!
A32: (1) De leeftijd van de persoon op de laatste dag van het kwartaal.
A34: Retour à l'aperçu
A35: Tableau 1 | E35: PAR SEXE ET CLASSE D'ÂGE
A38: Age (1) | D38: Nombre de travailleurs occupés | I38: Nombre de postes de travail | N38: Volume de travail en équivalents temps plein
D39: Nombre 2024Q1 | E39: Nombre 2025Q1 | F39: Estimation 2026Q1 | G39: Différence Année-1 | I39: Nombre 2023Q4 | J39: Nombre 2024Q4 | K39: Estimation 2025Q4 | L39: Différence Année-1 | N39: Nombre 2023Q4 | O39: Nombre 2024Q4 | P39: Estimation 2025Q4 | Q39: Différence Année-1
D40: nombre x1.000 | E40: nombre x1.000 | F40: nombre x1.000 | G40: nombre x1.000 | H40: en % | I40: nombre x1.000 | J40: nombre x1.000 | K40: nombre x1.000 | L40: nombre x1.000 | M40: en % | N40: etp x1.000 | O40: etp x1.000 | P40: etp x1.000 | Q40: etp x1.000 | R40: en %
A41: <25 | C41: Hommes | D41: 156686 | E41: 157227 | F41: 154000 | G41: -3227 | H41: -0.020524465 | I41: 161002 | J41: 161764 | K41: 158500 | L41: -3264 | M41: -0.020177543 | N41: 136773.19 | O41: 137467.15 | P41: 134200 | Q41: -3267.15 | R41: -0.023766769
C42: Femmes | D42: 115819 | E42: 113173 | F42: 108000 | G42: -5173 | H42: -0.045708782 | I42: 121609 | J42: 118659 | K42: 113300 | L42: -5359 | M42: -0.04516303 | N42: 94542.57 | O42: 91962.83 | P42: 87400 | Q42: -4562.83 | R42: -0.049616024
C43: Total | D43: 272505 | E43: 270400 | F43: 262000 | G43: -8400 | H43: -0.031065089 | I43: 282611 | J43: 280423 | K43: 271800 | L43: -8623 | M43: -0.030749974 | N43: 231315.76 | O43: 229429.98 | P43: 221600 | Q43: -7829.98 | R43: -0.034127972
A44: 25 - 39 | C44: Hommes | D44: 761516 | E44: 758302 | F44: 752600 | G44: -5702 | H44: -0.0075194316 | I44: 787694 | J44: 786008 | K44: 782400 | L44: -3608 | M44: -0.0045902841 | N44: 696928.14 | O44: 694975.14 | P44: 689000 | Q44: -5975.14 | R44: -0.0085976313
C45: Femmes | D45: 766395 | E45: 764903 | F45: 756800 | G45: -8103 | H45: -0.0105935 | I45: 801369 | J45: 800775 | K45: 793600 | L45: -7175 | M45: -0.0089600699 | N45: 622452.83 | O45: 619133.15 | P45: 614300 | Q45: -4833.15 | R45: -0.0078063176
C46: Total | D46: 1527911 | E46: 1523205 | F46: 1509400 | G46: -13805 | H46: -0.0090631268 | I46: 1589063 | J46: 1586783 | K46: 1576000 | L46: -10783 | M46: -0.0067955102 | N46: 1319381 | O46: 1314108.3 | P46: 1303300 | Q46: -10808.29 | R46: -0.0082248092
A47: 40 - 49 | C47: Hommes | D47: 497396 | E47: 497280 | F47: 497800 | G47: 520 | H47: 0.0010456885 | I47: 512946 | J47: 513828 | K47: 515500 | L47: 1672 | M47: 0.0032540072 | N47: 449781.33 | O47: 449675.26 | P47: 451400 | Q47: 1724.74 | R47: 0.0038355234
C48: Femmes | D48: 512451 | E48: 515241 | F48: 517700 | G48: 2459 | H48: 0.0047725239 | I48: 534466 | J48: 538479 | K48: 541500 | L48: 3021 | M48: 0.0056102466 | N48: 408089.11 | O48: 409540.69 | P48: 414400 | Q48: 4859.31 | R48: 0.011865268
C49: Total | D49: 1009847 | E49: 1012521 | F49: 1015500 | G49: 2979 | H49: 0.0029421612 | I49: 1047412 | J49: 1052307 | K49: 1057000 | L49: 4693 | M49: 0.0044597252 | N49: 857870.44 | O49: 859215.95 | P49: 865800 | Q49: 6584.05 | R49: 0.0076628582
A50: 50 - 64 | C50: Hommes | D50: 634284 | E50: 632974 | F50: 630400 | G50: -2574 | H50: -0.0040665177 | I50: 650441 | J50: 649728 | K50: 647700 | L50: -2028 | M50: -0.0031213061 | N50: 531297.69 | O50: 531546.95 | P50: 532100 | Q50: 553.05 | R50: 0.0010404537
C51: Femmes | D51: 632000 | E51: 633568 | F51: 632800 | G51: -768 | H51: -0.0012121824 | I51: 654220 | J51: 656437 | K51: 656300 | L51: -137 | M51: -0.00020870243 | N51: 451603.34 | O51: 454222.35 | P51: 460100 | Q51: 5877.65 | R51: 0.012940028
C52: Total | D52: 1266284 | E52: 1266542 | F52: 1263200 | G52: -3342 | H52: -0.0026386808 | I52: 1304661 | J52: 1306165 | K52: 1304000 | L52: -2165 | M52: -0.0016575241 | N52: 982901.03 | O52: 985769.3 | P52: 992200 | Q52: 6430.7 | R52: 0.0065235345
A53: 65 et plus | C53: Hommes | D53: 28788 | E53: 33992 | F53: 42800 | G53: 8808 | H53: 0.25911979 | I53: 29928 | J53: 35344 | K53: 44400 | L53: 9056 | M53: 0.25622454 | N53: 15081.27 | O53: 17416.66 | P53: 23600 | Q53: 6183.34 | R53: 0.35502444
C54: Femmes | D54: 21871 | E54: 26466 | F54: 36100 | G54: 9634 | H54: 0.36401421 | I54: 22918 | J54: 27658 | K54: 37800 | L54: 10142 | M54: 0.36669318 | N54: 9544.41 | O54: 11203.68 | P54: 16500 | Q54: 5296.32 | R54: 0.47273039
C55: Total | D55: 50659 | E55: 60458 | F55: 78900 | G55: 18442 | H55: 0.30503821 | I55: 52846 | J55: 63002 | K55: 82200 | L55: 19198 | M55: 0.30472049 | N55: 24625.68 | O55: 28620.34 | P55: 40100 | Q55: 11479.66 | R55: 0.40110145
L56: =K56-J56 -> 0 | Q56: =P56-O56 -> 0 | R56: =Q56/O56 -> #DIV/0!
L57: =K57-J57 -> 0 | Q57: =P57-O57 -> 0 | R57: =Q57/O57 -> #DIV/0!
A58: Total | C58: Hommes | D58: =SUM(D41,D44,D47,D50,D53) -> 2078670 | E58: =SUM(E41,E44,E47,E50,E53) -> 2079775 | F58: =SUM(F41,F44,F47,F50,F53) -> 2077600 | G58: =SUM(G41,G44,G47,G50,G53) -> -2175 | H58: =G58/E58 -> -0.0010457862 | I58: =SUM(I41,I44,I47,I50,I53) -> 2142011 | J58: =SUM(J41,J44,J47,J50,J53) -> 2146672 | K58: =SUM(K41,K44,K47,K50,K53) -> 2148500 | L58: =K58-J58 -> 1828 | M58: =L58/J58 -> 0.00085155068 | N58: =SUM(N41,N44,N47,N50,N53) -> 1829861.6 | O58: =SUM(O41,O44,O47,O50,O53) -> 1831081.2 | P58: =SUM(P41,P44,P47,P50,P53) -> 1830300 | Q58: =P58-O58 -> -781.16 | R58: =Q58/O58 -> -0.00042661135
C59: Femmes | D59: =SUM(D42,D45,D48,D51,D54) -> 2048536 | E59: =SUM(E42,E45,E48,E51,E54) -> 2053351 | F59: =SUM(F42,F45,F48,F51,F54) -> 2051400 | G59: =SUM(G42,G45,G48,G51,G54) -> -1951 | H59: =G59/E59 -> -0.00095015416 | I59: =SUM(I42,I45,I48,I51,I54) -> 2134582 | J59: =SUM(J42,J45,J48,J51,J54) -> 2142008 | K59: =SUM(K42,K45,K48,K51,K54) -> 2142500 | L59: =K59-J59 -> 492 | M59: =L59/J59 -> 0.00022969102 | N59: =SUM(N42,N45,N48,N51,N54) -> 1586232.3 | O59: =SUM(O42,O45,O48,O51,O54) -> 1586062.7 | P59: =SUM(P42,P45,P48,P51,P54) -> 1592700 | Q59: =P59-O59 -> 6637.3 | R59: =Q59/O59 -> 0.0041847652
C60: Total | D60: =SUM(D58:D59) -> 4127206 | E60: =SUM(E58:E59) -> 4133126 | F60: =SUM(F58:F59) -> 4129000 | G60: =F60-E60 -> -4126 | H60: =G60/E60 -> -0.00099827588 | I60: =SUM(I58:I59) -> 4276593 | J60: =SUM(J58:J59) -> 4288680 | K60: =SUM(K58:K59) -> 4291000 | L60: =K60-J60 -> 2320 | M60: =L60/J60 -> 0.00054095899 | N60: =SUM(N58:N59) -> 3416093.9 | O60: =SUM(O58:O59) -> 3417143.9 | P60: =SUM(P58:P59) -> 3423000 | Q60: =P60-O60 -> 5856.14 | R60: =Q60/O60 -> 0.0017137528
A61: (1) Age de la personne au dernier jour du trimestre.

Sheet Tab2 Activité_NACE
A1: Terug lijst van de tabellen
A2: Tabel 2 | E2: NAAR ACTIVITEIT VAN DE WERKGEVER
A5: Activiteit (NACE-Bel 2025) | D5: Aantal tewerkgestelde werknemers | I5: Aantal Arbeidsplaatsen | N5: Arbeidsvolume in voltijdsequivalenten
D6: Aantal op 2024K1 | E6: Aantal op 2025K1 | F6: Raming op 2026K1 | G6: Verschil Jaar-1 | I6: Aantal op 2024K1 | J6: Aantal op 2025K1 | K6: Raming op 2026K1 | L6: Verschil Jaar-1 | N6: Aantal op 2024K1 | O6: Aantal op 2025K1 | P6: Raming op 2026K1 | Q6: Verschil Jaar-1
D7: Aantal x1.000 | E7: Aantal x1.000 | F7: Aantal x1.000 | G7: Aantal x1.000 | H7: in % | I7: Aantal x1.000 | J7: Aantal x1.000 | K7: Aantal x1.000 | L7: Aantal x1.000 | M7: in % | N7: vte x1.000 | O7: vte x1.000 | P7: vte x1.000 | Q7: vte x1.000 | R7: in %
A8: Landbouw, bosbouw en visserij | D8: 24006 | E8: 24716 | F8: 25900 | G8: =(F8-E8) -> 1184 | H8: =G8/E8 -> 0.047904192 | I8: 24718 | J8: 25409 | K8: 26700 | L8: =(K8-J8) -> 1291 | M8: =L8/J8 -> 0.050808769 | N8: 20657.14 | O8: 20887.33 | P8: 22000 | Q8: =(P8-O8) -> 1112.67 | R8: =Q8/O8 -> 0.053270092
A9: Industrie, Energie en Bouw | D9: 743359 | E9: 729970 | F9: 720000 | G9: =(F9-E9) -> -9970 | H9: =G9/E9 -> -0.013658096 | I9: 749252 | J9: 736164 | K9: 726500 | L9: =(K9-J9) -> -9664 | M9: =L9/J9 -> -0.01312751 | N9: 629391.23 | O9: 622350.56 | P9: 616000 | Q9: =(P9-O9) -> -6350.56 | R9: =Q9/O9 -> -0.010204152
A10: B-C-D-E | B10: Winning van delfstoffen, Industrie, Productie en distributie van elektriciteit, gas, stoom, gekoelde lucht en water, Afvalbeheer | D10: 535511 | E10: 524686 | F10: 514500 | G10: =(F10-E10) -> -10186 | H10: =G10/E10 -> -0.019413516 | I10: 540229 | J10: 529651 | K10: 519800 | L10: =(K10-J10) -> -9851 | M10: =L10/J10 -> -0.01859904 | N10: 461644.37 | O10: 454660.2 | P10: 448800 | Q10: =(P10-O10) -> -5860.2 | R10: =Q10/O10 -> -0.012889186
A11: F | B11: Bouwnijverheid | C11: Mannen | D11: 207848 | E11: 205284 | F11: 205500 | G11: =(F11-E11) -> 216 | H11: =G11/E11 -> 0.0010522009 | I11: 209023 | J11: 206513 | K11: 206700 | L11: =(K11-J11) -> 187 | M11: =L11/J11 -> 0.000905512 | N11: 167746.86 | O11: 167690.36 | P11: 167200 | Q11: =(P11-O11) -> -490.36 | R11: =Q11/O11 -> -0.0029241991
A12: Commerciële Dienstverlening | C12: Vrouwen | D12: 1601930 | E12: 1599708 | F12: 1599200 | G12: =(F12-E12) -> -508 | H12: =G12/E12 -> -0.00031755795 | I12: 1690026 | J12: 1692815 | K12: 1699200 | L12: =(K12-J12) -> 6385 | M12: =L12/J12 -> 0.0037718239 | N12: 1369075.1 | O12: 1364675.9 | P12: 1364600 | Q12: =(P12-O12) -> -75.92 | R12: =Q12/O12 -> -5.5632256e-05
A13: G-H-I | B13: Handel, vervoer en opslag, Verschaffen van accommodatie en maaltijden | C13: Totaal | D13: 840471 | E13: 838253 | F13: 837500 | G13: =(F13-E13) -> -753 | H13: =G13/E13 -> -0.00089829681 | I13: 889753 | J13: 891365 | K13: 894700 | L13: =(K13-J13) -> 3335 | M13: =L13/J13 -> 0.0037414527 | N13: 703249.06 | O13: 699811.39 | P13: 701500 | Q13: =(P13-O13) -> 1688.61 | R13: =Q13/O13 -> 0.0024129502
A14: J-K | B14: Informatie en communicatie | C14: Mannen | D14: 125515 | E14: 124156 | F14: 122600 | G14: =(F14-E14) -> -1556 | H14: =G14/E14 -> -0.01253262 | I14: 126003 | J14: 124701 | K14: 123200 | L14: =(K14-J14) -> -1501 | M14: =L14/J14 -> -0.012036792 | N14: 118105.66 | O14: 116352.88 | P14: 114800 | Q14: =(P14-O14) -> -1552.88 | R14: =Q14/O14 -> -0.013346296
A15: L | B15: Financiële activiteiten en verzekeringen | C15: Totaal | D15: 118051 | E15: 118423 | F15: 119100 | G15: =(F15-E15) -> 677 | H15: =G15/E15 -> 0.0057167949 | I15: 118804 | J15: 119118 | K15: 119800 | L15: =(K15-J15) -> 682 | M15: =L15/J15 -> 0.0057254151 | N15: 105435.58 | O15: 105786.77 | P15: 106800 | Q15: =(P15-O15) -> 1013.23 | R15: =Q15/O15 -> 0.0095780408
A16: M | B16: Exploitatie van en handel in onroerend goed | C16: Mannen | D16: 24960 | E16: 25144 | F16: 25500 | G16: =(F16-E16) -> 356 | H16: =G16/E16 -> 0.014158447 | I16: 25845 | J16: 26021 | K16: 26500 | L16: =(K16-J16) -> 479 | M16: =L16/J16 -> 0.018408209 | N16: 21250.42 | O16: 21368.99 | P16: 21700 | Q16: =(P16-O16) -> 331.01 | R16: =Q16/O16 -> 0.015490203
A17: N-O | B17: Administratieve, ondersteunende en gespecialiseerde diensten | D17: 492933 | E17: 493732 | F17: 494500 | G17: =(F17-E17) -> 768 | H17: =G17/E17 -> 0.0015554997 | I17: 529621 | J17: 531610 | K17: 535000 | L17: =(K17-J17) -> 3390 | M17: =L17/J17 -> 0.0063768552 | N17: 421034.36 | O17: 421355.89 | P17: 419800 | Q17: =(P17-O17) -> -1555.89 | R17: =Q17/O17 -> -0.0036925792
A18: Niet-Commerciële Dienstverlening | C18: Vrouwen | D18: 1757911 | E18: 1778732 | F18: 1783900 | G18: =(F18-E18) -> 5168 | H18: =G18/E18 -> 0.0029054405 | I18: 1812597 | J18: 1834292 | K18: 1838600 | L18: =(K18-J18) -> 4308 | M18: =L18/J18 -> 0.0023485901 | N18: 1396970.4 | O18: 1409230 | P18: 1420400 | Q18: =(P18-O18) -> 11169.95 | R18: =Q18/O18 -> 0.0079262786
A19: P-Q | B19: Openbaar bestuur en Onderwijs | C19: Totaal | D19: 910164 | E19: 918048 | F19: 918600 | G19: =(F19-E19) -> 552 | H19: =G19/E19 -> 0.00060127575 | I19: 941638 | J19: 949360 | K19: 948700 | L19: =(K19-J19) -> -660 | M19: =L19/J19 -> -0.00069520519 | N19: 789163.75 | O19: 793159.63 | P19: 799200 | Q19: =(P19-O19) -> 6040.37 | R19: =Q19/O19 -> 0.0076155792
A20: R | B20: Menselijke gezondheidszorg en maatschappelijke dienstverlening | C20: Mannen | D20: 588079 | E20: 594510 | F20: 599600 | G20: =(F20-E20) -> 5090 | H20: =G20/E20 -> 0.0085616726 | I20: 598298 | J20: 605193 | K20: 610500 | L20: =(K20-J20) -> 5307 | M20: =L20/J20 -> 0.0087691034 | N20: 427048.21 | O20: 432518.07 | P20: 438000 | Q20: =(P20-O20) -> 5481.93 | R20: =Q20/O20 -> 0.012674453
A21: S-T-U-V | B21: Kunst amusement en recreatie, Overige diensten, diversen | C21: Vrouwen | D21: 259668 | E21: 266174 | F21: 265700 | G21: =(F21-E21) -> -474 | H21: =G21/E21 -> -0.00178079 | I21: 272661 | J21: 279739 | K21: 279400 | L21: =(K21-J21) -> -339 | M21: =L21/J21 -> -0.0012118439 | N21: 180758.47 | O21: 183552.35 | P21: 183200 | Q21: =(P21-O21) -> -352.35 | R21: =Q21/O21 -> -0.0019196158
A24: Totaal | D24: =SUM(D18,D12,D9,D8) -> 4127206 | E24: =SUM(E18,E12,E9,E8) -> 4133126 | F24: =SUM(F18,F12,F9,F8) -> 4129000 | G24: =F24-E24 -> -4126 | H24: =G24/E24 -> -0.00099827588 | I24: =SUM(I18,I12,I9,I8) -> 4276593 | J24: =SUM(J18,J12,J9,J8) -> 4288680 | K24: =SUM(K18,K12,K9,K8) -> 4291000 | L24: =K24-J24 -> 2320 | M24: =L24/J24 -> 0.00054095899 | N24: =SUM(N18,N12,N9,N8) -> 3416093.9 | O24: =SUM(O18,O12,O9,O8) -> 3417143.9 | P24: =SUM(P18,P12,P9,P8) -> 3423000 | Q24: =SUM(Q18,Q12,Q9,Q8) -> 5856.14 | R24: =Q24/O24 -> 0.0017137528
A27: Retour à l'aperçu
A28: Tableau 2 | E28: PAR ACTIVITÉ DE L'EMPLOYEUR
A30: Activité (NACE-Bel 2008) | D30: Nombre de travailleurs occupés | I30: Nombre de postes de travail | N30: Volume de travail en équivalents temps plein
D31: Nombre 2024Q1 | E31: Nombre 2025Q1 | F31: Estimation 2026Q1 | G31: Différence Année-1 | I31: Nombre 2024Q1 | J31: Nombre 2025Q1 | K31: Estimation 2026Q1 | L31: Différence Année-1 | N31: Nombre 2024Q1 | O31: Nombre 2025Q1 | P31: Estimation 2026Q1 | Q31: Différence Année-1
D32: nombre x1.000 | E32: nombre x1.000 | F32: nombre x1.000 | G32: nombre x1.000 | H32: en % | I32: nombre x1.000 | J32: nombre x1.000 | K32: nombre x1.000 | L32: nombre x1.000 | M32: en % | N32: etp x1.000 | O32: etp x1.000 | P32: etp x1.000 | Q32: etp x1.000 | R32: en %
A33: Agriculture, chasse, sylviculture et pêche | D33: 24006 | E33: 24716 | F33: 25900 | G33: 1184 | H33: 0.047904192 | I33: 24718 | J33: 25409 | K33: 26700 | L33: 1291 | M33: 0.050808769 | N33: 20657.14 | O33: 20887.33 | P33: 22000 | Q33: 1112.67 | R33: 0.053270092
A34: Industries, énergie et construction | D34: 743359 | E34: 729970 | F34: 720000 | G34: -9970 | H34: -0.013658096 | I34: 749252 | J34: 736164 | K34: 726500 | L34: -9664 | M34: -0.01312751 | N34: 629391.23 | O34: 622350.56 | P34: 616000 | Q34: -6350.56 | R34: -0.010204152
A35: B-C-D-E | B35: Industries, production et distribution d'électricité, de gaz et d'eau, gestion des déchets | D35: 535511 | E35: 524686 | F35: 514500 | G35: -10186 | H35: -0.019413516 | I35: 540229 | J35: 529651 | K35: 519800 | L35: -9851 | M35: -0.01859904 | N35: 461644.37 | O35: 454660.2 | P35: 448800 | Q35: -5860.2 | R35: -0.012889186
A36: F | B36: Construction | D36: 207848 | E36: 205284 | F36: 205500 | G36: 216 | H36: 0.0010522009 | I36: 209023 | J36: 206513 | K36: 206700 | L36: 187 | M36: 0.000905512 | N36: 167746.86 | O36: 167690.36 | P36: 167200 | Q36: -490.36 | R36: -0.0029241991
A37: Services commerciaux | C37: Vrouwen | D37: 1601930 | E37: 1599708 | F37: 1599200 | G37: -508 | H37: -0.00031755795 | I37: 1690026 | J37: 1692815 | K37: 1699200 | L37: 6385 | M37: 0.0037718239 | N37: 1369075.1 | O37: 1364675.9 | P37: 1364600 | Q37: -75.92 | R37: -5.5632256e-05
A38: G-H-I | B38: Commerce, transports et entreposage, Hébergement et restauration | C38: Totaal | D38: 840471 | E38: 838253 | F38: 837500 | G38: -753 | H38: -0.00089829681 | I38: 889753 | J38: 891365 | K38: 894700 | L38: 3335 | M38: 0.0037414527 | N38: 703249.06 | O38: 699811.39 | P38: 701500 | Q38: 1688.61 | R38: 0.0024129502
A39: J-K | B39: Information et communication | C39: Mannen | D39: 125515 | E39: 124156 | F39: 122600 | G39: -1556 | H39: -0.01253262 | I39: 126003 | J39: 124701 | K39: 123200 | L39: -1501 | M39: -0.012036792 | N39: 118105.66 | O39: 116352.88 | P39: 114800 | Q39: -1552.88 | R39: -0.013346296
A40: L | B40: Activités financières et assurances | C40: Vrouwen | D40: 118051 | E40: 118423 | F40: 119100 | G40: 677 | H40: 0.0057167949 | I40: 118804 | J40: 119118 | K40: 119800 | L40: 682 | M40: 0.0057254151 | N40: 105435.58 | O40: 105786.77 | P40: 106800 | Q40: 1013.23 | R40: 0.0095780408
A41: M | B41: Activités immobilières | C41: Totaal | D41: 24960 | E41: 25144 | F41: 25500 | G41: 356 | H41: 0.014158447 | I41: 25845 | J41: 26021 | K41: 26500 | L41: 479 | M41: 0.018408209 | N41: 21250.42 | O41: 21368.99 | P41: 21700 | Q41: 331.01 | R41: 0.015490203
A42: N-O | B42: Activités de services administratifs, de soutien et spécialisés | C42: Mannen | D42: 492933 | E42: 493732 | F42: 494500 | G42: 768 | H42: 0.0015554997 | I42: 529621 | J42: 531610 | K42: 535000 | L42: 3390 | M42: 0.0063768552 | N42: 421034.36 | O42: 421355.89 | P42: 419800 | Q42: -1555.89 | R42: -0.0036925792
A43: Services non-commerciaux | C43: Vrouwen | D43: 1757911 | E43: 1778732 | F43: 1783900 | G43: 5168 | H43: 0.0029054405 | I43: 1812597 | J43: 1834292 | K43: 1838600 | L43: 4308 | M43: 0.0023485901 | N43: 1396970.4 | O43: 1409230 | P43: 1420400 | Q43: 11169.95 | R43: 0.0079262786
A44: P-Q | B44: Administration publique et enseignement | C44: Totaal | D44: 910164 | E44: 918048 | F44: 918600 | G44: 552 | H44: 0.00060127575 | I44: 941638 | J44: 949360 | K44: 948700 | L44: -660 | M44: -0.00069520519 | N44: 789163.75 | O44: 793159.63 | P44: 799200 | Q44: 6040.37 | R44: 0.0076155792
A45: R | B45: Santé humaine et action sociale | C45: Mannen | D45: 588079 | E45: 594510 | F45: 599600 | G45: 5090 | H45: 0.0085616726 | I45: 598298 | J45: 605193 | K45: 610500 | L45: 5307 | M45: 0.0087691034 | N45: 427048.21 | O45: 432518.07 | P45: 438000 | Q45: 5481.93 | R45: 0.012674453
A46: S-T-U-V | B46: Arts, spectacles et activités récréatives, Autres services, divers | C46: Vrouwen | D46: 259668 | E46: 266174 | F46: 265700 | G46: -474 | H46: -0.00178079 | I46: 272661 | J46: 279739 | K46: 279400 | L46: -339 | M46: -0.0012118439 | N46: 180758.47 | O46: 183552.35 | P46: 183200 | Q46: -352.35 | R46: -0.0019196158
A49: Total | D49: =SUM(D43,D37,D34,D33) -> 4127206 | E49: =SUM(E43,E37,E34,E33) -> 4133126 | F49: =SUM(F43,F37,F34,F33) -> 4129000 | G49: =F49-E49 -> -4126 | H49: =G49/E49 -> -0.00099827588 | I49: =SUM(I43,I37,I34,I33) -> 4276593 | J49: =SUM(J43,J37,J34,J33) -> 4288680 | K49: =SUM(K43,K37,K34,K33) -> 4291000 | L49: =K49-J49 -> 2320 | M49: =L49/J49 -> 0.00054095899 | N49: =SUM(N43,N37,N34,N33) -> 3416093.9 | O49: =SUM(O43,O37,O34,O33) -> 3417143.9 | P49: =SUM(P43,P37,P34,P33) -> 3423000 | Q49: =SUM(Q43,Q37,Q34,Q33) -> 5856.14 | R49: =Q49/O49 -> 0.0017137528

Sheet Tab3 Sect_Stat
A1: Terug lijst van de tabellen
A3: Tabel 3 | E3: NAAR SECTOR EN STATUUT
A6: Sector, statuut | D6: Aantal tewerkgestelde werknemers | I6: Aantal Arbeidsplaatsen | N6: Arbeidsvolume in voltijdsequivalenten
D7: Aantal op 2024K1 | E7: Aantal op 2025K1 | F7: Raming op 2026K1 | G7: Verschil Jaar-1 | I7: Aantal op 2024K1 | J7: Aantal op 2025K1 | K7: Raming op 2026K1 | L7: Verschil Jaar-1 | N7: Aantal op 2024K1 | O7: Aantal op 2025K1 | P7: Raming op 2026K1 | Q7: Verschil Jaar-1
D8: Aantal x1.000 | E8: Aantal x1.000 | F8: Aantal x1.000 | G8: Aantal x1.000 | H8: in % | I8: Aantal x1.000 | J8: Aantal x1.000 | K8: Aantal x1.000 | L8: Aantal x1.000 | M8: in % | N8: Aantal x1.000 | O8: Aantal x1.000 | P8: Aantal x1.000 | Q8: vte x1.000 | R8: in %
A9: Privé-sector | D9: 3004863 | E9: 3007173 | F9: 3001500 | G9: =F9-E9 -> -5673 | H9: =(F9-E9)/E9 -> -0.0018864894 | I9: 3123388 | J9: 3132066 | K9: 3133500 | L9: =K9-J9 -> 1434 | M9: 0.00045784476 | N9: 2445306.9 | O9: 2446805.5 | P9: 2445500 | Q9: =P9-O9 -> -1305.48 | R9: -0.00053354466
C10: Arbeiders | D10: 1217495 | E10: 1208659 | F10: 1201000 | G10: =F10-E10 -> -7659 | H10: =(F10-E10)/E10 -> -0.0063367749 | I10: 1283969 | J10: 1279760 | K10: 1275000 | L10: =K10-J10 -> -4760 | M10: -0.0037194474 | N10: 914388.06 | O10: 910841.67 | P10: 906800 | Q10: =P10-O10 -> -4041.67 | R10: -0.0044372915
C11: Bedienden | D11: 1787368 | E11: 1798514 | F11: 1800500 | G11: =F11-E11 -> 1986 | H11: =(F11-E11)/E11 -> 0.0011042449 | I11: 1839419 | J11: 1852306 | K11: 1858500 | L11: =K11-J11 -> 6194 | M11: 0.0033439399 | N11: 1530918.8 | O11: 1535963.8 | P11: 1538700 | Q11: =P11-O11 -> 2736.19 | R11: 0.0017814157
G12: =F12-E12 -> 0 | L12: =K12-J12 -> 0 | Q12: =P12-O12 -> 0
A13: Overheidssector en onderwijs | D13: 1122343 | E13: 1125953 | F13: 1127500 | G13: =F13-E13 -> 1547 | H13: =(F13-E13)/E13 -> 0.0013739472 | I13: 1153205 | J13: 1156614 | K13: 1157500 | L13: =K13-J13 -> 886 | M13: 0.00076602912 | N13: 970786.98 | O13: 970338.38 | P13: 977500 | Q13: =P13-O13 -> 7161.62 | R13: 0.0073805387
B14: Federaal | D14: 199708 | E14: 199945 | F14: 200300 | G14: =F14-E14 -> 355 | H14: =(F14-E14)/E14 -> 0.0017754883 | I14: 200819 | J14: 201085 | K14: 201500 | L14: =K14-J14 -> 415 | M14: 0.0020638039 | N14: 185601.98 | O14: 185110.29 | P14: 185800 | Q14: =P14-O14 -> 689.71 | R14: 0.0037259409
C15: Arbeiders | D15: 4005 | E15: 3833 | F15: 3700 | G15: =F15-E15 -> -133 | H15: =(F15-E15)/E15 -> -0.034698669 | I15: 4071 | J15: 3900 | K15: 3800 | L15: =K15-J15 -> -100 | M15: -0.025641026 | N15: 2931.94 | O15: 2793.79 | P15: 2800 | Q15: =P15-O15 -> 6.21 | R15: 0.002222787
C16: Bedienden | D16: 53943 | E16: 52755 | F16: 52000 | G16: =F16-E16 -> -755 | H16: =(F16-E16)/E16 -> -0.01431144 | I16: 54678 | J16: 53536 | K16: 52800 | L16: =K16-J16 -> -736 | M16: -0.013747759 | N16: 48107.78 | O16: 46506.69 | P16: 46000 | Q16: =P16-O16 -> -506.69 | R16: -0.010894992
C17: Ambtenaren | D17: 141760 | E17: 143357 | F17: 144600 | G17: =F17-E17 -> 1243 | H17: =(F17-E17)/E17 -> 0.0086706614 | I17: 142070 | J17: 143649 | K17: 144900 | L17: =K17-J17 -> 1251 | M17: 0.0087087275 | N17: 134562.26 | O17: 135809.81 | P17: 137000 | Q17: =P17-O17 -> 1190.19 | R17: 0.0087636526
B18: Gewesten en gemeenschappen | D18: 536985 | E18: 541361 | F18: 544300 | G18: =F18-E18 -> 2939 | H18: =(F18-E18)/E18 -> 0.0054289097 | I18: 554767 | J18: 559283 | K18: 562300 | L18: =K18-J18 -> 3017 | M18: 0.0053944068 | N18: 471053.12 | O18: 472229.43 | P18: 477000 | Q18: =P18-O18 -> 4770.57 | R18: 0.010102229
B19: - Administratie, diensten | D19: 123667 | E19: 124070 | F19: 125500 | G19: =F19-E19 -> 1430 | H19: =(F19-E19)/E19 -> 0.011525752 | I19: 124480 | J19: 124849 | K19: 126500 | L19: =K19-J19 -> 1651 | M19: 0.013223975 | N19: 109882.44 | O19: 110036.65 | P19: 111000 | Q19: =P19-O19 -> 963.35 | R19: 0.024768202
C20: Arbeiders | D20: 21741 | E20: 21793 | F20: 21900 | G20: =F20-E20 -> 107 | H20: =(F20-E20)/E20 -> 0.0049098334 | I20: 21780 | J20: 21833 | K20: 22000 | L20: =K20-J20 -> 167 | M20: 0.0076489717 | N20: 17381.65 | O20: 17183.22 | P20: 17100 | Q20: =P20-O20 -> -83.22 | R20: -0.093821763
C21: Bedienden | D21: 56040 | E21: 54664 | F21: 56200 | G21: =F21-E21 -> 1536 | H21: =(F21-E21)/E21 -> 0.028098932 | I21: 56700 | J21: 55301 | K21: 57000 | L21: =K21-J21 -> 1699 | M21: 0.030722772 | N21: 49432.88 | O21: 48157.37 | P21: 49300 | Q21: =P21-O21 -> 1142.63 | R21: 0.0043760695
C22: Ambtenaren | D22: 45886 | E22: 47613 | F22: 47400 | G22: =F22-E22 -> -213 | H22: =(F22-E22)/E22 -> -0.0044735681 | I22: 46000 | J22: 47715 | K22: 47500 | L22: =K22-J22 -> -215 | M22: -0.0045059206 | N22: 43067.91 | O22: 44696.06 | P22: 44600 | Q22: =P22-O22 -> -96.06 | R22: 0.0019675112
B23: - Onderwijs | D23: 413318 | E23: 417291 | F23: 418800 | G23: =F23-E23 -> 1509 | H23: =(F23-E23)/E23 -> 0.0036161815 | I23: 430287 | J23: 434434 | K23: 435800 | L23: =K23-J23 -> 1366 | M23: 0.0031443211 | N23: 361170.68 | O23: 362192.78 | P23: 366000 | Q23: =P23-O23 -> 3807.22 | R23: 0.00033904596
C24: Arbeiders | D24: 7852 | E24: 7849 | F24: 7700 | G24: =F24-E24 -> -149 | H24: =(F24-E24)/E24 -> -0.01898331 | I24: 8413 | J24: 8484 | K24: 8300 | L24: =K24-J24 -> -184 | M24: -0.021687883 | N24: 5455.48 | O24: 5384.02 | P24: 5300 | Q24: =P24-O24 -> -84.02 | R24: 0
C25: Bedienden | D25: 150076 | E25: 152623 | F25: 151800 | G25: =F25-E25 -> -823 | H25: =(F25-E25)/E25 -> -0.0053923721 | I25: 164005 | J25: 166553 | K25: 165500 | L25: =K25-J25 -> -1053 | M25: -0.0063223118 | N25: 126628.22 | O25: 128284.31 | P25: 128300 | Q25: =P25-O25 -> 15.69 | R25: 0
C26: Ambtenaren | D26: 255390 | E26: 256819 | F26: 259300 | G26: =F26-E26 -> 2481 | H26: =(F26-E26)/E26 -> 0.0096605002 | I26: 257869 | J26: 259397 | K26: 262000 | L26: =K26-J26 -> 2603 | M26: 0.010034812 | N26: 229086.98 | O26: 228524.45 | P26: 232400 | Q26: =P26-O26 -> 3875.55 | R26: -0.01635453
B27: Plaatselijke en Provinciale Besturen | D27: 362360 | E27: 360891 | F27: 358900 | G27: =F27-E27 -> -1991 | H27: =(F27-E27)/E27 -> -0.0055169012 | I27: 370889 | J27: 369012 | K27: 366400 | L27: =K27-J27 -> -2612 | M27: -0.0070783606 | N27: 297688.86 | O27: 296309.4 | P27: 297800 | Q27: =P27-O27 -> 1490.6 | R27: 0.021045671
C28: Arbeiders | D28: 82940 | E28: 83579 | F28: 82000 | G28: =F28-E28 -> -1579 | H28: =(F28-E28)/E28 -> -0.018892305 | I28: 84779 | J28: 85404 | K28: 83600 | L28: =K28-J28 -> -1804 | M28: -0.021123132 | N28: 61596.05 | O28: 62322.65 | P28: 62700 | Q28: =P28-O28 -> 377.35 | R28: 0.053873191
C29: Bedienden | D29: 175645 | E29: 175853 | F29: 177500 | G29: =F29-E29 -> 1647 | H29: =(F29-E29)/E29 -> 0.0093657771 | I29: 181893 | J29: 181717 | K29: 183000 | L29: =K29-J29 -> 1283 | M29: 0.0070604291 | N29: 140553.04 | O29: 140474.59 | P29: 143200 | Q29: =P29-O29 -> 2725.41 | R29: 0.019401445
C30: Ambtenaren | D30: 103775 | E30: 101459 | F30: 99400 | G30: =F30-E30 -> -2059 | H30: =(F30-E30)/E30 -> -0.020293912 | I30: 104217 | J30: 101891 | K30: 99800 | L30: =K30-J30 -> -2091 | M30: -0.02052193 | N30: 95539.77 | O30: 93512.16 | P30: 91900 | Q30: =P30-O30 -> -1612.16 | R30: -0.017240111
B31: Intern. instell. en bijzondere gevallen | D31: 23290 | E31: 23756 | F31: 24000 | G31: =F31-E31 -> 244 | H31: =(F31-E31)/E31 -> 0.010271089 | I31: 26730 | J31: 27234 | K31: 27300 | L31: =K31-J31 -> 66 | M31: 0.0024234413 | N31: 16443.02 | O31: 16689.26 | P31: 16900 | Q31: =P31-O31 -> 210.74 | R31: 0.012627282
C32: Arbeiders | D32: 11859 | E32: 11959 | F32: 12100 | G32: =F32-E32 -> 141 | H32: =(F32-E32)/E32 -> 0.011790283 | I32: 12850 | J32: 12891 | K32: 13000 | L32: =K32-J32 -> 109 | M32: 0.0084555116 | N32: 7523.79 | O32: 7512.06 | P32: 7600 | Q32: =P32-O32 -> 87.94 | R32: 0.011706509
C33: Bedienden | D33: 11431 | E33: 11797 | F33: 11900 | G33: =F33-E33 -> 103 | H33: =(F33-E33)/E33 -> 0.0087310333 | I33: 13880 | J33: 14343 | K33: 14300 | L33: =K33-J33 -> -43 | M33: -0.0029979781 | N33: 8919.23 | O33: 9177.2 | P33: 9300 | Q33: =P33-O33 -> 122.8 | R33: 0.013380988
A36: Totaal | C36: Arbeiders | D36: =SUM(D10,D15,D20,D24,D28,D32) -> 1345892 | E36: =SUM(E10,E15,E20,E24,E28,E32) -> 1337672 | F36: =SUM(F10,F15,F20,F24,F28,F32) -> 1328400 | G36: =F36-E36 -> -9272 | H36: =(F36-E36)/E36 -> -0.0069314451 | I36: =SUM(I10,I15,I20,I24,I28,I32) -> 1415862 | J36: =SUM(J10,J15,J20,J24,J28,J32) -> 1412272 | K36: =SUM(K10,K15,K20,K24,K28,K32) -> 1405700 | L36: =K36-J36 -> -6572 | M36: =(K36-J36)/J36 -> -0.0046534945 | N36: =SUM(N10,N15,N20,N24,N28,N32) -> 1009277 | O36: =SUM(O10,O15,O20,O24,O28,O32) -> 1006037.4 | P36: =SUM(P10,P15,P20,P24,P28,P32) -> 1002300 | Q36: =P36-O36 -> -3737.41 | R36: =(P36-O36)/O36 -> -0.0037149811
C37: Bedienden | D37: =SUM(D11,D16,D21,D25,D29,D33) -> 2234503 | E37: =SUM(E11,E16,E21,E25,E29,E33) -> 2246206 | F37: =SUM(F11,F16,F21,F25,F29,F33) -> 2249900 | G37: =F37-E37 -> 3694 | H37: =(F37-E37)/E37 -> 0.0016445509 | I37: =SUM(I11,I16,I21,I25,I29,I33) -> 2310575 | J37: =SUM(J11,J16,J21,J25,J29,J33) -> 2323756 | K37: =SUM(K11,K16,K21,K25,K29,K33) -> 2331100 | L37: =K37-J37 -> 7344 | M37: =(K37-J37)/J37 -> 0.0031604007 | N37: =SUM(N11,N16,N21,N25,N29,N33) -> 1904560 | O37: =SUM(O11,O16,O21,O25,O29,O33) -> 1908564 | P37: =SUM(P11,P16,P21,P25,P29,P33) -> 1914800 | Q37: =P37-O37 -> 6236.03 | R37: =(P37-O37)/O37 -> 0.0032673938
C38: Ambtenaren | D38: =SUM(D17,D22,D26,D30) -> 546811 | E38: =SUM(E17,E22,E26,E30) -> 549248 | F38: =SUM(F17,F22,F26,F30) -> 550700 | G38: =F38-E38 -> 1452 | H38: =(F38-E38)/E38 -> 0.0026436145 | I38: =SUM(I17,I22,I26,I30) -> 550156 | J38: =SUM(J17,J22,J26,J30) -> 552652 | K38: =SUM(K17,K22,K26,K30) -> 554200 | L38: =K38-J38 -> 1548 | M38: =(K38-J38)/J38 -> 0.0028010394 | N38: =SUM(N17,N22,N26,N30) -> 502256.92 | O38: =SUM(O17,O22,O26,O30) -> 502542.48 | P38: =SUM(P17,P22,P26,P30) -> 505900 | Q38: =P38-O38 -> 3357.52 | R38: =(P38-O38)/O38 -> 0.006681067
C39: Totaal | D39: =SUM(D36:D38) -> 4127206 | E39: =SUM(E36:E38) -> 4133126 | F39: =SUM(F36:F38) -> 4129000 | G39: =F39-E39 -> -4126 | H39: =(F39-E39)/E39 -> -0.00099827588 | I39: =SUM(I36:I38) -> 4276593 | J39: =SUM(J36:J38) -> 4288680 | K39: =SUM(K36:K38) -> 4291000 | L39: =K39-J39 -> 2320 | M39: =(K39-J39)/J39 -> 0.00054095899 | N39: =SUM(N36:N38) -> 3416093.9 | O39: =SUM(O36:O38) -> 3417143.9 | P39: =SUM(P36:P38) -> 3423000 | Q39: =P39-O39 -> 5856.14 | R39: =(P39-O39)/O39 -> 0.0017137528
B43: Retour à l'aperçu | E43: PAR SECTEUR ET STATUT
B44: Tableau 3
A46: Secteur, statut | D46: Nombre de travailleurs occupés | I46: Nombre de postes de travail | N46: Volume de travail en équivalents temps plein
D47: Nombre 2024Q1 | E47: Nombre 2025Q1 | F47: Estimation 2026Q1 | G47: Différence Année-1 | I47: Nombre 2023Q4 | J47: Nombre 2024Q4 | K47: Estimation 2025Q4 | L47: Différence Année-1 | N47: Nombre 2023Q4 | O47: Nombre 2024Q4 | P47: Estimation 2025Q4 | Q47: Différence Année-1
D48: nombre x1.000 | E48: nombre x1.000 | F48: nombre x1.000 | G48: nombre x1.000 | H48: en % | I48: nombre x1.000 | J48: nombre x1.000 | K48: nombre x1.000 | L48: nombre x1.000 | M48: en % | N48: etp x1.000 | O48: etp x1.000 | P48: etp x1.000 | Q48: etp x1.000 | R48: en %
A49: Secteur Privé | D49: 3004863 | E49: 3007173 | F49: 3001500 | G49: =F49-E49 -> -5673 | H49: =G49/E49 -> -0.0018864894 | I49: 3123388 | J49: 3132066 | K49: 3133500 | L49: =K49-J49 -> 1434 | M49: =L49/J49 -> 0.00045784476 | N49: 2445306.9 | O49: 2446805.5 | P49: 2445500 | Q49: =P49-O49 -> -1305.48 | R49: =Q49/O49 -> -0.00053354466
C50: Ouvriers | D50: 1217495 | E50: 1208659 | F50: 1201000 | G50: =F50-E50 -> -7659 | H50: =G50/E50 -> -0.0063367749 | I50: 1283969 | J50: 1279760 | K50: 1275000 | L50: =K50-J50 -> -4760 | M50: =L50/J50 -> -0.0037194474 | N50: 914388.06 | O50: 910841.67 | P50: 906800 | Q50: =P50-O50 -> -4041.67 | R50: =Q50/O50 -> -0.0044372915
C51: Employés | D51: 1787368 | E51: 1798514 | F51: 1800500 | G51: =F51-E51 -> 1986 | H51: =G51/E51 -> 0.0011042449 | I51: 1839419 | J51: 1852306 | K51: 1858500 | L51: =K51-J51 -> 6194 | M51: =L51/J51 -> 0.0033439399 | N51: 1530918.8 | O51: 1535963.8 | P51: 1538700 | Q51: =P51-O51 -> 2736.19 | R51: =Q51/O51 -> 0.0017814157
G52: =F52-E52 -> 0 | L52: =K52-J52 -> 0 | Q52: =P52-O52 -> 0
A53: Secteur Public et enseignement | D53: 1122343 | E53: 1125953 | F53: 1127500 | G53: =F53-E53 -> 1547 | H53: =G53/E53 -> 0.0013739472 | I53: 1153205 | J53: 1156614 | K53: 1157500 | L53: =K53-J53 -> 886 | M53: =L53/J53 -> 0.00076602912 | N53: 970786.98 | O53: 970338.38 | P53: 977500 | Q53: =P53-O53 -> 7161.62 | R53: =Q53/O53 -> 0.0073805387
B54: Fédéral | D54: 199708 | E54: 199945 | F54: 200300 | G54: =F54-E54 -> 355 | H54: =G54/E54 -> 0.0017754883 | I54: 200819 | J54: 201085 | K54: 201500 | L54: =K54-J54 -> 415 | M54: =L54/J54 -> 0.0020638039 | N54: 185601.98 | O54: 185110.29 | P54: 185800 | Q54: =P54-O54 -> 689.71 | R54: =Q54/O54 -> 0.0037259409
C55: Ouvriers | D55: 4005 | E55: 3833 | F55: 3700 | G55: =F55-E55 -> -133 | H55: =G55/E55 -> -0.034698669 | I55: 4071 | J55: 3900 | K55: 3800 | L55: =K55-J55 -> -100 | M55: =L55/J55 -> -0.025641026 | N55: 2931.94 | O55: 2793.79 | P55: 2800 | Q55: =P55-O55 -> 6.21 | R55: =Q55/O55 -> 0.002222787
C56: Employés | D56: 53943 | E56: 52755 | F56: 52000 | G56: =F56-E56 -> -755 | H56: =G56/E56 -> -0.01431144 | I56: 54678 | J56: 53536 | K56: 52800 | L56: =K56-J56 -> -736 | M56: =L56/J56 -> -0.013747759 | N56: 48107.78 | O56: 46506.69 | P56: 46000 | Q56: =P56-O56 -> -506.69 | R56: =Q56/O56 -> -0.010894992
C57: Fonctionnaires | D57: 141760 | E57: 143357 | F57: 144600 | G57: =F57-E57 -> 1243 | H57: =G57/E57 -> 0.0086706614 | I57: 142070 | J57: 143649 | K57: 144900 | L57: =K57-J57 -> 1251 | M57: =L57/J57 -> 0.0087087275 | N57: 134562.26 | O57: 135809.81 | P57: 137000 | Q57: =P57-O57 -> 1190.19 | R57: =Q57/O57 -> 0.0087636526
B58: Régions & Communautés | D58: 536985 | E58: 541361 | F58: 544300 | G58: =F58-E58 -> 2939 | H58: =G58/E58 -> 0.0054289097 | I58: 554767 | J58: 559283 | K58: 562300 | L58: =K58-J58 -> 3017 | M58: =L58/J58 -> 0.0053944068 | N58: 471053.12 | O58: 472229.43 | P58: 477000 | Q58: =P58-O58 -> 4770.57 | R58: =Q58/O58 -> 0.010102229
B59: - Administration, services | D59: 123667 | E59: 124070 | F59: 125500 | G59: =F59-E59 -> 1430 | H59: =G59/E59 -> 0.011525752 | I59: 124480 | J59: 124849 | K59: 126500 | L59: =K59-J59 -> 1651 | M59: =L59/J59 -> 0.013223975 | N59: 109882.44 | O59: 110036.65 | P59: 111000 | Q59: =P59-O59 -> 963.35 | R59: =Q69/O59 -> 0.024768202
C60: Ouvriers | D60: 21741 | E60: 21793 | F60: 21900 | G60: =F60-E60 -> 107 | H60: =G60/E60 -> 0.0049098334 | I60: 21780 | J60: 21833 | K60: 22000 | L60: =K60-J60 -> 167 | M60: =L60/J60 -> 0.0076489717 | N60: 17381.65 | O60: 17183.22 | P60: 17100 | Q60: =P60-O60 -> -83.22 | R60: =Q70/O60 -> -0.093821763
C61: Employés | D61: 56040 | E61: 54664 | F61: 56200 | G61: =F61-E61 -> 1536 | H61: =G61/E61 -> 0.028098932 | I61: 56700 | J61: 55301 | K61: 57000 | L61: =K61-J61 -> 1699 | M61: =L61/J61 -> 0.030722772 | N61: 49432.88 | O61: 48157.37 | P61: 49300 | Q61: =P61-O61 -> 1142.63 | R61: =Q71/O61 -> 0.0043760695
C62: Fonctionnaires | D62: 45886 | E62: 47613 | F62: 47400 | G62: =F62-E62 -> -213 | H62: =G62/E62 -> -0.0044735681 | I62: 46000 | J62: 47715 | K62: 47500 | L62: =K62-J62 -> -215 | M62: =L62/J62 -> -0.0045059206 | N62: 43067.91 | O62: 44696.06 | P62: 44600 | Q62: =P62-O62 -> -96.06 | R62: =Q72/O62 -> 0.0019675112
B63: - Enseignement | D63: 413318 | E63: 417291 | F63: 418800 | G63: =F63-E63 -> 1509 | H63: =G63/E63 -> 0.0036161815 | I63: 430287 | J63: 434434 | K63: 435800 | L63: =K63-J63 -> 1366 | M63: =L63/J63 -> 0.0031443211 | N63: 361170.68 | O63: 362192.78 | P63: 366000 | Q63: =P63-O63 -> 3807.22 | R63: =Q73/O63 -> 0.00033904596
C64: Ouvriers | D64: 7852 | E64: 7849 | F64: 7700 | G64: =F64-E64 -> -149 | H64: =G64/E64 -> -0.01898331 | I64: 8413 | J64: 8484 | K64: 8300 | L64: =K64-J64 -> -184 | M64: =L64/J64 -> -0.021687883 | N64: 5455.48 | O64: 5384.02 | P64: 5300 | Q64: =P64-O64 -> -84.02 | R64: =Q74/O64 -> 0
C65: Employés | D65: 150076 | E65: 152623 | F65: 151800 | G65: =F65-E65 -> -823 | H65: =G65/E65 -> -0.0053923721 | I65: 164005 | J65: 166553 | K65: 165500 | L65: =K65-J65 -> -1053 | M65: =L65/J65 -> -0.0063223118 | N65: 126628.22 | O65: 128284.31 | P65: 128300 | Q65: =P65-O65 -> 15.69 | R65: =Q75/O65 -> 0
C66: Fonctionnaires | D66: 255390 | E66: 256819 | F66: 259300 | G66: =F66-E66 -> 2481 | H66: =G66/E66 -> 0.0096605002 | I66: 257869 | J66: 259397 | K66: 262000 | L66: =K66-J66 -> 2603 | M66: =L66/J66 -> 0.010034812 | N66: 229086.98 | O66: 228524.45 | P66: 232400 | Q66: =P66-O66 -> 3875.55 | R66: =Q76/O66 -> -0.01635453
B67: Administrations provinciales et locales | D67: 362360 | E67: 360891 | F67: 358900 | G67: =F67-E67 -> -1991 | H67: =G67/E67 -> -0.0055169012 | I67: 370889 | J67: 369012 | K67: 366400 | L67: =K67-J67 -> -2612 | M67: =L67/J67 -> -0.0070783606 | N67: 297688.86 | O67: 296309.4 | P67: 297800 | Q67: =P67-O67 -> 1490.6 | R67: =Q77/O67 -> 0.021045671
C68: Ouvriers | D68: 82940 | E68: 83579 | F68: 82000 | G68: =F68-E68 -> -1579 | H68: =G68/E68 -> -0.018892305 | I68: 84779 | J68: 85404 | K68: 83600 | L68: =K68-J68 -> -1804 | M68: =L68/J68 -> -0.021123132 | N68: 61596.05 | O68: 62322.65 | P68: 62700 | Q68: =P68-O68 -> 377.35 | R68: =Q78/O68 -> 0.053873191
C69: Employés | D69: 175645 | E69: 175853 | F69: 177500 | G69: =F69-E69 -> 1647 | H69: =G69/E69 -> 0.0093657771 | I69: 181893 | J69: 181717 | K69: 183000 | L69: =K69-J69 -> 1283 | M69: =L69/J69 -> 0.0070604291 | N69: 140553.04 | O69: 140474.59 | P69: 143200 | Q69: =P69-O69 -> 2725.41 | R69: =Q69/O69 -> 0.019401445
C70: Fonctionnaires | D70: 103775 | E70: 101459 | F70: 99400 | G70: =F70-E70 -> -2059 | H70: =G70/E70 -> -0.020293912 | I70: 104217 | J70: 101891 | K70: 99800 | L70: =K70-J70 -> -2091 | M70: =L70/J70 -> -0.02052193 | N70: 95539.77 | O70: 93512.16 | P70: 91900 | Q70: =P70-O70 -> -1612.16 | R70: =Q70/O70 -> -0.017240111
B71: Instit. internat. et cas particuliers | D71: 23290 | E71: 23756 | F71: 24000 | G71: =F71-E71 -> 244 | H71: =G71/E71 -> 0.010271089 | I71: 26730 | J71: 27234 | K71: 27300 | L71: =K71-J71 -> 66 | M71: =L71/J71 -> 0.0024234413 | N71: 16443.02 | O71: 16689.26 | P71: 16900 | Q71: =P71-O71 -> 210.74 | R71: =Q71/O71 -> 0.012627282
C72: Ouvriers | D72: 11859 | E72: 11959 | F72: 12100 | G72: =F72-E72 -> 141 | H72: =G72/E72 -> 0.011790283 | I72: 12850 | J72: 12891 | K72: 13000 | L72: =K72-J72 -> 109 | M72: =L72/J72 -> 0.0084555116 | N72: 7523.79 | O72: 7512.06 | P72: 7600 | Q72: =P72-O72 -> 87.94 | R72: =Q72/O72 -> 0.011706509
C73: Employés | D73: 11431 | E73: 11797 | F73: 11900 | G73: =F73-E73 -> 103 | H73: =G73/E73 -> 0.0087310333 | I73: 13880 | J73: 14343 | K73: 14300 | L73: =K73-J73 -> -43 | M73: =L73/J73 -> -0.0029979781 | N73: 8919.23 | O73: 9177.2 | P73: 9300 | Q73: =P73-O73 -> 122.8 | R73: =Q73/O73 -> 0.013380988
A76: Total | C76: Ouvriers | D76: =SUM(D50,D55,D60,D64,D68,D72) -> 1345892 | E76: =SUM(E50,E55,E60,E64,E68,E72) -> 1337672 | F76: =SUM(F50,F55,F60,F64,F68,F72) -> 1328400 | G76: =F76-E76 -> -9272 | H76: =(F76-E76)/E76 -> -0.0069314451 | I76: =SUM(I50,I55,I60,I64,I68,I72) -> 1415862 | J76: =SUM(J50,J55,J60,J64,J68,J72) -> 1412272 | K76: =SUM(K50,K55,K60,K64,K68,K72) -> 1405700 | L76: =K76-J76 -> -6572 | M76: =(K76-J76)/J76 -> -0.0046534945 | N76: =SUM(N50,N55,N60,N64,N68,N72) -> 1009277 | O76: =SUM(O50,O55,O60,O64,O68,O72) -> 1006037.4 | P76: =SUM(P50,P55,P60,P64,P68,P72) -> 1002300 | Q76: =P76-O76 -> -3737.41 | R76: =(P76-O76)/O76 -> -0.0037149811
C77: Employés | D77: =SUM(D51,D56,D61,D65,D69,D73) -> 2234503 | E77: =SUM(E51,E56,E61,E65,E69,E73) -> 2246206 | F77: =SUM(F51,F56,F61,F65,F69,F73) -> 2249900 | G77: =F77-E77 -> 3694 | H77: =(F77-E77)/E77 -> 0.0016445509 | I77: =SUM(I51,I56,I61,I65,I69,I73) -> 2310575 | J77: =SUM(J51,J56,J61,J65,J69,J73) -> 2323756 | K77: =SUM(K51,K56,K61,K65,K69,K73) -> 2331100 | L77: =K77-J77 -> 7344 | M77: =(K77-J77)/J77 -> 0.0031604007 | N77: =SUM(N51,N56,N61,N65,N69,N73) -> 1904560 | O77: =SUM(O51,O56,O61,O65,O69,O73) -> 1908564 | P77: =SUM(P51,P56,P61,P65,P69,P73) -> 1914800 | Q77: =P77-O77 -> 6236.03 | R77: =(P77-O77)/O77 -> 0.0032673938
C78: Fonctionnaires | D78: =SUM(D57,D62,D66,D70) -> 546811 | E78: =SUM(E57,E62,E66,E70) -> 549248 | F78: =SUM(F57,F62,F66,F70) -> 550700 | G78: =F78-E78 -> 1452 | H78: =(F78-E78)/E78 -> 0.0026436145 | I78: =SUM(I57,I62,I66,I70) -> 550156 | J78: =SUM(J57,J62,J66,J70) -> 552652 | K78: =SUM(K57,K62,K66,K70) -> 554200 | L78: =K78-J78 -> 1548 | M78: =(K78-J78)/J78 -> 0.0028010394 | N78: =SUM(N57,N62,N66,N70) -> 502256.92 | O78: =SUM(O57,O62,O66,O70) -> 502542.48 | P78: =SUM(P57,P62,P66,P70) -> 505900 | Q78: =P78-O78 -> 3357.52 | R78: =(P78-O78)/O78 -> 0.006681067
C79: Total | D79: =SUM(D76:D78) -> 4127206 | E79: =SUM(E76:E78) -> 4133126 | F79: =SUM(F76:F78) -> 4129000 | G79: =F79-E79 -> -4126 | H79: =(F79-E79)/E79 -> -0.00099827588 | I79: =SUM(I76:I78) -> 4276593 | J79: =SUM(J76:J78) -> 4288680 | K79: =SUM(K76:K78) -> 4291000 | L79: =K79-J79 -> 2320 | M79: =(K79-J79)/J79 -> 0.00054095899 | N79: =SUM(N76:N78) -> 3416093.9 | O79: =SUM(O76:O78) -> 3417143.9 | P79: =SUM(P76:P78) -> 3423000 | Q79: =P79-O79 -> 5856.14 | R79: =(P79-O79)/O79 -> 0.0017137528

Sheet Tab4 Domicile
A1: Terug lijst van de tabellen
A3: Tabel 4 | D3: NAAR HOOFDVERBLIJFPLAATS VAN DE WERKNEMER
A5: Hoofdverblijfplaats | D5: Aantal tewerkgestelde werknemers | I5: Aantal Arbeidsplaatsen | N5: Arbeidsvolume in voltijdsequivalenten
D6: Aantal op 2024K1 | E6: Aantal op 2025K1 | F6: Raming op 2026K1 | G6: Verschil Jaar-1 | I6: Aantal op 2024K1 | J6: Aantal op 2025K1 | K6: Raming op 2026K1 | L6: Verschil Jaar-1 | N6: Aantal op 2024K1 | O6: Aantal op 2025K1 | P6: Raming op 2026K1 | Q6: Verschil Jaar-1
D7: Aantal x1.000 | E7: Aantal x1.000 | F7: Aantal x1.000 | G7: Aantal x1.000 | H7: in % | I7: Aantal x1.000 | J7: Aantal x1.000 | K7: Aantal x1.000 | L7: Aantal x1.000 | M7: in % | N7: Aantal x1.000 | O7: Aantal x1.000 | P7: Aantal x1.000 | Q7: vte x1.000 | R7: in %
B8: Brussels Hoofdstedelijk Gewest | D8: 352531 | E8: 354423 | F8: 352500 | G8: =F8-E8 -> -1923 | H8: =G8/E8 -> -0.0054257201 | I8: 363905 | J8: 366767 | K8: 365000 | L8: =K8-J8 -> -1767 | M8: =L8/J8 -> -0.0048177726 | N8: 296237.26 | O8: 295920.44 | P8: 293900 | Q8: =P8-O8 -> -2020.44 | R8: =Q8/O8 -> -0.006827646
B9: Vlaams Gewest | D9: 2492038 | E9: 2493490 | F9: 2493000 | G9: =F9-E9 -> -490 | H9: =G9/E9 -> -0.00019651172 | I9: 2594991 | J9: 2599286 | K9: 2603100 | L9: =K9-J9 -> 3814 | M9: =L9/J9 -> 0.001467326 | N9: 2079779 | O9: 2079339.5 | P9: 2085400 | Q9: =P9-O9 -> 6060.54 | R9: =Q9/O9 -> 0.0029146468
C10: Antwerpen | D10: 689770 | E10: 690565 | F10: 691100 | G10: =F10-E10 -> 535 | H10: =G10/E10 -> 0.00077472794 | I10: 716913 | J10: 718951 | K10: 720700 | L10: =K10-J10 -> 1749 | M10: =L10/J10 -> 0.002432711 | N10: 576381.9 | O10: 576586.43 | P10: 578500 | Q10: =P10-O10 -> 1913.57 | R10: =Q10/O10 -> 0.0033187913
C11: Vlaams Brabant | D11: 436481 | E11: 436534 | F11: 436100 | G11: =F11-E11 -> -434 | H11: =G11/E11 -> -0.00099419518 | I11: 452043 | J11: 452512 | K11: 452700 | L11: =K11-J11 -> 188 | M11: =L11/J11 -> 0.0004154586 | N11: 370952.31 | O11: 370374.54 | P11: 370600 | Q11: =P11-O11 -> 225.46 | R11: =Q11/O11 -> 0.00060873515
C12: Limburg | D12: 316365 | E12: 316298 | F12: 315700 | G12: =F12-E12 -> -598 | H12: =G12/E12 -> -0.0018906221 | I12: 330063 | J12: 330453 | K12: 330600 | L12: =K12-J12 -> 147 | M12: =L12/J12 -> 0.0004448439 | N12: 254760.12 | O12: 254564.44 | P12: 255400 | Q12: =P12-O12 -> 835.56 | R12: =Q12/O12 -> 0.0032823123
C13: Oost-Vlaanderen | D13: 608413 | E13: 609382 | F13: 610000 | G13: =F13-E13 -> 618 | H13: =G13/E13 -> 0.0010141422 | I13: 633308 | J13: 634874 | K13: 636600 | L13: =K13-J13 -> 1726 | M13: =L13/J13 -> 0.0027186497 | N13: 511114.4 | O13: 511661.25 | P13: 513600 | Q13: =P13-O13 -> 1938.75 | R13: =Q13/O13 -> 0.0037891281
C14: West-Vlaanderen | D14: 441009 | E14: 440711 | F14: 440100 | G14: =F14-E14 -> -611 | H14: =G14/E14 -> -0.0013863961 | I14: 462664 | J14: 462496 | K14: 462500 | L14: =K14-J14 -> 4 | M14: =L14/J14 -> 8.6487234e-06 | N14: 366570.28 | O14: 366152.8 | P14: 367300 | Q14: =P14-O14 -> 1147.2 | R14: =Q14/O14 -> 0.0031331182
B15: Waals Gewest | D15: 1184280 | E15: 1185365 | F15: 1183500 | G15: =F15-E15 -> -1865 | H15: =G15/E15 -> -0.001573355 | I15: 1218048 | J15: 1221429 | K15: 1221400 | L15: =K15-J15 -> -29 | M15: =L15/J15 -> -2.3742682e-05 | N15: 959011.13 | O15: 960273.82 | P15: 961700 | Q15: =P15-O15 -> 1426.18 | R15: =Q15/O15 -> 0.0014851805
C16: Waals Brabant | D16: 135198 | E16: 135147 | F16: 135300 | G16: =F16-E16 -> 153 | H16: =G16/E16 -> 0.0011321006 | I16: 138964 | J16: 139181 | K16: 139600 | L16: =K16-J16 -> 419 | M16: =L16/J16 -> 0.0030104684 | N16: 114519.04 | O16: 114205.87 | P16: 114600 | Q16: =P16-O16 -> 394.13 | R16: =Q16/O16 -> 0.0034510485
C17: Henegouwen | D17: 434914 | E17: 434560 | F17: 433200 | G17: =F17-E17 -> -1360 | H17: =G17/E17 -> -0.0031296024 | I17: 445232 | J17: 445958 | K17: 445200 | L17: =K17-J17 -> -758 | M17: =L17/J17 -> -0.0016997116 | N17: 347342.72 | O17: 347594.6 | P17: 347400 | Q17: =P17-O17 -> -194.6 | R17: =Q17/O17 -> -0.00055984759
C18: Luik | D18: 364364 | E18: 365757 | F18: 365100 | G18: =F18-E18 -> -657 | H18: =G18/E18 -> -0.0017962746 | I18: 376427 | J18: 378397 | K18: 378100 | L18: =K18-J18 -> -297 | M18: =L18/J18 -> -0.00078488994 | N18: 294403.79 | O18: 295360.47 | P18: 296500 | Q18: =P18-O18 -> 1139.53 | R18: =Q18/O18 -> 0.0038580992
C19: Luxemburg | D19: 72487 | E19: 72626 | F19: 72800 | G19: =F19-E19 -> 174 | H19: =G19/E19 -> 0.0023958362 | I19: 74915 | J19: 75199 | K19: 75600 | L19: =K19-J19 -> 401 | M19: =L19/J19 -> 0.0053325177 | N19: 57010.53 | O19: 57342.01 | P19: 57600 | Q19: =P19-O19 -> 257.99 | R19: =Q19/O19 -> 0.0044991447
C20: Namen | D20: 177317 | E20: 177275 | F20: 177100 | G20: =F20-E20 -> -175 | H20: =G20/E20 -> -0.00098716683 | I20: 182510 | J20: 182694 | K20: 182900 | L20: =K20-J20 -> 206 | M20: =L20/J20 -> 0.0011275685 | N20: 145735.05 | O20: 145770.87 | P20: 145600 | Q20: =P20-O20 -> -170.87 | R20: =Q20/O20 -> -0.0011721821
G21: =F21-E21 -> 0 | H21: =G21/E21 -> #DIV/0! | L21: =K21-J21 -> 0 | M21: =L21/J21 -> #DIV/0! | Q21: =P21-O21 -> 0 | R21: =Q21/O21 -> #DIV/0!
G22: =F22-E22 -> 0 | H22: =G22/E22 -> #DIV/0! | L22: =K22-J22 -> 0 | M22: =L22/J22 -> #DIV/0! | Q22: =P22-O22 -> 0 | R22: =Q22/O22 -> #DIV/0!
B23: Het Rijk | D23: =SUM(D15,D9,D8) -> 4028849 | E23: =SUM(E15,E9,E8) -> 4033278 | F23: =SUM(F15,F9,F8) -> 4029000 | G23: =F23-E23 -> -4278 | H23: =G23/E23 -> -0.0010606757 | I23: =SUM(I15,I9,I8) -> 4176944 | J23: =SUM(J15,J9,J8) -> 4187482 | K23: =SUM(K15,K9,K8) -> 4189500 | L23: =K23-J23 -> 2018 | M23: =L23/J23 -> 0.00048191252 | N23: =SUM(N15,N9,N8) -> 3335027.4 | O23: =SUM(O15,O9,O8) -> 3335533.7 | P23: =SUM(P15,P9,P8) -> 3341000 | Q23: =P23-O23 -> 5466.28 | R23: =Q23/O23 -> 0.0016388022
C24: Omliggende landen (1) | D24: 60590 | E24: 62293 | F24: 70000 | G24: =F24-E24 -> 7707 | H24: =G24/E24 -> 0.12372177 | I24: 61297 | J24: 63030 | K24: 70900 | L24: =K24-J24 -> 7870 | M24: =L24/J24 -> 0.12486118 | N24: 50139.84 | O24: 51240 | P24: 57500 | Q24: =P24-O24 -> 6260 | R24: =Q24/O24 -> 0.12217018
C25: Overige landen | D25: 10665 | E25: 11337 | F25: 13000 | G25: =F25-E25 -> 1663 | H25: =G25/E25 -> 0.14668784 | I25: 10738 | J25: 11424 | K25: 13100 | L25: =K25-J25 -> 1676 | M25: =L25/J25 -> 0.14670868 | N25: 9507.06 | O25: 9838.21 | P25: 11100 | Q25: =P25-O25 -> 1261.79 | R25: =Q25/O25 -> 0.12825402
C26: Onbekend (2) | D26: 27102 | E26: 26218 | F26: 17000 | G26: =F26-E26 -> -9218 | H26: =G26/E26 -> -0.35159051 | I26: 27614 | J26: 26744 | K26: 17500 | L26: =K26-J26 -> -9244 | M26: =L26/J26 -> -0.34564762 | N26: 21419.58 | O26: 20531.93 | P26: 13400 | Q26: =P26-O26 -> -7131.93 | R26: =Q26/O26 -> -0.34735799
B27: Totaal | D27: =SUM(D23:D26) -> 4127206 | E27: =SUM(E23:E26) -> 4133126 | F27: =SUM(F23:F26) -> 4129000 | G27: =F27-E27 -> -4126 | H27: =G27/E27 -> -0.00099827588 | I27: =SUM(I23:I26) -> 4276593 | J27: =SUM(J23:J26) -> 4288680 | K27: =SUM(K23:K26) -> 4291000 | L27: =K27-J27 -> 2320 | M27: =L27/J27 -> 0.00054095899 | N27: =SUM(N23:N26) -> 3416093.9 | O27: =SUM(O23:O26) -> 3417143.9 | P27: =SUM(P23:P26) -> 3423000 | Q27: =P27-O27 -> 5856.14 | R27: =Q27/O27 -> 0.0017137528
A30: (1) Duitsland, Frankrijk, Groothertogdom Luxemburg, Nederland.
A31: (2) Gegevens met betrekking tot personen voor wie gegevens omtrent de hoofdverblijfplaats ontbreken en/of personen die hun hoofdverblijfplaats in het buitenland hebben.
B33: Retour à l'aperçu
B34: Tableau 4 | D34: PAR RÉSIDENCE PRINCIPALE DU TRAVAILLEUR
A36: Résidence principale
D37: Nombre 2024Q1 | E37: Nombre 2025Q1 | F37: Estimation 2026Q1 | G37: Différence Année-1 | I37: Nombre 2023Q4 | J37: Nombre 2024Q4 | K37: Estimation 2025Q4 | L37: Différence Année-1 | N37: Nombre 2023Q4 | O37: Nombre 2024Q4 | P37: Estimation 2025Q4 | Q37: Différence Année-1
D38: nombre x1.000 | E38: nombre x1.000 | F38: nombre x1.000 | G38: nombre x1.000 | H38: en % | I38: nombre x1.000 | J38: nombre x1.000 | K38: nombre x1.000 | L38: nombre x1.000 | M38: en % | N38: etp x1.000 | O38: etp x1.000 | P38: etp x1.000 | Q38: etp x1.000 | R38: en %
B39: Région de Bruxelles-Capitale | D39: 352531 | E39: 354423 | F39: 352500 | G39: =F39-E39 -> -1923 | H39: =G39/E39 -> -0.0054257201 | I39: 363905 | J39: 366767 | K39: 365000 | L39: =K39-J39 -> -1767 | M39: =L39/J39 -> -0.0048177726 | N39: 296237.26 | O39: 295920.44 | P39: 293900 | Q39: =P39-O39 -> -2020.44 | R39: =Q39/O39 -> -0.006827646
B40: Région Flamande | D40: 2492038 | E40: 2493490 | F40: 2493000 | G40: =F40-E40 -> -490 | H40: =G40/E40 -> -0.00019651172 | I40: 2594991 | J40: 2599286 | K40: 2603100 | L40: =K40-J40 -> 3814 | M40: =L40/J40 -> 0.001467326 | N40: 2079779 | O40: 2079339.5 | P40: 2085400 | Q40: =P40-O40 -> 6060.54 | R40: =Q40/O40 -> 0.0029146468
C41: Anvers | D41: 689770 | E41: 690565 | F41: 691100 | G41: =F41-E41 -> 535 | H41: =G41/E41 -> 0.00077472794 | I41: 716913 | J41: 718951 | K41: 720700 | L41: =K41-J41 -> 1749 | M41: =L41/J41 -> 0.002432711 | N41: 576381.9 | O41: 576586.43 | P41: 578500 | Q41: =P41-O41 -> 1913.57 | R41: =Q41/O41 -> 0.0033187913
C42: Brabant Flamand | D42: 436481 | E42: 436534 | F42: 436100 | G42: =F42-E42 -> -434 | H42: =G42/E42 -> -0.00099419518 | I42: 452043 | J42: 452512 | K42: 452700 | L42: =K42-J42 -> 188 | M42: =L42/J42 -> 0.0004154586 | N42: 370952.31 | O42: 370374.54 | P42: 370600 | Q42: =P42-O42 -> 225.46 | R42: =Q42/O42 -> 0.00060873515
C43: Limbourg | D43: 316365 | E43: 316298 | F43: 315700 | G43: =F43-E43 -> -598 | H43: =G43/E43 -> -0.0018906221 | I43: 330063 | J43: 330453 | K43: 330600 | L43: =K43-J43 -> 147 | M43: =L43/J43 -> 0.0004448439 | N43: 254760.12 | O43: 254564.44 | P43: 255400 | Q43: =P43-O43 -> 835.56 | R43: =Q43/O43 -> 0.0032823123
C44: Flandre-Orientale | D44: 608413 | E44: 609382 | F44: 610000 | G44: =F44-E44 -> 618 | H44: =G44/E44 -> 0.0010141422 | I44: 633308 | J44: 634874 | K44: 636600 | L44: =K44-J44 -> 1726 | M44: =L44/J44 -> 0.0027186497 | N44: 511114.4 | O44: 511661.25 | P44: 513600 | Q44: =P44-O44 -> 1938.75 | R44: =Q44/O44 -> 0.0037891281
C45: Flandre-Occidentale | D45: 441009 | E45: 440711 | F45: 440100 | G45: =F45-E45 -> -611 | H45: =G45/E45 -> -0.0013863961 | I45: 462664 | J45: 462496 | K45: 462500 | L45: =K45-J45 -> 4 | M45: =L45/J45 -> 8.6487234e-06 | N45: 366570.28 | O45: 366152.8 | P45: 367300 | Q45: =P45-O45 -> 1147.2 | R45: =Q45/O45 -> 0.0031331182
B46: Région Wallonne | D46: 1184280 | E46: 1185365 | F46: 1183500 | G46: =F46-E46 -> -1865 | H46: =G46/E46 -> -0.001573355 | I46: 1218048 | J46: 1221429 | K46: 1221400 | L46: =K46-J46 -> -29 | M46: =L46/J46 -> -2.3742682e-05 | N46: 959011.13 | O46: 960273.82 | P46: 961700 | Q46: =P46-O46 -> 1426.18 | R46: =Q46/O46 -> 0.0014851805
C47: Brabant Wallon | D47: 135198 | E47: 135147 | F47: 135300 | G47: =F47-E47 -> 153 | H47: =G47/E47 -> 0.0011321006 | I47: 138964 | J47: 139181 | K47: 139600 | L47: =K47-J47 -> 419 | M47: =L47/J47 -> 0.0030104684 | N47: 114519.04 | O47: 114205.87 | P47: 114600 | Q47: =P47-O47 -> 394.13 | R47: =Q47/O47 -> 0.0034510485
C48: Hainaut | D48: 434914 | E48: 434560 | F48: 433200 | G48: =F48-E48 -> -1360 | H48: =G48/E48 -> -0.0031296024 | I48: 445232 | J48: 445958 | K48: 445200 | L48: =K48-J48 -> -758 | M48: =L48/J48 -> -0.0016997116 | N48: 347342.72 | O48: 347594.6 | P48: 347400 | Q48: =P48-O48 -> -194.6 | R48: =Q48/O48 -> -0.00055984759
C49: Liège | D49: 364364 | E49: 365757 | F49: 365100 | G49: =F49-E49 -> -657 | H49: =G49/E49 -> -0.0017962746 | I49: 376427 | J49: 378397 | K49: 378100 | L49: =K49-J49 -> -297 | M49: =L49/J49 -> -0.00078488994 | N49: 294403.79 | O49: 295360.47 | P49: 296500 | Q49: =P49-O49 -> 1139.53 | R49: =Q49/O49 -> 0.0038580992
C50: Luxembourg | D50: 72487 | E50: 72626 | F50: 72800 | G50: =F50-E50 -> 174 | H50: =G50/E50 -> 0.0023958362 | I50: 74915 | J50: 75199 | K50: 75600 | L50: =K50-J50 -> 401 | M50: =L50/J50 -> 0.0053325177 | N50: 57010.53 | O50: 57342.01 | P50: 57600 | Q50: =P50-O50 -> 257.99 | R50: =Q50/O50 -> 0.0044991447
C51: Namur | D51: 177317 | E51: 177275 | F51: 177100 | G51: =F51-E51 -> -175 | H51: =G51/E51 -> -0.00098716683 | I51: 182510 | J51: 182694 | K51: 182900 | L51: =K51-J51 -> 206 | M51: =L51/J51 -> 0.0011275685 | N51: 145735.05 | O51: 145770.87 | P51: 145600 | Q51: =P51-O51 -> -170.87 | R51: =Q51/O51 -> -0.0011721821
G52: =F52-E52 -> 0 | H52: =G52/E52 -> #DIV/0! | L52: =K52-J52 -> 0 | M52: =L52/J52 -> #DIV/0! | Q52: =P52-O52 -> 0 | R52: =Q52/O52 -> #DIV/0!
G53: =F53-E53 -> 0 | H53: =G53/E53 -> #DIV/0! | L53: =K53-J53 -> 0 | M53: =L53/J53 -> #DIV/0! | Q53: =P53-O53 -> 0 | R53: =Q53/O53 -> #DIV/0!
B54: Royaume | D54: =SUM(D46,D40,D39) -> 4028849 | E54: =SUM(E46,E40,E39) -> 4033278 | F54: =SUM(F46,F40,F39) -> 4029000 | G54: =F54-E54 -> -4278 | H54: =G54/E54 -> -0.0010606757 | I54: =SUM(I46,I40,I39) -> 4176944 | J54: =SUM(J46,J40,J39) -> 4187482 | K54: =SUM(K46,K40,K39) -> 4189500 | L54: =K54-J54 -> 2018 | M54: =L54/J54 -> 0.00048191252 | N54: =SUM(N46,N40,N39) -> 3335027.4 | O54: =SUM(O46,O40,O39) -> 3335533.7 | P54: =SUM(P46,P40,P39) -> 3341000 | Q54: =P54-O54 -> 5466.28 | R54: =Q54/O54 -> 0.0016388022
C55: Pays limitrophes (1) | D55: 60590 | E55: 62293 | F55: 70000 | G55: =F55-E55 -> 7707 | H55: =G55/E55 -> 0.12372177 | I55: 61297 | J55: 63030 | K55: 70900 | L55: =K55-J55 -> 7870 | M55: =L55/J55 -> 0.12486118 | N55: 50139.84 | O55: 51240 | P55: 57500 | Q55: =P55-O55 -> 6260 | R55: =Q55/O55 -> 0.12217018
C56: Autres Pays | D56: 10665 | E56: 11337 | F56: 13000 | G56: =F56-E56 -> 1663 | H56: =G56/E56 -> 0.14668784 | I56: 10738 | J56: 11424 | K56: 13100 | L56: =K56-J56 -> 1676 | M56: =L56/J56 -> 0.14670868 | N56: 9507.06 | O56: 9838.21 | P56: 11100 | Q56: =P56-O56 -> 1261.79 | R56: =Q56/O56 -> 0.12825402
C57: Inconnu (2) | D57: 27102 | E57: 26218 | F57: 17000 | G57: =F57-E57 -> -9218 | H57: =G57/E57 -> -0.35159051 | I57: 27614 | J57: 26744 | K57: 17500 | L57: =K57-J57 -> -9244 | M57: =L57/J57 -> -0.34564762 | N57: 21419.58 | O57: 20531.93 | P57: 13400 | Q57: =P57-O57 -> -7131.93 | R57: =Q57/O57 -> -0.34735799
B58: Total | D58: =SUM(D54:D57) -> 4127206 | E58: =SUM(E54:E57) -> 4133126 | F58: =SUM(F54:F57) -> 4129000 | G58: =F58-E58 -> -4126 | H58: =G58/E58 -> -0.00099827588 | I58: =SUM(I54:I57) -> 4276593 | J58: =SUM(J54:J57) -> 4288680 | K58: =SUM(K54:K57) -> 4291000 | L58: =K58-J58 -> 2320 | M58: =L58/J58 -> 0.00054095899 | N58: =SUM(N54:N57) -> 3416093.9 | O58: =SUM(O54:O57) -> 3417143.9 | P58: =SUM(P54:P57) -> 3423000 | Q58: =P58-O58 -> 5856.14 | R58: =Q58/O58 -> 0.0017137528
B60: (1) Allemagne, France, Grand-Duché de Luxembourg, Pays-Bas.
B61: (2) Données concernant les personnes pour lesquelles les éléments relatifs à la résidence principale ne sont pas disponibles.

Sheet Tabel 5 typ prest
A1: Terug lijst van de tabellen
A3: Tabel 5 | E3: TYPE ARBEIDSPRESTATIE EN ARBEIDSDUUR
A6: Sector, type arbeidsprestatie | D6: Aantal tewerkgestelde werknemers | I6: Aantal Arbeidsplaatsen | N6: Arbeidsvolume in voltijdsequivalenten
D7: Aantal op 2024K1 | E7: Aantal op 2025K1 | F7: Raming op 2026K1 | G7: Verschil Jaar-1 | I7: Aantal op 2024K1 | J7: Aantal op 2025K1 | K7: Raming op 2026K1 | L7: Verschil Jaar-1 | N7: Aantal op 2024K1 | O7: Aantal op 2025K1 | P7: Raming op 2026K1 | Q7: Verschil Jaar-1
D8: Aantal x1.000 | E8: Aantal x1.000 | F8: Aantal x1.000 | G8: Aantal x1.000 | H8: in % | I8: Aantal x1.000 | J8: Aantal x1.000 | K8: Aantal x1.000 | L8: Aantal x1.000 | M8: in % | N8: Aantal x1.000 | O8: Aantal x1.000 | P8: Aantal x1.000 | Q8: vte x1.000 | R8: in %
A9: Privé-sector | D9: 3004863 | E9: 3007173 | F9: 3001500 | G9: =F9-E9 -> -5673 | H9: =G9/E9 -> -0.0018864894 | I9: 3123388 | J9: 3132066 | K9: 3133500 | L9: =K9-J9 -> 1434 | M9: =L9/J9 -> 0.00045784476 | N9: 2445306.9 | O9: 2446805.5 | P9: 2445500 | Q9: =P9-O9 -> -1305.48 | R9: =Q9/O9 -> -0.00053354466
B10: Voltijds | D10: 1923217 | E10: 1906312 | F10: 1892100 | G10: =F10-E10 -> -14212 | H10: =G10/E10 -> -0.0074552329 | I10: 1924913 | J10: 1907968 | K10: 1894000 | L10: =K10-J10 -> -13968 | M10: =L10/J10 -> -0.0073208775 | N10: 1751471.2 | O10: 1741082.8 | P10: 1731000 | Q10: =P10-O10 -> -10082.75 | R10: =Q10/O10 -> -0.0057910803
B11: Deeltijds | D11: 943161 | E11: 953382 | F11: 959100 | G11: =F11-E11 -> 5718 | H11: =G11/E11 -> 0.0059975959 | I11: 984388 | J11: 993277 | K11: 997100 | L11: =K11-J11 -> 3823 | M11: =L11/J11 -> 0.003848876 | N11: 577553.1 | O11: 585195.64 | P11: 593600 | Q11: =P11-O11 -> 8404.36 | R11: =Q11/O11 -> 0.014361624
C12: 0-45% | D12: 74642 | E12: 73510 | F12: 72300 | G12: =F12-E12 -> -1210 | H12: =G12/E12 -> -0.016460346 | I12: 102639 | J12: 100203 | K12: 97800 | L12: =K12-J12 -> -2403 | M12: =L12/J12 -> -0.023981318 | N12: 29544.63 | O12: 29010.97 | P12: 28500 | Q12: =P12-O12 -> -510.97 | R12: =Q12/O12 -> -0.017612993
C13: 46-65% | D13: 259853 | E13: 254625 | F13: 252000 | G13: =F13-E13 -> -2625 | H13: =G13/E13 -> -0.010309278 | I13: 270900 | J13: 265466 | K13: 262300 | L13: =K13-J13 -> -3166 | M13: =L13/J13 -> -0.011926198 | N13: 126501.68 | O13: 123748.23 | P13: 122600 | Q13: =P13-O13 -> -1148.23 | R13: =Q13/O13 -> -0.009278759
C14: 66-95% | D14: 557238 | E14: 570527 | F14: 578600 | G14: =F14-E14 -> 8073 | H14: =G14/E14 -> 0.014150075 | I14: 559306 | J14: 572738 | K14: 580700 | L14: =K14-J14 -> 7962 | M14: =L14/J14 -> 0.013901644 | N14: 394194.12 | O14: 403258.94 | P14: 413300 | Q14: =P14-O14 -> 10041.06 | R14: =Q14/O14 -> 0.024899783
C15: >95% | D15: 51428 | E15: 54720 | F15: 56200 | G15: =F15-E15 -> 1480 | H15: =G15/E15 -> 0.027046784 | I15: 51543 | J15: 54870 | K15: 56300 | L15: =K15-J15 -> 1430 | M15: =L15/J15 -> 0.0260616 | N15: 27312.67 | O15: 29177.5 | P15: 29200 | Q15: =P15-O15 -> 22.5 | R15: =Q15/O15 -> 0.00077114215
B17: Seizoen- , interim- en gelegenheidswerknemers | D17: 138485 | E17: 147479 | F17: 150300 | G17: =F17-E17 -> 2821 | H17: =G17/E17 -> 0.019128147 | I17: 214087 | J17: 230821 | K17: 242400 | L17: =K17-J17 -> 11579 | M17: =L17/J17 -> 0.050164413 | N17: 116282.63 | O17: 120527.09 | P17: 120900 | Q17: =P17-O17 -> 372.91 | R17: =Q17/O17 -> 0.0030939932
A19: Overheidssector en onderwijs | D19: 1122343 | E19: 1125953 | F19: 1127500 | G19: =F19-E19 -> 1547 | H19: =G19/E19 -> 0.0013739472 | I19: 1153205 | J19: 1156614 | K19: 1157500 | L19: =K19-J19 -> 886 | M19: =L19/J19 -> 0.00076602912 | N19: 970786.98 | O19: 970338.38 | P19: 977500 | Q19: =P19-O19 -> 7161.62 | R19: =Q19/O19 -> 0.0073805387
B20: Voltijds | D20: 688613 | E20: 683468 | F20: 687500 | G20: =F20-E20 -> 4032 | H20: =G20/E20 -> 0.0058993252 | I20: 690226 | J20: 685149 | K20: 689300 | L20: =K20-J20 -> 4151 | M20: =L20/J20 -> 0.0060585362 | N20: 653852.23 | O20: 646072.5 | P20: 654000 | Q20: =P20-O20 -> 7927.5 | R20: =Q20/O20 -> 0.012270295
B21: Deeltijds | D21: 433730 | E21: 442485 | F21: 440000 | G21: =F21-E21 -> -2485 | H21: =G21/E21 -> -0.0056160096 | I21: 462979 | J21: 471465 | K21: 468200 | L21: =K21-J21 -> -3265 | M21: =L21/J21 -> -0.0069252224 | N21: 316934.75 | O21: 324265.88 | P21: 323500 | Q21: =P21-O21 -> -765.88 | R21: =Q21/O21 -> -0.002361889
C22: 0-45% | D22: 65980 | E22: 67342 | F22: 66700 | G22: =F22-E22 -> -642 | H22: =G22/E22 -> -0.0095334264 | I22: 89793 | J22: 91088 | K22: 89700 | L22: =K22-J22 -> -1388 | M22: =L22/J22 -> -0.015238012 | N22: 66507.28 | O22: 66798.2 | P22: 67100 | Q22: =P22-O22 -> 301.8 | R22: =Q22/O22 -> 0.0045180858
C23: 46-65% | D23: 145995 | E23: 143139 | F23: 141900 | G23: =F23-E23 -> -1239 | H23: =G23/E23 -> -0.0086559219 | I23: 150623 | J23: 147524 | K23: 146200 | L23: =K23-J23 -> -1324 | M23: =L23/J23 -> -0.0089748109 | N23: 83520.09 | O23: 81909.89 | P23: 81700 | Q23: =P23-O23 -> -209.89 | R23: =Q23/O23 -> -0.00256245
C24: 66-95% | D24: 211301 | E24: 220040 | F24: 218300 | G24: =F24-E24 -> -1740 | H24: =G24/E24 -> -0.0079076532 | I24: 212012 | J24: 220773 | K24: 219100 | L24: =K24-J24 -> -1673 | M24: =L24/J24 -> -0.0075779194 | N24: 161325.08 | O24: 169049.52 | P24: 167600 | Q24: =P24-O24 -> -1449.52 | R24: =Q24/O24 -> -0.0085745289
C25: >95% | D25: 10454 | E25: 11964 | F25: 13100 | G25: =F25-E25 -> 1136 | H25: =G25/E25 -> 0.094951521 | I25: 10551 | J25: 12080 | K25: 13200 | L25: =K25-J25 -> 1120 | M25: =L25/J25 -> 0.092715232 | N25: 5582.3 | O25: 6508.27 | P25: 7100 | Q25: =P25-O25 -> 591.73 | R25: =Q25/O25 -> 0.090919707
A28: Totaal | D28: =SUM(D17,D10,D11,D19) -> 4127206 | E28: =SUM(E17,E10,E11,E19) -> 4133126 | F28: =SUM(F17,F10,F11,F19) -> 4129000 | G28: =F28-E28 -> -4126 | H28: =G28/E28 -> -0.00099827588 | I28: =SUM(I17,I10,I11,I19) -> 4276593 | J28: =SUM(J17,J10,J11,J19) -> 4288680 | K28: =SUM(K17,K10,K11,K19) -> 4291000 | L28: =K28-J28 -> 2320 | M28: =L28/J28 -> 0.00054095899 | N28: =SUM(N17,N10,N11,N19) -> 3416093.9 | O28: =SUM(O17,O10,O11,O19) -> 3417143.9 | P28: =SUM(P17,P10,P11,P19) -> 3423000 | Q28: =P28-O28 -> 5856.14 | R28: =Q28/O28 -> 0.0017137528
B31: Retour à l'aperçu
A32: Tableau 5 | E32: PAR TYPE DE PRESTATIONS ET DUREE DE TRAVAIL
A35: Prestation de travail | D35: Nombre de travailleurs occupés | I35: Nombre de postes de travail | N35: Volume de travail en équivalents temps plein
D36: Nombre 2024Q1 | E36: Nombre 2025Q1 | F36: Estimation 2026Q1 | G36: Différence Année-1 | I36: Nombre 2023Q4 | J36: Nombre 2024Q4 | K36: Estimation 2025Q4 | L36: Différence Année-1 | N36: Nombre 2023Q4 | O36: Nombre 2024Q4 | P36: Estimation 2025Q4 | Q36: Différence Année-1
A37: Type | C37: Durée du travail | D37: nombre x1.000 | E37: nombre x1.000 | F37: nombre x1.000 | G37: nombre x1.000 | H37: en % | I37: nombre x1.000 | J37: nombre x1.000 | K37: nombre x1.000 | L37: nombre x1.000 | M37: en % | N37: etp x1.000 | O37: etp x1.000 | P37: etp x1.000 | Q37: etp x1.000 | R37: en %
A38: Secteur Privé | D38: 3004863 | E38: 3007173 | F38: 3001500 | G38: =F38-E38 -> -5673 | H38: =G38/E38 -> -0.0018864894 | I38: 3123388 | J38: 3132066 | K38: 3133500 | L38: =K38-J38 -> 1434 | M38: =L38/J38 -> 0.00045784476 | N38: 2445306.9 | O38: 2446805.5 | P38: 2445500 | Q38: =P38-O38 -> -1305.48 | R38: =Q38/O38 -> -0.00053354466
B39: Temps plein | D39: 1923217 | E39: 1906312 | F39: 1892100 | G39: =F39-E39 -> -14212 | H39: =G39/E39 -> -0.0074552329 | I39: 1924913 | J39: 1907968 | K39: 1894000 | L39: =K39-J39 -> -13968 | M39: =L39/J39 -> -0.0073208775 | N39: 1751471.2 | O39: 1741082.8 | P39: 1731000 | Q39: =P39-O39 -> -10082.75 | R39: =Q39/O39 -> -0.0057910803
B40: Temps partiel | D40: 943161 | E40: 953382 | F40: 959100 | G40: =F40-E40 -> 5718 | H40: =G40/E40 -> 0.0059975959 | I40: 984388 | J40: 993277 | K40: 997100 | L40: =K40-J40 -> 3823 | M40: =L40/J40 -> 0.003848876 | N40: 577553.1 | O40: 585195.64 | P40: 593600 | Q40: =P40-O40 -> 8404.36 | R40: =Q40/O40 -> 0.014361624
C41: 0-45% | D41: 74642 | E41: 73510 | F41: 72300 | G41: =F41-E41 -> -1210 | H41: =G41/E41 -> -0.016460346 | I41: 102639 | J41: 100203 | K41: 97800 | L41: =K41-J41 -> -2403 | M41: =L41/J41 -> -0.023981318 | N41: 29544.63 | O41: 29010.97 | P41: 28500 | Q41: =P41-O41 -> -510.97 | R41: =Q41/O41 -> -0.017612993
C42: 46-65% | D42: 259853 | E42: 254625 | F42: 252000 | G42: =F42-E42 -> -2625 | H42: =G42/E42 -> -0.010309278 | I42: 270900 | J42: 265466 | K42: 262300 | L42: =K42-J42 -> -3166 | M42: =L42/J42 -> -0.011926198 | N42: 126501.68 | O42: 123748.23 | P42: 122600 | Q42: =P42-O42 -> -1148.23 | R42: =Q42/O42 -> -0.009278759
C43: 66-95% | D43: 557238 | E43: 570527 | F43: 578600 | G43: =F43-E43 -> 8073 | H43: =G43/E43 -> 0.014150075 | I43: 559306 | J43: 572738 | K43: 580700 | L43: =K43-J43 -> 7962 | M43: =L43/J43 -> 0.013901644 | N43: 394194.12 | O43: 403258.94 | P43: 413300 | Q43: =P43-O43 -> 10041.06 | R43: =Q43/O43 -> 0.024899783
C44: >95% | D44: 51428 | E44: 54720 | F44: 56200 | G44: =F44-E44 -> 1480 | H44: =G44/E44 -> 0.027046784 | I44: 51543 | J44: 54870 | K44: 56300 | L44: =K44-J44 -> 1430 | M44: =L44/J44 -> 0.0260616 | N44: 27312.67 | O44: 29177.5 | P44: 29200 | Q44: =P44-O44 -> 22.5 | R44: =Q44/O44 -> 0.00077114215
B46: Saisonniers, intérimaires et travail occasionnel | D46: 138485 | E46: 147479 | F46: 150300 | G46: =F46-E46 -> 2821 | H46: =G46/E46 -> 0.019128147 | I46: 214087 | J46: 230821 | K46: 242400 | L46: =K46-J46 -> 11579 | M46: =L46/J46 -> 0.050164413 | N46: 116282.63 | O46: 120527.09 | P46: 120900 | Q46: =P46-O46 -> 372.91 | R46: =Q46/O46 -> 0.0030939932
A48: Secteur Public et enseignement | D48: 1122343 | E48: 1125953 | F48: 1127500 | G48: =F48-E48 -> 1547 | H48: =G48/E48 -> 0.0013739472 | I48: 1153205 | J48: 1156614 | K48: 1157500 | L48: =K48-J48 -> 886 | M48: =L48/J48 -> 0.00076602912 | N48: 970786.98 | O48: 970338.38 | P48: 977500 | Q48: =P48-O48 -> 7161.62 | R48: =Q48/O48 -> 0.0073805387
B49: Temps plein | D49: 688613 | E49: 683468 | F49: 687500 | G49: =F49-E49 -> 4032 | H49: =G49/E49 -> 0.0058993252 | I49: 690226 | J49: 685149 | K49: 689300 | L49: =K49-J49 -> 4151 | M49: =L49/J49 -> 0.0060585362 | N49: 653852.23 | O49: 646072.5 | P49: 654000 | Q49: =P49-O49 -> 7927.5 | R49: =Q49/O49 -> 0.012270295
B50: Temps partiel | D50: 433730 | E50: 442485 | F50: 440000 | G50: =F50-E50 -> -2485 | H50: =G50/E50 -> -0.0056160096 | I50: 462979 | J50: 471465 | K50: 468200 | L50: =K50-J50 -> -3265 | M50: =L50/J50 -> -0.0069252224 | N50: 316934.75 | O50: 324265.88 | P50: 323500 | Q50: =P50-O50 -> -765.88 | R50: =Q50/O50 -> -0.002361889
C51: 0-45% | D51: 65980 | E51: 67342 | F51: 66700 | G51: =F51-E51 -> -642 | H51: =G51/E51 -> -0.0095334264 | I51: 89793 | J51: 91088 | K51: 89700 | L51: =K51-J51 -> -1388 | M51: =L51/J51 -> -0.015238012 | N51: 66507.28 | O51: 66798.2 | P51: 67100 | Q51: =P51-O51 -> 301.8 | R51: =Q51/O51 -> 0.0045180858
C52: 46-65% | D52: 145995 | E52: 143139 | F52: 141900 | G52: =F52-E52 -> -1239 | H52: =G52/E52 -> -0.0086559219 | I52: 150623 | J52: 147524 | K52: 146200 | L52: =K52-J52 -> -1324 | M52: =L52/J52 -> -0.0089748109 | N52: 83520.09 | O52: 81909.89 | P52: 81700 | Q52: =P52-O52 -> -209.89 | R52: =Q52/O52 -> -0.00256245
C53: 66-95% | D53: 211301 | E53: 220040 | F53: 218300 | G53: =F53-E53 -> -1740 | H53: =G53/E53 -> -0.0079076532 | I53: 212012 | J53: 220773 | K53: 219100 | L53: =K53-J53 -> -1673 | M53: =L53/J53 -> -0.0075779194 | N53: 161325.08 | O53: 169049.52 | P53: 167600 | Q53: =P53-O53 -> -1449.52 | R53: =Q53/O53 -> -0.0085745289
C54: >95% | D54: 10454 | E54: 11964 | F54: 13100 | G54: =F54-E54 -> 1136 | H54: =G54/E54 -> 0.094951521 | I54: 10551 | J54: 12080 | K54: 13200 | L54: =K54-J54 -> 1120 | M54: =L54/J54 -> 0.092715232 | N54: 5582.3 | O54: 6508.27 | P54: 7100 | Q54: =P54-O54 -> 591.73 | R54: =Q54/O54 -> 0.090919707
A57: Total | D57: =SUM(D46,D39,D40,D48) -> 4127206 | E57: =SUM(E46,E39,E40,E48) -> 4133126 | F57: =SUM(F46,F39,F40,F48) -> 4129000 | G57: =F57-E57 -> -4126 | H57: =G57/E57 -> -0.00099827588 | I57: =SUM(I46,I39,I40,I48) -> 4276593 | J57: =SUM(J46,J39,J40,J48) -> 4288680 | K57: =SUM(K46,K39,K40,K48) -> 4291000 | L57: =K57-J57 -> 2320 | M57: =L57/J57 -> 0.00054095899 | N57: =SUM(N46,N39,N40,N48) -> 3416093.9 | O57: =SUM(O46,O39,O40,O48) -> 3417143.9 | P57: =SUM(P46,P39,P40,P48) -> 3423000 | Q57: =P57-O57 -> 5856.14 | R57: =Q57/O57 -> 0.0017137528

Sheet Tab6 Sect_Dimension
A1: Terug lijst van de tabellen
A3: Tabel 6 | D3: NAAR SECTOR EN DIMENSIE VAN DE WERKGEVER
A6: Sector, dimensie | C6: Aantal tewerkgestelde werknemers | H6: Aantal Arbeidsplaatsen | M6: Arbeidsvolume in voltijdsequivalenten
C7: Aantal op 2024K1 | D7: Aantal op 2025K1 | E7: Raming op 2026K1 | F7: Verschil Jaar-1 | H7: Aantal op 2024K1 | I7: Aantal op 2025K1 | J7: Raming op 2026K1 | K7: Verschil Jaar-1 | M7: Aantal op 2024K1 | N7: Aantal op 2025K1 | O7: Raming op 2026K1 | P7: Verschil Jaar-1
C8: Aantal x1.000 | D8: Aantal x1.000 | E8: Aantal x1.000 | F8: Aantal x1.000 | G8: in % | H8: Aantal x1.000 | I8: Aantal x1.000 | J8: Aantal x1.000 | K8: Aantal x1.000 | L8: in % | M8: Aantal x1.000 | N8: Aantal x1.000 | O8: Aantal x1.000 | P8: vte x1.000 | Q8: in %
A9: Privé-sector | C9: =SUM(C10:C13) -> 3004863 | D9: =SUM(D10:D13) -> 3007173 | E9: =SUM(E10:E13) -> 3001500 | F9: =E9-D9 -> -5673 | G9: =F9/D9 -> -0.0018864894 | H9: =SUM(H10:H13) -> 3123388 | I9: =SUM(I10:I13) -> 3132066 | J9: =SUM(J10:J13) -> 3133500 | K9: =J9-I9 -> 1434 | L9: =K9/I9 -> 0.00045784476 | M9: =SUM(M10:M13) -> 2445306.9 | N9: =SUM(N10:N13) -> 2446805.5 | O9: =SUM(O10:O13) -> 2445500 | P9: =O9-N9 -> -1305.48 | Q9: =P9/N9 -> -0.00053354466
B10: minder dan 20 werknemers | C10: 708334 | D10: 704439 | E10: 702000 | F10: =E10-D10 -> -2439 | G10: =F10/D10 -> -0.0034623296 | H10: 762510 | I10: 760319 | J10: 760500 | K10: =J10-I10 -> 181 | L10: =K10/I10 -> 0.00023805797 | M10: 576431.04 | N10: 573986.52 | O10: 571000 | P10: =O10-N10 -> -2986.52 | Q10: =P10/N10 -> -0.0052031187
B11: 20 tot 199 werknemers | C11: 929683 | D11: 932108 | E11: 933000 | F11: =E11-D11 -> 892 | G11: =F11/D11 -> 0.00095697065 | H11: 954423 | I11: 959406 | J11: 963000 | K11: =J11-I11 -> 3594 | L11: =K11/I11 -> 0.0037460679 | M11: 776561.88 | N11: 778651.43 | O11: 783000 | P11: =O11-N11 -> 4348.57 | Q11: =P11/N11 -> 0.0055847454
B12: 200 tot 999 werknemers | C12: 625091 | D12: 617697 | E12: 621500 | F12: =E12-D12 -> 3803 | G12: =F12/D12 -> 0.0061567403 | H12: 634484 | I12: 627797 | J12: 631000 | K12: =J12-I12 -> 3203 | L12: =K12/I12 -> 0.0051019677 | M12: 511964.96 | N12: 505651.85 | O12: 510300 | P12: =O12-N12 -> 4648.15 | Q12: =P12/N12 -> 0.009192392
B13: 1.000 of meer werknemers | C13: 741755 | D13: 752929 | E13: 745000 | F13: =E13-D13 -> -7929 | G13: =F13/D13 -> -0.010530873 | H13: 771971 | I13: 784544 | J13: 779000 | K13: =J13-I13 -> -5544 | L13: =K13/I13 -> -0.0070665253 | M13: 580349.02 | N13: 588515.68 | O13: 581200 | P13: =O13-N13 -> -7315.68 | Q13: =P13/N13 -> -0.012430731
A15: Overheidssector en onderwijs | C15: =SUM(C16:C17) -> 1122343 | D15: =SUM(D16:D17) -> 1125953 | E15: =SUM(E16:E17) -> 1127500 | F15: =E15-D15 -> 1547 | G15: =F15/D15 -> 0.0013739472 | H15: =SUM(H16:H17) -> 1153205 | I15: =SUM(I16:I17) -> 1156614 | J15: =SUM(J16:J17) -> 1157500 | K15: =J15-I15 -> 886 | L15: =K15/I15 -> 0.00076602912 | M15: =SUM(M16:M17) -> 970786.98 | N15: =SUM(N16:N17) -> 970338.38 | O15: =SUM(O16:O17) -> 977500 | P15: =O15-N15 -> 7161.62 | Q15: =P15/N15 -> 0.0073805387
B16: minder dan 1.000 werknemers | C16: 303234 | D16: 301873 | E16: 306000 | F16: =E16-D16 -> 4127 | G16: =F16/D16 -> 0.013671312 | H16: 315699 | I16: 313959 | J16: 317700 | K16: =J16-I16 -> 3741 | L16: =K16/I16 -> 0.011915569 | M16: 248353.47 | N16: 246935.13 | O16: 252700 | P16: =O16-N16 -> 5764.87 | Q16: =P16/N16 -> 0.023345686
B17: 1.000 of meer werknemers | C17: 819109 | D17: 824080 | E17: 821500 | F17: =E17-D17 -> -2580 | G17: =F17/D17 -> -0.003130764 | H17: 837506 | I17: 842655 | J17: 839800 | K17: =J17-I17 -> -2855 | L17: =K17/I17 -> -0.0033881007 | M17: 722433.51 | N17: 723403.25 | O17: 724800 | P17: =O17-N17 -> 1396.75 | Q17: =P17/N17 -> 0.0019308042
A20: Totaal | C20: =SUM(C9,C15) -> 4127206 | D20: =SUM(D9,D15) -> 4133126 | E20: =SUM(E9,E15) -> 4129000 | F20: =E20-D20 -> -4126 | G20: =F20/D20 -> -0.00099827588 | H20: =SUM(H9,H15) -> 4276593 | I20: =SUM(I9,I15) -> 4288680 | J20: =SUM(J9,J15) -> 4291000 | K20: =J20-I20 -> 2320 | L20: =K20/I20 -> 0.00054095899 | M20: =SUM(M9,M15) -> 3416093.9 | N20: =SUM(N9,N15) -> 3417143.9 | O20: =SUM(O9,O15) -> 3423000 | P20: =O20-N20 -> 5856.14 | Q20: =P20/N20 -> 0.0017137528
A23: Retour à l'aperçu
A24: Tableau 6 | C24: PAR SECTEUR ET DIMENSION DE L'EMPLOYEUR
C27: Nombre de travailleurs occupés | H27: Nombre de postes de travail | M27: Volume de travail en équivalents temps plein
C28: Nombre 2024Q1 | D28: Nombre 2025Q1 | E28: Estimation 2026Q1 | F28: Différence Année-1 | H28: Nombre 2023Q4 | I28: Nombre 2024Q4 | J28: Estimation 2025Q4 | K28: Différence Année-1 | M28: Nombre 2023Q4 | N28: Nombre 2024Q4 | O28: Estimation 2025Q4 | P28: Différence Année-1
C29: nombre x1.000 | D29: nombre x1.000 | E29: nombre x1.000 | F29: nombre x1.000 | G29: en % | H29: nombre x1.000 | I29: nombre x1.000 | J29: nombre x1.000 | K29: nombre x1.000 | L29: en % | M29: etp x1.000 | N29: etp x1.000 | O29: etp x1.000 | P29: etp x1.000 | Q29: en %
A30: Secteur Privé | C30: =SUM(C31:C34) -> 3004863 | D30: =SUM(D31:D34) -> 3007173 | E30: =SUM(E31:E34) -> 3001500 | F30: =E30-D30 -> -5673 | G30: =F30/D30 -> -0.0018864894 | H30: =SUM(H31:H34) -> 3123388 | I30: =SUM(I31:I34) -> 3132066 | J30: =SUM(J31:J34) -> 3133500 | K30: =J30-I30 -> 1434 | L30: =K30/I30 -> 0.00045784476 | M30: =SUM(M31:M34) -> 2445306.9 | N30: =SUM(N31:N34) -> 2446805.5 | O30: =SUM(O31:O34) -> 2445500 | P30: =O30-N30 -> -1305.48 | Q30: =P30/N30 -> -0.00053354466
B31: moins de 20 travailleurs | C31: 708334 | D31: 704439 | E31: 702000 | F31: =E31-D31 -> -2439 | G31: =F31/D31 -> -0.0034623296 | H31: 762510 | I31: 760319 | J31: 760500 | K31: =J31-I31 -> 181 | L31: =K31/I31 -> 0.00023805797 | M31: 576431.04 | N31: 573986.52 | O31: 571000 | P31: =O31-N31 -> -2986.52 | Q31: =P31/N31 -> -0.0052031187
B32: de 20 à 199 travailleurs | C32: 929683 | D32: 932108 | E32: 933000 | F32: =E32-D32 -> 892 | G32: =F32/D32 -> 0.00095697065 | H32: 954423 | I32: 959406 | J32: 963000 | K32: =J32-I32 -> 3594 | L32: =K32/I32 -> 0.0037460679 | M32: 776561.88 | N32: 778651.43 | O32: 783000 | P32: =O32-N32 -> 4348.57 | Q32: =P32/N32 -> 0.0055847454
B33: de 200 à 999 travailleurs | C33: 625091 | D33: 617697 | E33: 621500 | F33: =E33-D33 -> 3803 | G33: =F33/D33 -> 0.0061567403 | H33: 634484 | I33: 627797 | J33: 631000 | K33: =J33-I33 -> 3203 | L33: =K33/I33 -> 0.0051019677 | M33: 511964.96 | N33: 505651.85 | O33: 510300 | P33: =O33-N33 -> 4648.15 | Q33: =P33/N33 -> 0.009192392
B34: 1.000 travailleurs ou plus | C34: 741755 | D34: 752929 | E34: 745000 | F34: =E34-D34 -> -7929 | G34: =F34/D34 -> -0.010530873 | H34: 771971 | I34: 784544 | J34: 779000 | K34: =J34-I34 -> -5544 | L34: =K34/I34 -> -0.0070665253 | M34: 580349.02 | N34: 588515.68 | O34: 581200 | P34: =O34-N34 -> -7315.68 | Q34: =P34/N34 -> -0.012430731
A36: Secteur Public et enseignement | C36: =SUM(C37:C38) -> 1122343 | D36: =SUM(D37:D38) -> 1125953 | E36: =SUM(E37:E38) -> 1127500 | F36: =E36-D36 -> 1547 | G36: =F36/D36 -> 0.0013739472 | H36: =SUM(H37:H38) -> 1153205 | I36: =SUM(I37:I38) -> 1156614 | J36: =SUM(J37:J38) -> 1157500 | K36: =J36-I36 -> 886 | L36: =K36/I36 -> 0.00076602912 | M36: =SUM(M37:M38) -> 970786.98 | N36: =SUM(N37:N38) -> 970338.38 | O36: =SUM(O37:O38) -> 977500 | P36: =O36-N36 -> 7161.62 | Q36: =P36/N36 -> 0.0073805387
B37: moins de 1.000 travailleurs | C37: 303234 | D37: 301873 | E37: 306000 | F37: =E37-D37 -> 4127 | G37: =F37/D37 -> 0.013671312 | H37: 315699 | I37: 313959 | J37: 317700 | K37: =J37-I37 -> 3741 | L37: =K37/I37 -> 0.011915569 | M37: 248353.47 | N37: 246935.13 | O37: 252700 | P37: =O37-N37 -> 5764.87 | Q37: =P37/N37 -> 0.023345686
B38: 1.000 travailleurs ou plus | C38: 819109 | D38: 824080 | E38: 821500 | F38: =E38-D38 -> -2580 | G38: =F38/D38 -> -0.003130764 | H38: 837506 | I38: 842655 | J38: 839800 | K38: =J38-I38 -> -2855 | L38: =K38/I38 -> -0.0033881007 | M38: 722433.51 | N38: 723403.25 | O38: 724800 | P38: =O38-N38 -> 1396.75 | Q38: =P38/N38 -> 0.0019308042
C41: =SUM(C30,C36) -> 4127206 | D41: =SUM(D30,D36) -> 4133126 | E41: =SUM(E30,E36) -> 4129000 | F41: =E41-D41 -> -4126 | G41: =F41/D41 -> -0.00099827588 | H41: =SUM(H30,H36) -> 4276593 | I41: =SUM(I30,I36) -> 4288680 | J41: =SUM(J30,J36) -> 4291000 | K41: =J41-I41 -> 2320 | L41: =K41/I41 -> 0.00054095899 | M41: =SUM(M30,M36) -> 3416093.9 | N41: =SUM(N30,N36) -> 3417143.9 | O41: =SUM(O30,O36) -> 3423000 | P41: =O41-N41 -> 5856.14 | Q41: =P41/N41 -> 0.0017137528

Sheet Tabel 7 PC
A1: Terug lijst van de tabellen
B3: Opmerking: De invoering van nieuwe paritaire subcomités voor de bedienden van de gesubsidieerde vrije universiteiten van de Gemeenschappen heeft in het derde kwartaal 2025 geleid tot een verschuiving van een 13.000 arbeidsplaatsen van PC 999 naar PC 225. Aangezien nog niet alle universiteiten deze aanpassing al hebben doorgevoerd zullen er zich in de volgende kwartalen nog gelijkaardige verschuivingen voordoen. Anderzijds vallen 2.500 arbeidsplaatsen van werknemers die arbeid verrichten in het kader van een persoonlijk assistentiebudget zonder arbeidsovereenkomst vanaf 2025/3 niet langer onder pc 337 opgenomen maar wel onder PC 999. (De werkgevers van deze werknemers verschuiven eveneens van pc 337 naar PC 999. Het gaat hierbij om ongeveer 1.730 werkgevers.) Remarque : L’introduction de nouveaux sous-comités paritaires pour les employés des universités libres subventionnées des Communautés a entraîné, au troisième trimestre 2025, le transfert d’environ 13.000 postes de travail du CP 999 vers le CP 225. Étant donné que toutes les universités n’ont pas encore appliqué cette modification, des transferts similaires continueront à se produire au cours des prochains trimestres. Par ailleurs, à partir du troisième trimestre 2025, 2.500 postes de travail occupés par des travailleurs qui effectuent des prestations dans le cadre d’un budget d’assistance personnelle sans contrat de travail ne relèveront plus repris de la CP 337 , mais de la CP 999. (Les employeurs de ces travailleurs passeront également de la CP 337 à la CP 999. Cela concerne environ 1 730 employeurs.)
A5: Tabel 7 | D5: NAAR SECTORGROEP (Paritair Comité) VAN DE WERKNEMER
A8: Sectorgroep (PC) | C8: Aantal tewerkgestelde werknemers | H8: Aantal Arbeidsplaatsen | M8: Arbeidsvolume in voltijdsequivalenten
C9: Aantal op 2024K1 | D9: Aantal op 2025K1 | E9: Raming op 2026K1 | F9: Verschil Jaar-1 | H9: Aantal op 2024K1 | I9: Aantal op 2025K1 | J9: Raming op 2026K1 | K9: Verschil Jaar-1 | M9: Aantal op 2024K1 | N9: Aantal op 2025K1 | O9: Raming op 2026K1 | P9: Verschil Jaar-1
C10: Aantal x1.000 | D10: Aantal x1.000 | E10: Aantal x1.000 | F10: Aantal x1.000 | G10: in % | H10: Aantal x1.000 | I10: Aantal x1.000 | J10: Aantal x1.000 | K10: Aantal x1.000 | L10: in % | M10: vte x1.000 | N10: vte x1.000 | O10: vte x1.000 | P10: vte x1.000 | Q10: in %
B11: Land- en tuinbouw, bosbouw en zeevisserij 132, 143, 144, 145, 146 | C11: 36505 | D11: 37437 | E11: 38800 | F11: =E11-D11 -> 1363 | G11: =F11/D11 -> 0.036407832 | H11: 37364 | I11: 38349 | J11: 39800 | K11: =J11-I11 -> 1451 | L11: =K11/I11 -> 0.03783671 | M11: 30414.19 | N11: 31115.78 | O11: 32100 | P11: =O11-N11 -> 984.22 | Q11: =P11/N11 -> 0.031630896
B12: Industrie, Gas en elektriciteit 101 - 118, 120, 125-126, 128-129, 133, 136, 142.01 - 142.03, 147 - 150, 203 - 215, 220 - 222, 224, 324, 326, 340 | C12: 622868 | D12: 610945 | E12: 602300 | F12: =E12-D12 -> -8645 | G12: =F12/D12 -> -0.01415021 | H12: 626178 | I12: 614726 | J12: 606300 | K12: =J12-I12 -> -8426 | L12: =K12/I12 -> -0.01370692 | M12: 536962.41 | N12: 529089.34 | O12: 525000 | P12: =O12-N12 -> -4089.34 | Q12: =P12/N12 -> -0.007729016
B13: Bouw 124 | C13: 137803 | D13: 132900 | E13: 130900 | F13: =E13-D13 -> -2000 | G13: =F13/D13 -> -0.015048909 | H13: 138128 | I13: 133255 | J13: 131200 | K13: =J13-I13 -> -2055 | L13: =K13/I13 -> -0.01542156 | M13: 104163.77 | N13: 102217.04 | O13: 99700 | P13: =O13-N13 -> -2517.04 | Q13: =P13/N13 -> -0.024624466
B14: Distributie, transport en logistiek 119, 127, 139, 140, 201, 202, 226, 301, 311 - 313, 315, 316, 321, 328 | C14: 463745 | D14: 463997 | E14: 464600 | F14: =E14-D14 -> 603 | G14: =F14/D14 -> 0.0012995774 | H14: 481043 | I14: 483338 | J14: 487000 | K14: =J14-I14 -> 3662 | L14: =K14/I14 -> 0.0075764786 | M14: 376864.01 | N14: 376427.77 | O14: 377900 | P14: =O14-N14 -> 1472.23 | Q14: =P14/N14 -> 0.0039110558
B15: Diensten aan ondernemingen en personen 121, 219, 314, 317, 320, 322, 323, 335, 336, 339 | C15: 400135 | D15: 406338 | E15: 405000 | F15: =E15-D15 -> -1338 | G15: =F15/D15 -> -0.0032928252 | H15: 441467 | I15: 449145 | J15: 450000 | K15: =J15-I15 -> 855 | L15: =K15/I15 -> 0.0019036169 | M15: 289393.5 | N15: 292907.32 | O15: 290000 | P15: =O15-N15 -> -2907.32 | Q15: =P15/N15 -> -0.0099257335
B16: Financiële sector 216, 306, 307, 308, 309, 310, 325, 341 | C16: 99894 | D16: 100005 | E16: 100600 | F16: =E16-D16 -> 595 | G16: =F16/D16 -> 0.0059497025 | H16: 100486 | I16: 100549 | J16: 101200 | K16: =J16-I16 -> 651 | L16: =K16/I16 -> 0.0064744552 | M16: 88294.79 | N16: 88363.49 | O16: 89300 | P16: =O16-N16 -> 936.51 | Q16: =P16/N16 -> 0.010598382
B17: Horeca, sport en ontspanning, media 130, 217, 223, 227, 302, 303, 333, 334 | C17: 140025 | D17: 140784 | E17: 141500 | F17: =E17-D17 -> 716 | G17: =F17/D17 -> 0.0050858052 | H17: 175414 | I17: 178247 | J17: 181000 | K17: =J17-I17 -> 2753 | L17: =K17/I17 -> 0.01544486 | M17: 109787.12 | N17: 110895.29 | O17: 112000 | P17: =O17-N17 -> 1104.71 | Q17: =P17/N17 -> 0.0099617396
B18: Social profit 152, 225, 304, 305, 318, 319, 327, 329, 330, 331, 332, 337 | C18: 623091 | D18: 635085 | E18: 655000 | F18: =E18-D18 -> 19915 | G18: =F18/D18 -> 0.031358007 | H18: 640377 | I18: 652770 | J18: 674500 | K18: =J18-I18 -> 21730 | L18: =K18/I18 -> 0.033288907 | M18: 461835.71 | N18: 470619.79 | O18: 487400 | P18: =O18-N18 -> 16780.21 | Q18: =P18/N18 -> 0.035655555
B19: Overige sectoren 100, 142.04, 200, 218, 300 | C19: 538941 | D19: 538093 | E19: 535800 | F19: =E19-D19 -> -2293 | G19: =F19/D19 -> -0.0042613452 | H19: 543332 | I19: 542453 | J19: 540000 | K19: =J19-I19 -> -2453 | L19: =K19/I19 -> -0.0045220508 | M19: 493665.32 | N19: 491027.17 | O19: 489400 | P19: =O19-N19 -> -1627.17 | Q19: =P19/N19 -> -0.0033138085
B20: Geen paritair comité van toepassing | C20: 1064199 | D20: 1067542 | E20: 1054500 | F20: =E20-D20 -> -13042 | G20: =F20/D20 -> -0.01221685 | H20: 1092804 | I20: 1095848 | J20: 1080000 | K20: =J20-I20 -> -15848 | L20: =K20/I20 -> -0.01446186 | M20: 924713.06 | N20: 924480.87 | O20: 920200 | P20: =O20-N20 -> -4280.87 | Q20: =P20/N20 -> -0.0046305663
A23: Totaal | C23: =SUM(C11:C20) -> 4127206 | D23: =SUM(D11:D20) -> 4133126 | E23: =SUM(E11:E20) -> 4129000 | F23: =E23-D23 -> -4126 | G23: =F23/D23 -> -0.00099827588 | H23: =SUM(H11:H20) -> 4276593 | I23: =SUM(I11:I20) -> 4288680 | J23: =SUM(J11:J20) -> 4291000 | K23: =J23-I23 -> 2320 | L23: =K23/I23 -> 0.00054095899 | M23: =SUM(M11:M20) -> 3416093.9 | N23: =SUM(N11:N20) -> 3417143.9 | O23: =SUM(O11:O20) -> 3423000 | P23: =O23-N23 -> 5856.14 | Q23: =P23/N23 -> 0.0017137528
A26: Retour à l'aperçu | C26: PAR GROUPE SECTORIEL (Commission Paritaire) DU TRAVAILLEUR
A27: Tableau 7
C28: Nombre de travailleurs occupés | H28: Nombre de postes de travail | M28: Volume de travail en équivalents temps plein
C29: Nombre 2024Q1 | D29: Nombre 2025Q1 | E29: Estimation 2026Q1 | F29: Différence Année-1 | H29: Nombre 2023Q4 | I29: Nombre 2024Q4 | J29: Estimation 2025Q4 | K29: Différence Année-1 | M29: Nombre 2023Q4 | N29: Nombre 2024Q4 | O29: Estimation 2025Q4 | P29: Différence Année-1
C30: nombre x1.000 | D30: nombre x1.000 | E30: nombre x1.000 | F30: nombre x1.000 | G30: en % | H30: nombre x1.000 | I30: nombre x1.000 | J30: nombre x1.000 | K30: nombre x1.000 | L30: en % | M30: etp x1.000 | N30: etp x1.000 | O30: etp x1.000 | P30: etp x1.000 | Q30: en %
B31: Agriculture, chasse, sylviculture et pêche 132, 143, 144, 145, 146 | C31: 36505 | D31: 37437 | E31: 38800 | F31: =E31-D31 -> 1363 | G31: =F31/D31 -> 0.036407832 | H31: 37364 | I31: 38349 | J31: 39800 | K31: =J31-I31 -> 1451 | L31: =K31/I31 -> 0.03783671 | M31: 30414.19 | N31: 31115.78 | O31: 32100 | P31: =O31-N31 -> 984.22 | Q31: =P31/N31 -> 0.031630896
B32: Industries, gaz et électricité 101 - 118, 120, 125-126, 128-129, 133, 136, 142.01 - 142.03, 147 - 150, 203 - 215, 220 - 222, 224, 324, 326, 340 | C32: 622868 | D32: 610945 | E32: 602300 | F32: =E32-D32 -> -8645 | G32: =F32/D32 -> -0.01415021 | H32: 626178 | I32: 614726 | J32: 606300 | K32: =J32-I32 -> -8426 | L32: =K32/I32 -> -0.01370692 | M32: 536962.41 | N32: 529089.34 | O32: 525000 | P32: =O32-N32 -> -4089.34 | Q32: =P32/N32 -> -0.007729016
B33: Construction 124 | C33: 137803 | D33: 132900 | E33: 130900 | F33: =E33-D33 -> -2000 | G33: =F33/D33 -> -0.015048909 | H33: 138128 | I33: 133255 | J33: 131200 | K33: =J33-I33 -> -2055 | L33: =K33/I33 -> -0.01542156 | M33: 104163.77 | N33: 102217.04 | O33: 99700 | P33: =O33-N33 -> -2517.04 | Q33: =P33/N33 -> -0.024624466
B34: Distribution, transport et logistique 119, 127, 139, 140, 201, 202, 226, 301, 311 - 313, 315, 316, 321, 328 | C34: 463745 | D34: 463997 | E34: 464600 | F34: =E34-D34 -> 603 | G34: =F34/D34 -> 0.0012995774 | H34: 481043 | I34: 483338 | J34: 487000 | K34: =J34-I34 -> 3662 | L34: =K34/I34 -> 0.0075764786 | M34: 376864.01 | N34: 376427.77 | O34: 377900 | P34: =O34-N34 -> 1472.23 | Q34: =P34/N34 -> 0.0039110558
B35: Services aux entreprises et aux personnes 121, 219, 314, 317, 320, 322, 323, 335, 336, 339 | C35: 400135 | D35: 406338 | E35: 405000 | F35: =E35-D35 -> -1338 | G35: =F35/D35 -> -0.0032928252 | H35: 441467 | I35: 449145 | J35: 450000 | K35: =J35-I35 -> 855 | L35: =K35/I35 -> 0.0019036169 | M35: 289393.5 | N35: 292907.32 | O35: 290000 | P35: =O35-N35 -> -2907.32 | Q35: =P35/N35 -> -0.0099257335
B36: Secteur financier 216, 306, 307, 308, 309, 310, 325, 341 | C36: 99894 | D36: 100005 | E36: 100600 | F36: =E36-D36 -> 595 | G36: =F36/D36 -> 0.0059497025 | H36: 100486 | I36: 100549 | J36: 101200 | K36: =J36-I36 -> 651 | L36: =K36/I36 -> 0.0064744552 | M36: 88294.79 | N36: 88363.49 | O36: 89300 | P36: =O36-N36 -> 936.51 | Q36: =P36/N36 -> 0.010598382
B37: Horeca, sports et loisirs, media 130, 217, 223, 227, 302, 303, 333, 334 | C37: 140025 | D37: 140784 | E37: 141500 | F37: =E37-D37 -> 716 | G37: =F37/D37 -> 0.0050858052 | H37: 175414 | I37: 178247 | J37: 181000 | K37: =J37-I37 -> 2753 | L37: =K37/I37 -> 0.01544486 | M37: 109787.12 | N37: 110895.29 | O37: 112000 | P37: =O37-N37 -> 1104.71 | Q37: =P37/N37 -> 0.0099617396
B38: Secteur "non marchand" (social) 152, 225, 304, 305, 318, 319, 327, 329, 330, 331, 332, 337 | C38: 623091 | D38: 635085 | E38: 655000 | F38: =E38-D38 -> 19915 | G38: =F38/D38 -> 0.031358007 | H38: 640377 | I38: 652770 | J38: 674500 | K38: =J38-I38 -> 21730 | L38: =K38/I38 -> 0.033288907 | M38: 461835.71 | N38: 470619.79 | O38: 487400 | P38: =O38-N38 -> 16780.21 | Q38: =P38/N38 -> 0.035655555
B39: Secteurs divers 100, 142.04, 200, 218, 300 | C39: 538941 | D39: 538093 | E39: 535800 | F39: =E39-D39 -> -2293 | G39: =F39/D39 -> -0.0042613452 | H39: 543332 | I39: 542453 | J39: 540000 | K39: =J39-I39 -> -2453 | L39: =K39/I39 -> -0.0045220508 | M39: 493665.32 | N39: 491027.17 | O39: 489400 | P39: =O39-N39 -> -1627.17 | Q39: =P39/N39 -> -0.0033138085
B40: Aucune commission paritaire d'application | C40: 1064199 | D40: 1067542 | E40: 1054500 | F40: =E40-D40 -> -13042 | G40: =F40/D40 -> -0.01221685 | H40: 1092804 | I40: 1095848 | J40: 1080000 | K40: =J40-I40 -> -15848 | L40: =K40/I40 -> -0.01446186 | M40: 924713.06 | N40: 924480.87 | O40: 920200 | P40: =O40-N40 -> -4280.87 | Q40: =P40/N40 -> -0.0046305663
A43: Total | C43: =SUM(C31:C40) -> 4127206 | D43: =SUM(D31:D40) -> 4133126 | E43: =SUM(E31:E40) -> 4129000 | F43: =E43-D43 -> -4126 | G43: =F43/D43 -> -0.00099827588 | H43: =SUM(H31:H40) -> 4276593 | I43: =SUM(I31:I40) -> 4288680 | J43: =SUM(J31:J40) -> 4291000 | K43: =J43-I43 -> 2320 | L43: =K43/I43 -> 0.00054095899 | M43: =SUM(M31:M40) -> 3416093.9 | N43: =SUM(N31:N40) -> 3417143.9 | O43: =SUM(O31:O40) -> 3423000 | P43: =O43-N43 -> 5856.14 | Q43: =P43/N43 -> 0.0017137528

Sheet Tab8 Intérim classique
A1: Terug lijst van de tabellen
A3: Tabel 8 | E3: Klassieke uitzendarbeid naar activiteit van de gebruiker
A5: Activiteit (NACE-Bel 2025) (1) Gebruikende onderneming | E5: Aantal arbeidsplaatsen | J5: Arbeidsvolume in voltijdsequivalenten
D6: Aantal op 2024K1 | E6: Aantal op 2025K1 | F6: Raming op 2026K1 | G6: Verschil Jaar-1 | I6: Aantal op 2024K1 | J6: Aantal op 2025K1 | K6: Raming op 2026K1 | L6: Verschil Jaar-1
D7: Aantal x1.000 | E7: Aantal x1.000 | F7: Aantal x1.000 | G7: Aantal x1.000 | H7: in % | I7: Aantal x1.000 | J7: Aantal x1.000 | K7: Aantal x1.000 | L7: vte x1.000 | M7: in %
A8: Landbouw, bosbouw en visserij | D8: 490 | E8: 499 | F8: 550 | G8: =F8-E8 -> 51 | H8: =G8/E8 -> 0.10220441 | I8: 315.35 | J8: 338.97 | K8: 390 | L8: =K8-J8 -> 51.03 | M8: =L8/J8 -> 0.1505443
A9: Industrie, Energie en Bouw | D9: 38204 | E9: 37735 | F9: 37270 | G9: =F9-E9 -> -465 | H9: =G9/E9 -> -0.012322777 | I9: 32635.07 | J9: 31714.14 | K9: 31070 | L9: =K9-J9 -> -644.14 | M9: =L9/J9 -> -0.020310814
A10: B-C-D-E | B10: Winning van delfstoffen, Industrie, Productie en distributie van elektriciteit, gas, stoom, gekoelde lucht en water, Afvalbeheer | D10: 32827 | E10: 32817 | F10: 32360 | G10: =F10-E10 -> -457 | H10: =G10/E10 -> -0.013925709 | I10: 28288.03 | J10: 27831.53 | K10: 27250 | L10: =K10-J10 -> -581.53 | M10: =L10/J10 -> -0.020894647
A11: F | B11: Bouwnijverheid | C11: Mannen | D11: 5377 | E11: 4918 | F11: 4910 | G11: =F11-E11 -> -8 | H11: =G11/E11 -> -0.0016266775 | I11: 4347.04 | J11: 3882.61 | K11: 3820 | L11: =K11-J11 -> -62.61 | M11: =L11/J11 -> -0.01612575
A12: Commerciële Dienstverlening | C12: Vrouwen | D12: 58779 | E12: 59006 | F12: 55800 | G12: =F12-E12 -> -3206 | H12: =G12/E12 -> -0.054333458 | I12: 44505.76 | J12: 44333.81 | K12: 40900 | L12: =K12-J12 -> -3433.81 | M12: =L12/J12 -> -0.077453528
A13: G-H-I | B13: Handel, vervoer en opslag, Verschaffen van accommodatie en maaltijden | C13: Totaal | D13: 42814 | E13: 43572 | F13: 40750 | G13: =F13-E13 -> -2822 | H13: =G13/E13 -> -0.064766364 | I13: 32905.39 | J13: 33377.77 | K13: 30720 | L13: =K13-J13 -> -2657.77 | M13: =L13/J13 -> -0.079626949
A14: J-K | B14: Informatie en communicatie | C14: Mannen | D14: 1588 | E14: 1624 | F14: 1400 | G14: =F14-E14 -> -224 | H14: =G14/E14 -> -0.13793103 | I14: 1221.22 | J14: 1178.64 | K14: 980 | L14: =K14-J14 -> -198.64 | M14: =L14/J14 -> -0.16853322
A15: L | B15: Financiële activiteiten en verzekeringen | C15: Totaal | D15: 821 | E15: 672 | F15: 630 | G15: =F15-E15 -> -42 | H15: =G15/E15 -> -0.0625 | I15: 735.44 | J15: 569.53 | K15: 550 | L15: =K15-J15 -> -19.53 | M15: =L15/J15 -> -0.034291433
A16: M | B16: Exploitatie van en handel in onroerend goed | C16: Mannen | D16: 323 | E16: 304 | F16: 290 | G16: =F16-E16 -> -14 | H16: =G16/E16 -> -0.046052632 | I16: 228.37 | J16: 200.49 | K16: 180 | L16: =K16-J16 -> -20.49 | M16: =L16/J16 -> -0.10219961
A17: N-O | B17: Administratieve, ondersteunende en gespecialiseerde diensten | D17: 13233 | E17: 12834 | F17: 12730 | G17: =F17-E17 -> -104 | H17: =G17/E17 -> -0.0081034751 | I17: 9415.34 | J17: 9007.38 | K17: 8470 | L17: =K17-J17 -> -537.38 | M17: =L17/J17 -> -0.059659968
A18: Niet-Commerciële Dienstverlening | C18: Vrouwen | D18: 8698 | E18: 8617 | F18: 7790 | G18: =F18-E18 -> -827 | H18: =G18/E18 -> -0.095973076 | I18: 4965.38 | J18: 4856.48 | K18: 4360 | L18: =K18-J18 -> -496.48 | M18: =L18/J18 -> -0.10223042
A19: P-Q | B19: Openbaar bestuur en Onderwijs | C19: Totaal | D19: 1433 | E19: 1509 | F19: 1230 | G19: =F19-E19 -> -279 | H19: =G19/E19 -> -0.18489066 | I19: 757.69 | J19: 777.08 | K19: 650 | L19: =K19-J19 -> -127.08 | M19: =L19/J19 -> -0.16353529
A20: R | B20: Menselijke gezondheidszorg en maatschappelijke dienstverlening | C20: Mannen | D20: 3131 | E20: 2946 | F20: 2460 | G20: =F20-E20 -> -486 | H20: =G20/E20 -> -0.16496945 | I20: 1725.71 | J20: 1610.58 | K20: 1440 | L20: =K20-J20 -> -170.58 | M20: =L20/J20 -> -0.10591216
A21: S-T-U-V | B21: Kunst amusement en recreatie, Overige diensten, diversen | C21: Vrouwen | D21: 4134 | E21: 4162 | F21: 4100 | G21: =F21-E21 -> -62 | H21: =G21/E21 -> -0.014896684 | I21: 2481.98 | J21: 2468.82 | K21: 2270 | L21: =K21-J21 -> -198.82 | M21: =L21/J21 -> -0.0805324
A22: Onbekend (1) | C22: Vrouwen | D22: 1337 | E22: 1451 | F22: 1360 | G22: =F22-E22 -> -91 | H22: =G22/E22 -> -0.062715369 | I22: 732.65 | J22: 798.29 | K22: 730 | L22: =K22-J22 -> -68.29 | M22: =L22/J22 -> -0.085545353
A24: Totaal | D24: =SUM(D18,D12,D9,D8,D22) -> 107508 | E24: =SUM(E18,E12,E9,E8,E22) -> 107308 | F24: =SUM(F18,F12,F9,F8,F22) -> 102770 | G24: =F24-E24 -> -4538 | H24: =G24/E24 -> -0.042289484 | I24: =SUM(I18,I12,I9,I8,I22) -> 83154.21 | J24: =SUM(J18,J12,J9,J8,J22) -> 82041.69 | K24: =SUM(K18,K12,K9,K8,K22) -> 77450 | L24: =SUM(L18,L12,L9,L8,L22) -> -4591.69 | M24: =L24/J24 -> -0.055967765
A27: (1) De activiteit van de gebruikende onderneming wordt bepaald op basis van de Nace-code gekend in het RSZ-werkgeversrepertorium.
A28: Indien niet gekend als werkgever, worden de Nace-codes beschikbaar in KBO gebruikt.
A29: Indien ook in KBO niet gekend, dan worden de gegevens opgenomen in de klasse onbekend.
A31: retour vers liste des tableaux
A33: Tableau 8 | E33: Travail intérimaire classique par activité de l'utilisateur
A35: Activité (1) (NACE-Bel 2025) Entreprise Utilisatrice | E35: Nombre de postes de travail | J35: Volume de travail en équivalents temps plein
D36: Nombre 2024Q1 | E36: Nombre 2025Q1 | F36: Estimation 2026Q1 | G36: Différence Année-1 | I36: Nombre 2024Q1 | J36: Nombre 2025Q1 | K36: Estimation 2026Q1 | L36: Différence Année-1
D37: Nombre x1.000 | E37: Nombre x1.000 | F37: Nombre x1.000 | G37: nombre x1.000 | H37: en % | I37: Nombre x1.000 | J37: Nombre x1.000 | K37: Nombre x1.000 | L37: nombre x1.000 | M37: en %
A38: Agriculture, chasse, sylviculture et pêche | D38: 490 | E38: 499 | F38: 550 | G38: =F38-E38 -> 51 | H38: =G38/E38 -> 0.10220441 | I38: 315.35 | J38: 338.97 | K38: 390 | L38: =K38-J38 -> 51.03 | M38: =L38/J38 -> 0.1505443
A39: Industries, énergie et construction | D39: 38204 | E39: 37735 | F39: 37270 | G39: =F39-E39 -> -465 | H39: =G39/E39 -> -0.012322777 | I39: 32635.07 | J39: 31714.14 | K39: 31070 | L39: =K39-J39 -> -644.14 | M39: =L39/J39 -> -0.020310814
A40: B-C-D-E | B40: Industries, production et distribution d'électricité, de gaz et d'eau, gestion des déchets | D40: 32827 | E40: 32817 | F40: 32360 | G40: =F40-E40 -> -457 | H40: =G40/E40 -> -0.013925709 | I40: 28288.03 | J40: 27831.53 | K40: 27250 | L40: =K40-J40 -> -581.53 | M40: =L40/J40 -> -0.020894647
A41: F | B41: Construction | D41: 5377 | E41: 4918 | F41: 4910 | G41: =F41-E41 -> -8 | H41: =G41/E41 -> -0.0016266775 | I41: 4347.04 | J41: 3882.61 | K41: 3820 | L41: =K41-J41 -> -62.61 | M41: =L41/J41 -> -0.01612575
A42: Services commerciaux | C42: Vrouwen | D42: 58779 | E42: 59006 | F42: 55800 | G42: =F42-E42 -> -3206 | H42: =G42/E42 -> -0.054333458 | I42: 44505.76 | J42: 44333.81 | K42: 40900 | L42: =K42-J42 -> -3433.81 | M42: =L42/J42 -> -0.077453528
A43: G-H-I | B43: Commerce, transports et entreposage, Hébergement et restauration | C43: Totaal | D43: 42814 | E43: 43572 | F43: 40750 | G43: =F43-E43 -> -2822 | H43: =G43/E43 -> -0.064766364 | I43: 32905.39 | J43: 33377.77 | K43: 30720 | L43: =K43-J43 -> -2657.77 | M43: =L43/J43 -> -0.079626949
A44: J-K | B44: Information et communication | C44: Mannen | D44: 1588 | E44: 1624 | F44: 1400 | G44: =F44-E44 -> -224 | H44: =G44/E44 -> -0.13793103 | I44: 1221.22 | J44: 1178.64 | K44: 980 | L44: =K44-J44 -> -198.64 | M44: =L44/J44 -> -0.16853322
A45: L | B45: Activités financières et assurances | C45: Vrouwen | D45: 821 | E45: 672 | F45: 630 | G45: =F45-E45 -> -42 | H45: =G45/E45 -> -0.0625 | I45: 735.44 | J45: 569.53 | K45: 550 | L45: =K45-J45 -> -19.53 | M45: =L45/J45 -> -0.034291433
A46: M | B46: Activités immobilières | C46: Totaal | D46: 323 | E46: 304 | F46: 290 | G46: =F46-E46 -> -14 | H46: =G46/E46 -> -0.046052632 | I46: 228.37 | J46: 200.49 | K46: 180 | L46: =K46-J46 -> -20.49 | M46: =L46/J46 -> -0.10219961
A47: N-O | B47: Activités de services administratifs, de soutien et spécialisés | C47: Mannen | D47: 13233 | E47: 12834 | F47: 12730 | G47: =F47-E47 -> -104 | H47: =G47/E47 -> -0.0081034751 | I47: 9415.34 | J47: 9007.38 | K47: 8470 | L47: =K47-J47 -> -537.38 | M47: =L47/J47 -> -0.059659968
A48: Services non-commerciaux | C48: Vrouwen | D48: 8698 | E48: 8617 | F48: 7790 | G48: =F48-E48 -> -827 | H48: =G48/E48 -> -0.095973076 | I48: 4965.38 | J48: 4856.48 | K48: 4360 | L48: =K48-J48 -> -496.48 | M48: =L48/J48 -> -0.10223042
A49: P-Q | B49: Administration publique et enseignement | C49: Totaal | D49: 1433 | E49: 1509 | F49: 1230 | G49: =F49-E49 -> -279 | H49: =G49/E49 -> -0.18489066 | I49: 757.69 | J49: 777.08 | K49: 650 | L49: =K49-J49 -> -127.08 | M49: =L49/J49 -> -0.16353529
A50: R | B50: Santé humaine et action sociale | C50: Mannen | D50: 3131 | E50: 2946 | F50: 2460 | G50: =F50-E50 -> -486 | H50: =G50/E50 -> -0.16496945 | I50: 1725.71 | J50: 1610.58 | K50: 1440 | L50: =K50-J50 -> -170.58 | M50: =L50/J50 -> -0.10591216
A51: S-T-U-V | B51: Arts, spectacles et activités récréatives, Autres services, divers | C51: Vrouwen | D51: 4134 | E51: 4162 | F51: 4100 | G51: =F51-E51 -> -62 | H51: =G51/E51 -> -0.014896684 | I51: 2481.98 | J51: 2468.82 | K51: 2270 | L51: =K51-J51 -> -198.82 | M51: =L51/J51 -> -0.0805324
A52: Inconnu (1) | D52: 1337 | E52: 1451 | F52: 1360 | G52: =F52-E52 -> -91 | H52: =G52/E52 -> -0.062715369 | I52: 732.65 | J52: 798.29 | K52: 730 | L52: =K52-J52 -> -68.29 | M52: =L52/J52 -> -0.085545353
A54: Total | D54: =SUM(D48,D42,D39,D38,D52) -> 107508 | E54: =SUM(E48,E42,E39,E38,E52) -> 107308 | F54: =SUM(F48,F42,F39,F38,F52) -> 102770 | G54: =SUM(G48,G42,G39,G38,G52) -> -4538 | H54: =G54/E54 -> -0.042289484 | I54: =SUM(I48,I42,I39,I38,I52) -> 83154.21 | J54: =SUM(J48,J42,J39,J38,J52) -> 82041.69 | K54: =SUM(K48,K42,K39,K38,K52) -> 77450 | L54: =SUM(L48,L42,L39,L38,L52) -> -4591.69 | M54: =L54/J54 -> -0.055967765
A57: (1) L'activité de l'entreprise utilisatrice est d'abord détérminée sur base du code Nace reprise dans le répertoire d'employeurs ONSS.
A58: Si l'entreprise n'est pas connue comme employeur, les codes Nace disponible en BCE sont utilisés.
A59: Si l'utilisateur n'est pas connu en BCE, ces données sont reprises dans la classe "Inconnu".

Sheet Tabel 9 bijz uitzend
A1: Terug lijst van de tabellen
A3: Tabel 9 | D3: Bijzondere uitzendarbeid naar activiteit van de gebruiker
A5: Activiteit (NACE-Bel 2025) (1) Gebruikende onderneming | D5: Aantal arbeidsplaatsen | I5: Arbeidsvolume in voltijdsequivalenten
C6: Aantal op 2024K1 | D6: Aantal op 2025K1 | E6: Raming op 2026K1 | F6: Verschil Jaar-1 | I6: Aantal op 2025K1 | J6: Raming op 2026K1 | K6: Verschil Jaar-1
C7: Aantal x1.000 | D7: Aantal x1.000 | E7: Aantal x1.000 | F7: Aantal x1.000 | G7: in % | I7: Aantal x1.000 | J7: Aantal x1.000 | K7: vte x1.000 | L7: in %
A8: Landbouw, bosbouw en visserij | C8: 440 | D8: 409 | E8: 450 | F8: =E8-D8 -> 41 | G8: =F8/D8 -> 0.1002445 | H8: 236.7 | I8: 240.95 | J8: 250 | K8: =J8-I8 -> 9.05 | L8: =K8/I8 -> 0.03755966
A9: Industrie, Energie en Bouw | C9: 1664 | D9: 2137 | E9: 2630 | F9: =E9-D9 -> 493 | G9: =F9/D9 -> 0.23069724 | H9: 344.71 | I9: 573.52 | J9: 730 | K9: =J9-I9 -> 156.48 | L9: =K9/I9 -> 0.2728414
A10: Commerciële Dienstverlening | B10: Vrouwen | C10: 19760 | D10: 21893 | E10: 26290 | F10: =E10-D10 -> 4397 | G10: =F10/D10 -> 0.20084045 | H10: 4677.35 | I10: 5919.83 | J10: 6990 | K10: =J10-I10 -> 1070.17 | L10: =K10/I10 -> 0.18077715
A11: Niet-Commerciële Dienstverlening | B11: Vrouwen | C11: 2115 | D11: 2670 | E11: 3220 | F11: =E11-D11 -> 550 | G11: =F11/D11 -> 0.20599251 | H11: 512.47 | I11: 654.98 | J11: 760 | K11: =J11-I11 -> 105.02 | L11: =K11/I11 -> 0.16034077
A12: Onbekend (1) | B12: Vrouwen | C12: 87 | D12: 112 | E12: 190 | F12: =E12-D12 -> 78 | G12: =F12/D12 -> 0.69642857 | H12: 69.63 | I12: 66.9 | J12: 80 | K12: =J12-I12 -> 13.1 | L12: =K12/I12 -> 0.19581465
A13: Totaal | C13: =SUM(C11,C10,C9,C8,C12) -> 24066 | D13: =SUM(D11,D10,D9,D8,D12) -> 27221 | E13: =SUM(E11,E10,E9,E8,E12) -> 32780 | F13: =SUM(F11,F10,F9,F8,F12) -> 5559 | G13: =F13/D13 -> 0.20421733 | H13: =SUM(H11,H10,H9,H8,H12) -> 5840.86 | I13: =SUM(I11,I10,I9,I8,I12) -> 7456.18 | J13: =SUM(J11,J10,J9,J8,J12) -> 8810 | K13: =SUM(K11,K10,K9,K8,K12) -> 1353.82 | L13: =K13/I13 -> 0.18157019
A15: (1) De activiteit van de gebruikende onderneming wordt bepaald op basis van de Nace-code gekend in het RSZ-werkgeversrepertorium.
A16: Indien niet gekend als werkgever, worden de Nace-codes beschikbaar in KBO gebruikt.
A17: Indien ook in KBO niet gekend, dan worden de gegevens opgenomen in de klasse onbekend.
A19: Tableau 9 | D19: Travail intérim 'particulier' par activité (NACE) de l'utilisateur
A21: Activité (1) (NACE-Bel 2025) Entreprise Utilisatrice | D21: Nombre de postes de travail | I21: Volume de travail en équivalents temps plein
D22: Nombre 2025Q1 | E22: Estimation 2026Q1 | F22: Différence Année-1 | I22: Nombre 2025Q1 | J22: Estimation 2026Q1 | K22: Différence Année-1
D23: Nombre x1.000 | E23: Nombre x1.000 | F23: nombre x1.000 | G23: en % | I23: Nombre x1.000 | J23: Nombre x1.000 | K23: nombre x1.000 | L23: en %
A24: Agriculture, chasse, sylviculture et pêche | C24: 440 | D24: 409 | E24: 450 | F24: =E24-D24 -> 41 | G24: =F24/D24 -> 0.1002445 | H24: 236.7 | I24: 240.95 | J24: 250 | K24: =J24-I24 -> 9.05 | L24: =K24/I24 -> 0.03755966
A25: Industries, énergie et construction | C25: 1664 | D25: 2137 | E25: 2630 | F25: =E25-D25 -> 493 | G25: =F25/D25 -> 0.23069724 | H25: 344.71 | I25: 573.52 | J25: 730 | K25: =J25-I25 -> 156.48 | L25: =K25/I25 -> 0.2728414
A26: Services commerciaux | B26: Vrouwen | C26: 19760 | D26: 21893 | E26: 26290 | F26: =E26-D26 -> 4397 | G26: =F26/D26 -> 0.20084045 | H26: 4677.35 | I26: 5919.83 | J26: 6990 | K26: =J26-I26 -> 1070.17 | L26: =K26/I26 -> 0.18077715
A27: Services non-commerciaux | B27: Vrouwen | C27: 2115 | D27: 2670 | E27: 3220 | F27: =E27-D27 -> 550 | G27: =F27/D27 -> 0.20599251 | H27: 512.47 | I27: 654.98 | J27: 760 | K27: =J27-I27 -> 105.02 | L27: =K27/I27 -> 0.16034077
A28: Inconnu (1) | B28: Vrouwen | C28: 87 | D28: 112 | E28: 190 | F28: =E28-D28 -> 78 | G28: =F28/D28 -> 0.69642857 | H28: 69.63 | I28: 66.9 | J28: 80 | K28: =J28-I28 -> 13.1 | L28: =K28/I28 -> 0.19581465
A29: Total | C29: =SUM(C27,C26,C25,C24,C28) -> 24066 | D29: =SUM(D27,D26,D25,D24,D28) -> 27221 | E29: =SUM(E27,E26,E25,E24,E28) -> 32780 | F29: =SUM(F27,F26,F25,F24,F28) -> 5559 | G29: =F29/D29 -> 0.20421733 | H29: =SUM(H27,H26,H25,H24,H28) -> 5840.86 | I29: =SUM(I27,I26,I25,I24,I28) -> 7456.18 | J29: =SUM(J27,J26,J25,J24,J28) -> 8810 | K29: =SUM(K27,K26,K25,K24,K28) -> 1353.82 | L29: =K29/I29 -> 0.18157019
A31: (1) L'activité de l'entreprise utilisatrice est d'abord détérminée sur base du code Nace reprise dans le répertoire d'employeurs ONSS.
A32: Si l'entreprise n'est pas connue comme employeur, les codes Nace disponible en BCE sont utilisés.
A33: Si l'utilisateur n'est pas connu en BCE, ces données sont reprises dans la classe "Inconnu".
